BEGIN:VCALENDAR
VERSION:2.0
PRODID:openmensa.org
CALSCALE:GREGORIAN
METHOD:PUBLISH
URL;VALUE=URI:https://openmensa.org/ical/95/aachen-mensa-ahorn.ics
BEGIN:VEVENT
DTSTAMP:20260424T021845Z
UID:1680375
DTSTART;VALUE=DATE:20260424
DTEND;VALUE=DATE:20260424
DESCRIPTION:Vegetarisch:\n- Karibische Linsen | Buntes Gemüse\, Ananas (2\
 ,50 €\, 4\,00 €)\n  * Sellerie\n  * vegan\n  * OLV\n\nKlassiker:\n- Ju
 mbo Seelachssticks | Schnittlauchdip (3\,30 €\, 4\,80 €)\n  * Gluten\n
   * Weizen\n  * Fische\n  * Milch\n\nTellergericht:\n- Germknödel | Vanil
 lesauce (2\,00 €\, 3\,50 €)\n  * Gluten\n  * Weizen\n  * Eier\n  * Mil
 ch\n  * OLV\n\nHauptbeilagen:\n- gebackene Kartoffeln oder Kräuterreis\n\
 nNebenbeilage:\n- Buntes Gemüse oder Mischsalat\n\n
SUMMARY:Aachen\, Mensa Ahorn
END:VEVENT
BEGIN:VEVENT
DTSTAMP:20260424T021845Z
UID:1685035
DTSTART;VALUE=DATE:20260427
DTEND;VALUE=DATE:20260427
DESCRIPTION:Tellergericht:\n- Bauerntopf | Mettwurst (2\,60 €\, 4\,10 €
 )\n  * Farbstoff\n  * Konservierungsstoff\n  * Antioxidationsmittel\n  * P
 hosphat\n  * Sellerie\n\nTellergericht vegetarisch:\n- Bauerntopf  (1\,90 
 €\, 3\,40 €)\n  * Sellerie\n  * vegan\n  * OLV\n\nVegetarisch:\n- Grü
 ne Tortellini mit Sonnenblumenkernen | Röstknoblauchvelouté | Radicchio 
 (2\,50 €\, 4\,00 €)\n  * Gluten\n  * Weizen\n  * Sellerie\n  * Sojaboh
 nen\n  * vegan\n  * OLV\n\nKlassiker:\n- Geflügelhackbällchen | Mediterr
 ane Paprika-Zucchini-Sauce (3\,30 €\, 4\,80 €)\n  * geschwärzt\n  * G
 luten\n  * Weizen\n  * Sellerie\n  * Eier\n  * Senf\n\nHauptbeilagen:\n- K
 artoffeln oder Zartweizen\n  * Gluten\n  * Weizen\n\nNebenbeilage:\n- Brec
 hbohnen oder Mischsalat\n\n
SUMMARY:Aachen\, Mensa Ahorn
END:VEVENT
BEGIN:VEVENT
DTSTAMP:20260424T021845Z
UID:1685036
DTSTART;VALUE=DATE:20260428
DTEND;VALUE=DATE:20260428
DESCRIPTION:Tellergericht vegetarisch:\n- Kürbis-Erbsen-Eintopf mit Curry 
 | Fladenbrot (1\,90 €\, 3\,40 €)\n  * Konservierungsstoff\n  * Gluten\
 n  * Weizen\n  * Sellerie\n  * Sesamsamen\n  * scharf\n  * vegan\n  * OLV\
 n\nVegetarisch:\n- Chili sin Carne Reis (2\,50 €\, 4\,00 €)\n  * Sojab
 ohnen\n  * vegan\n  * OLV\n\nKlassiker:\n- Schweineschnitzel | Jägersauce
  mit Speck (3\,30 €\, 4\,80 €)\n  * Konservierungsstoff\n  * Antioxida
 tionsmittel\n  * Gluten\n  * Weizen\n  * Eier\n\nHauptbeilagen:\n- Pommes 
 Frites oder Reis\n\nNebenbeilage:\n- Leipziger Allerlei oder Mischsalat\n\
 n
SUMMARY:Aachen\, Mensa Ahorn
END:VEVENT
BEGIN:VEVENT
DTSTAMP:20260424T021845Z
UID:1685037
DTSTART;VALUE=DATE:20260429
DTEND;VALUE=DATE:20260429
DESCRIPTION:Tellergericht vegetarisch:\n- Thai Gemüsetopf | Kokosmilch | R
 eis (1\,90 €\, 3\,40 €)\n  * Konservierungsstoff\n  * Sojabohnen\n  * 
 Senf\n  * vegan\n  * OLV\n\nVegetarisch:\n- Riesenrösti | Champignoncreme
 sauce (2\,50 €\, 4\,00 €)\n  * Sojabohnen\n  * vegan\n  * OLV\n\nKlass
 iker:\n- Cevapcici | Tzatziki (3\,30 €\, 4\,80 €)\n  * Gluten\n  * Wei
 zen\n  * Eier\n  * Milch\n  * Senf\n\nHauptbeilagen:\n- Kräuter Kartoffel
 n oder Djuvecreis\n  * Sellerie\n\nNebenbeilage:\n- Kaisergemüse oder Mis
 chsalat\n\n
SUMMARY:Aachen\, Mensa Ahorn
END:VEVENT
BEGIN:VEVENT
DTSTAMP:20260424T021845Z
UID:1685038
DTSTART;VALUE=DATE:20260430
DTEND;VALUE=DATE:20260430
DESCRIPTION:Tellergericht:\n- Möhreneintopf mit Geflügelfrikadelle (2\,60
  €\, 4\,10 €)\n  * Gluten\n  * Weizen\n  * Gerste\n  * Sellerie\n  * E
 ier\n  * Milch\n  * Senf\n  * Schwefeldioxid oder Sulfite\n\nTellergericht
  vegetarisch:\n- Möhreneintopf (1\,90 €\, 3\,40 €)\n  * Milch\n  * OL
 V\n\nVegetarisch:\n- Griechischer Gemüseauflauf Briam (2\,50 €\, 4\,00 
 €)\n  * geschwärzt\n  * vegan\n  * OLV\n\nKlassiker:\n- Veganes Sojasch
 nitzel | Senfsauce (3\,30 €\, 4\,80 €)\n  * Gluten\n  * Weizen\n  * So
 jabohnen\n  * Senf\n  * vegan\n  * OLV\n\nHauptbeilagen:\n- Pommes Frites 
 oder Penne Rigate\n  * Gluten\n  * Weizen\n\nNebenbeilage:\n- Pariser Karo
 tten oder Mischsalat\n\n
SUMMARY:Aachen\, Mensa Ahorn
END:VEVENT
END:VCALENDAR
