BEGIN:VCALENDAR
VERSION:2.0
PRODID:openmensa.org
CALSCALE:GREGORIAN
METHOD:PUBLISH
URL;VALUE=URI:https://openmensa.org/ical/828/mensa-htw-saar-alt-saarbruecke
 n.ics
BEGIN:VEVENT
DTSTAMP:20260424T023344Z
UID:1681697
DTSTART;VALUE=DATE:20260424
DTEND;VALUE=DATE:20260424
DESCRIPTION:Menü 1:\n- Paniertes Seelachsfilet (3\,60 €\, 6\,70 €\, 9\
 ,35 €)\n  * verfügbar von 11:00 bis 14:15 Uhr\n  * dazu mit einer Duo-S
 enfsoße (enthält Milch und Laktose und Senf\, mit Konservierungsstoff)\n
   * dazu und Salzkartoffeln -Rettet die Knolle\n  * dazu Blattsalat\n  * d
 azu Joghurtdressing (enthält Milch und Laktose\, Senf und Weizen\, mit Fa
 rbstoff und Geschmacksverstärker)\n  * dazu Kräuterdressing (geschwefelt
 \, enthält Senf und Schwefeldioxid / Sulfite\, mit Knoblauch)\n  * dazu T
 agesdessert\n  * enthält Fisch\n  * enthält Weizen\n  * mit Fisch aus na
 chhaltigem Fang\n\nMenü 2:\n- KlimaTeller: Vegan: Punjabi Rajma (Indische
 s Gericht) (3\,10 €\, 5\,60 €\, 7\,80 €)\n  * verfügbar von 11:00 b
 is 14:15 Uhr\n  * dazu mit Langkornreis (Aus biologischem Anbau)\n  * dazu
  Blattsalat\n  * dazu Joghurtdressing (enthält Milch und Laktose\, Senf u
 nd Weizen\, mit Farbstoff und Geschmacksverstärker)\n  * dazu Kräuterdre
 ssing (geschwefelt\, enthält Senf und Schwefeldioxid / Sulfite\, mit Knob
 lauch)\n  * dazu Obst\n  * enthält Weizen\n  * mit Knoblauch\n\nWahlessen
 :\n- Tagesaktuell\n  * verfügbar von 11:00 bis 14:15 Uhr\n- Flammkuchen G
 riechische Art mit Fetakäse\, Peperoni\, Mais\n  * verfügbar von 11:00 b
 is 14:15 Uhr\n  * enthält Milch und Laktose\n  * enthält Weizen\n\n
SUMMARY:Mensa HTW Saar Alt-Saarbrücken
END:VEVENT
BEGIN:VEVENT
DTSTAMP:20260424T023344Z
UID:1685603
DTSTART;VALUE=DATE:20260427
DTEND;VALUE=DATE:20260427
DESCRIPTION:Menü 1:\n- Pasta Spaghetti (aus biologischem Anbau) (3\,60 €
 \, 6\,70 €\, 9\,35 €)\n  * verfügbar von 11:00 bis 14:15 Uhr\n  * daz
 u Tomatensoße Arrabiata mit Schinkenstreifen von der Pute (mit Konservier
 ungsstoff\, Geflügel und Knoblauch)\n  * dazu Blattsalat\n  * dazu Joghur
 tdressing (enthält Milch und Laktose\, Senf und Weizen\, mit Farbstoff un
 d Geschmacksverstärker)\n  * dazu Kräuterdressing (geschwefelt\, enthäl
 t Senf und Schwefeldioxid / Sulfite\, mit Knoblauch)\n  * dazu Tagesdesser
 t\n  * enthält Weizen\n\nMenü 2:\n- Kartoffelwürfel in Currycreme mit B
 roccoli und Romanesco -Rettet die Knolle (3\,10 €\, 5\,60 €\, 7\,80 
 €)\n  * verfügbar von 11:00 bis 14:15 Uhr\n  * dazu Blattsalat\n  * daz
 u Joghurtdressing (enthält Milch und Laktose\, Senf und Weizen\, mit Farb
 stoff und Geschmacksverstärker)\n  * dazu Kräuterdressing (geschwefelt\,
  enthält Senf und Schwefeldioxid / Sulfite\, mit Knoblauch)\n  * dazu Obs
 t\n  * enthält Milch und Laktose\n  * enthält Sellerie\n  * enthält Sen
 f\n  * enthält Weizen\n\nWahlessen:\n- Tagesaktuell\n  * verfügbar von 1
 1:00 bis 14:15 Uhr\n- KlimaTeller: Vegan: Kräuter-Gnocchi-Pfanne mit Broc
 coli und Pilzen\n  * verfügbar von 11:00 bis 14:15 Uhr\n  * dazu mit Toma
 tensugo (mit Konservierungsstoff und Knoblauch)\n  * enthält Weizen\n  * 
 mit Knoblauch\n\n
SUMMARY:Mensa HTW Saar Alt-Saarbrücken
END:VEVENT
BEGIN:VEVENT
DTSTAMP:20260424T023344Z
UID:1685604
DTSTART;VALUE=DATE:20260428
DTEND;VALUE=DATE:20260428
DESCRIPTION:Menü 1:\n- Crispy Chickenbratling leicht pikant (3\,60 €\, 6
 \,70 €\, 9\,35 €)\n  * verfügbar von 11:00 bis 14:15 Uhr\n  * dazu mi
 t asiatischer Soße (enthält Soja und Weizen\, mit Konservierungsstoff)\n
   * dazu und chinsesischer Nudelpfanne (enthält Soja\, Sesamsamen und Wei
 zen)\n  * dazu Blattsalat\n  * dazu Joghurtdressing (enthält Milch und La
 ktose\, Senf und Weizen\, mit Farbstoff und Geschmacksverstärker)\n  * da
 zu Kräuterdressing (geschwefelt\, enthält Senf und Schwefeldioxid / Sulf
 ite\, mit Knoblauch)\n  * dazu Tagesdessert\n  * enthält Weizen\n  * enth
 ält Gerste\n  * mit aus zum Teil fein zerkleinertem Fleisch\n\nMenü 2:\n
 - Vegan: Basmatireis (aus biologischem Anbau) (3\,10 €\, 5\,60 €\, 7\,
 80 €)\n  * verfügbar von 11:00 bis 14:15 Uhr\n  * dazu mit Red-Curryso
 ße\n  * dazu zweierlei Karotten und Kokosflocken (enthält Soja\, Selleri
 e\, Senf\, Sesamsamen und Weizen)\n  * dazu Blattsalat\n  * dazu Joghurtdr
 essing (enthält Milch und Laktose\, Senf und Weizen\, mit Farbstoff und G
 eschmacksverstärker)\n  * dazu Kräuterdressing (geschwefelt\, enthält S
 enf und Schwefeldioxid / Sulfite\, mit Knoblauch)\n  * dazu Obst\n  * vega
 n\n\nWahlessen:\n- Tagesaktuell\n  * verfügbar von 11:00 bis 14:15 Uhr\n-
  Schweizer Wurstsalat\n  * verfügbar von 11:00 bis 14:15 Uhr\n  * enthäl
 t Milch und Laktose\n  * enthält Senf\n  * enthält Weizen\n  * mit Konse
 rvierungsstoff\n  * mit Antioxidationsmittel\n  * mit Geschmacksverstärke
 r\n  * mit Schweinefleisch\n  * dazu mit Bratkartoffeln -Rettet die Knolle
 \n\n
SUMMARY:Mensa HTW Saar Alt-Saarbrücken
END:VEVENT
BEGIN:VEVENT
DTSTAMP:20260424T023344Z
UID:1685605
DTSTART;VALUE=DATE:20260429
DTEND;VALUE=DATE:20260429
DESCRIPTION:Menü 1:\n- Würzige Hackfleisch-Kichererbsenpfanne (3\,60 €\
 , 6\,70 €\, 9\,35 €)\n  * verfügbar von 11:00 bis 14:15 Uhr\n  * dazu
  mit Bulgur (enthält Weizen)\n  * dazu Blattsalat\n  * dazu Joghurtdressi
 ng (enthält Milch und Laktose\, Senf und Weizen\, mit Farbstoff und Gesch
 macksverstärker)\n  * dazu Kräuterdressing (geschwefelt\, enthält Senf 
 und Schwefeldioxid / Sulfite\, mit Knoblauch)\n  * dazu Tagesdessert\n  * 
 enthält Soja\n  * enthält Sellerie\n  * enthält Weizen\n  * mit Konserv
 ierungsstoff\n\nMenü 2:\n- KlimaTeller: Vegan: Pasta Penne mir frischen K
 räutern (aus biologischem Anbau) (3\,10 €\, 5\,60 €\, 7\,80 €)\n  *
  verfügbar von 11:00 bis 14:15 Uhr\n  * dazu dazu Zucchini-Tomatentopf mi
 t Sonnenblumenkernen (mit Konservierungsstoff und Knoblauch)\n  * dazu Bla
 ttsalat\n  * dazu Joghurtdressing (enthält Milch und Laktose\, Senf und W
 eizen\, mit Farbstoff und Geschmacksverstärker)\n  * dazu Kräuterdressin
 g (geschwefelt\, enthält Senf und Schwefeldioxid / Sulfite\, mit Knoblauc
 h)\n  * dazu Obst\n  * enthält Weizen\n\nWahlessen:\n- Tagesaktuell\n  * 
 verfügbar von 11:00 bis 14:15 Uhr\n- Paniertes Filet vom Seelachs\n  * ve
 rfügbar von 11:00 bis 14:15 Uhr\n  * dazu mit einer Wasabi-Sesam-Creme (e
 nthält Milch und Laktose\, Senf\, Sesamsamen und Weizen\, mit Farbstoff)\
 n  * dazu dazu Falsche Bratkartoffeln Low Carb aus Kohlrabi\n  * enthält 
 Fisch\n  * enthält Weizen\n  * mit Fisch aus nachhaltigem Fang\n\n
SUMMARY:Mensa HTW Saar Alt-Saarbrücken
END:VEVENT
BEGIN:VEVENT
DTSTAMP:20260424T023344Z
UID:1685606
DTSTART;VALUE=DATE:20260430
DTEND;VALUE=DATE:20260430
DESCRIPTION:Menü 1:\n- Bratwurst vom Rind (3\,60 €\, 6\,70 €\, 9\,35 
 €)\n  * verfügbar von 11:00 bis 14:15 Uhr\n  * dazu mit mildem Chili Di
 p (enthält Ei\, Senf und Weizen\, mit Konservierungsstoff\, Süßungsmitt
 el und Knoblauch)\n  * dazu Blattsalat\n  * dazu Joghurtdressing (enthält
  Milch und Laktose\, Senf und Weizen\, mit Farbstoff und Geschmacksverstä
 rker)\n  * dazu Kräuterdressing (geschwefelt\, enthält Senf und Schwefel
 dioxid / Sulfite\, mit Knoblauch)\n  * dazu Tagesdessert\n  * mit Konservi
 erungsstoff\n  * mit Antioxidationsmittel\n  * dazu und Pommes Frites -Ret
 tet die Knolle (mit Backtriebmittel)\n\nMenü 2:\n- Vegan: Indisches Linse
 ncurry (3\,10 €\, 5\,60 €\, 7\,80 €)\n  * verfügbar von 11:00 bis 1
 4:15 Uhr\n  * dazu Cous Cous (aus biologischem Anbau) (enthält Weizen)\n 
  * dazu Blattsalat\n  * dazu Joghurtdressing (enthält Milch und Laktose\,
  Senf und Weizen\, mit Farbstoff und Geschmacksverstärker)\n  * dazu Krä
 uterdressing (geschwefelt\, enthält Senf und Schwefeldioxid / Sulfite\, m
 it Knoblauch)\n  * dazu Obst\n  * vegan\n  * enthält Sellerie\n  * enthä
 lt Senf\n  * mit Knoblauch\n\nWahlessen:\n- Tagesaktuell\n  * verfügbar v
 on 11:00 bis 14:15 Uhr\n- KlimaTeller: Germknödel mit Fruchtfüllung und 
 Mohn\n  * verfügbar von 11:00 bis 14:15 Uhr\n  * dazu dazu lauwarme Vanil
 lesoße (enthält Milch und Laktose)\n  * enthält Ei\n  * enthält Milch 
 und Laktose\n  * enthält Weizen\n\n
SUMMARY:Mensa HTW Saar Alt-Saarbrücken
END:VEVENT
END:VCALENDAR
