BEGIN:VCALENDAR
VERSION:2.0
PRODID:openmensa.org
CALSCALE:GREGORIAN
METHOD:PUBLISH
URL;VALUE=URI:https://openmensa.org/ical/79/dresden-alte-mensa.ics
BEGIN:VEVENT
DTSTAMP:20260424T023213Z
UID:1684992
DTSTART;VALUE=DATE:20260424
DTEND;VALUE=DATE:20260424
DESCRIPTION:fertig 1:\n- Hähnchenbrustfilet mit Broccoli und Käse gefüll
 t (A\, A1\, G)\, dazu Schnittlauch-Quark-Dip (G) und gebackene Kartoffelec
 ken (3\,99 €\, 7\,25 €)\n  * Glutenhaltiges Getreide (A)\n  * Weizen (
 A1)\n  * Milch/Milchzucker (Laktose) (G)\n  * 1.145 g CO₂-Äquivalente\n
 \nfertig 2:\n- Schwarzes Linsenchilli (A\, A1) mit Basmati Reis (3\,19 €
 \, 5\,80 €)\n  * Menü ist vegan\n  * Glutenhaltiges Getreide (A)\n  * W
 eizen (A1)\n  * KlimaTeller\n  * 662 g CO₂-Äquivalente\n\nfertig 3:\n- 
 Hausgemachte Pasta (A\, A1) mit Zucchini und Tomate\, dazu veganer Schmelz
  (2\,35 €\, 4\,90 €)\n  * Menü ist vegan\n  * mit Farbstoff (1)\n  * 
 Glutenhaltiges Getreide (A)\n  * Weizen (A1)\n  * KlimaTeller\n  * 301 g C
 O₂-Äquivalente\n- Hausgemachte Pasta (A\, A1) mit Zucchini und Tomate\,
  dazu geriebener Gouda (G) (2\,35 €\, 4\,90 €)\n  * Menü ist vegetari
 sch\n  * mit Farbstoff (1)\n  * Glutenhaltiges Getreide (A)\n  * Weizen (A
 1)\n  * Milch/Milchzucker (Laktose) (G)\n  * KlimaTeller\n  * 301 g CO₂-
 Äquivalente\n\nAngebot des Tages 2:\n- Besuchen Sie auch unsere Salatthek
 e\, von Rohkost bis angemachter Salat\, hier bekommen Sie alles für einen
  frischen und ausgewogenen Salatteller. (2\,18 €\, 3\,97 €)\n  * Preis
 e beziehen sich auf kleine Schalen\n\nAngebot des Tages 3:\n- Obst satt- F
 it ins neue Sommersemester. Besuchen Sie unsere Selbstentnahmetheke und g
 önnen Sie sich den extra Kick Power. (2\,18 €\, 3\,97 €)\n  * Menü i
 st vegan\n  * Gro&szlig\;er Teller&colon\; 4&comma\;01&euro\;&sol\;7&comma
 \;30&euro\;&sol\;8&comma\;76&euro\;\n\n
SUMMARY:Dresden\, Alte Mensa
END:VEVENT
BEGIN:VEVENT
DTSTAMP:20260424T023213Z
UID:1684993
DTSTART;VALUE=DATE:20260425
DTEND;VALUE=DATE:20260425
DESCRIPTION:
SUMMARY:Dresden\, Alte Mensa
END:VEVENT
BEGIN:VEVENT
DTSTAMP:20260424T023213Z
UID:1684994
DTSTART;VALUE=DATE:20260426
DTEND;VALUE=DATE:20260426
DESCRIPTION:
SUMMARY:Dresden\, Alte Mensa
END:VEVENT
END:VCALENDAR
