BEGIN:VCALENDAR
VERSION:2.0
PRODID:openmensa.org
CALSCALE:GREGORIAN
METHOD:PUBLISH
URL;VALUE=URI:https://openmensa.org/ical/62/mensa-griebnitzsee.ics
BEGIN:VEVENT
DTSTAMP:20260424T020837Z
UID:1680431
DTSTART;VALUE=DATE:20260424
DTEND;VALUE=DATE:20260424
DESCRIPTION:Salattheke:\n- große Schale\nkleine Schale\nRelevo Schale\n100
 g 1\,10 €/  1\,70 €/ 1\,90€ (0\,00 €\, 0\,00 €\, 0\,00 €)\n\nA
 ngebot 1:\n- Sojagulaschtopf mit Paprika\, Kartoffelwürfeln und Limetten-
 Creme (2\,15 €\, 5\,70 €\, 4\,70 €)\n\nAngebot 3:\n- Vollkornpenne m
 it grünem Spargel\, Tomaten\, Sonnenblumenkernen und Basilikum-Mandel-Pes
 to (3\,60 €\, 7\,15 €\, 6\,15 €)\n\nAngebot 4:\n- Köttbullar in Sah
 nesauce mit Preiselbeeren und Kartoffelstampf\, dazu Möhrensalat\n (4\,40
  €\, 7\,95 €\, 6\,95 €)\n\nTagesangebot - Snack:\n- Wrap Caprese mit
  Tomate\, Mozzarella und Rucola (2\,95 €\, 6\,50 €\, 5\,50 €)\n\nDes
 sert 1:\n- Rote Grütze mit Dessertsauce (1\,00 €\, 1\,50 €\, 1\,50 
 €)\n\nDessert 2:\n- Buttermilchdessert Limette mit Mangopüree\n (1\,50 
 €\, 2\,00 €\, 2\,00 €)\n\n
SUMMARY:Mensa Griebnitzsee
END:VEVENT
BEGIN:VEVENT
DTSTAMP:20260424T020837Z
UID:1685084
DTSTART;VALUE=DATE:20260427
DTEND;VALUE=DATE:20260427
DESCRIPTION:Abend Angebot 1:\n- Spaghetti aglio e olio mit Kirschtomaten\, 
 Rucola und gerösteten Sonnenblumenkernen (2\,15 €\, 5\,70 €\, 4\,70 
 €)\n\nAbend Angebot 4:\n- Gebackene Hähnchenbrust mit Rahmchampignons u
 nd Kroketten (4\,40 €\, 7\,95 €\, 6\,95 €)\n\nSalattheke:\n- große 
 Schale\nkleine Schale\nRelevo Schale\n100g 1\,10 €/  1\,70 €/ 1\,90€
  (0\,00 €\, 0\,00 €\, 0\,00 €)\n\nAngebot 1:\n- Spaghetti aglio e ol
 io mit Kirschtomaten\, Rucola und gerösteten Sonnenblumenkernen (2\,15 
 €\, 5\,70 €\, 4\,70 €)\n\nAngebot 3:\n- Brew Bites Chunks in roter C
 urry-Kokos-Sauce mit Gemüse\, Edamame und Basmatireis (3\,60 €\, 7\,15 
 €\, 6\,15 €)\n\nAngebot 4:\n- Gebackene Hähnchenbrust mit Rahmchampig
 nons und Kroketten (4\,40 €\, 7\,95 €\, 6\,95 €)\n\nTagesangebot - S
 nack:\n- Gratiniertes Tomate-Mozzarella-Baguette mit Basilikumpesto (2\,95
  €\, 6\,50 €\, 5\,50 €)\n\nHeiße Theke:\n- Preis pro 100g (0\,65 
 €\, 1\,45 €\, 1\,25 €)\n\nDessert 1:\n- Rote Grütze mit Dessertsauc
 e (1\,00 €\, 1\,50 €\, 1\,50 €)\n\nDessert 2:\n- Vegane Panna Cotta 
 mit Himbeerpüree (1\,50 €\, 2\,00 €\, 2\,00 €)\n\n
SUMMARY:Mensa Griebnitzsee
END:VEVENT
BEGIN:VEVENT
DTSTAMP:20260424T020837Z
UID:1685085
DTSTART;VALUE=DATE:20260428
DTEND;VALUE=DATE:20260428
DESCRIPTION:Abend Angebot 1:\n- Linsen-Dal von Brandenburger Linsen mit Kok
 os\, Spinat\, Minze und Zartweizen (2\,15 €\, 5\,70 €\, 4\,70 €)\n\n
 Abend Angebot 4:\n- Seelachsfilet in Kartoffelpanade mit Bratkartoffeln\, 
 Remoulade und Salat  (4\,40 €\, 7\,95 €\, 6\,95 €)\n\nSalattheke:\n-
  große Schale\nkleine Schale\nRelevo Schale\n100g 1\,10 €/  1\,70 €/ 
 1\,90€ (0\,00 €\, 0\,00 €\, 0\,00 €)\n\nAngebot 1:\n- Linsen-Dal v
 on Brandenburger Linsen mit Kokos\, Spinat\, Minze und Zartweizen (2\,15 
 €\, 5\,70 €\, 4\,70 €)\n\nAngebot 2:\n- Schmorkohl mit Brew Bites Ha
 ck\, Salzkartoffeln und gerösteten Sonnenblumenkernen (2\,95 €\, 6\,50 
 €\, 5\,50 €)\n\nAngebot 3:\n- Gegrillter Blumenkohl mit Paprikahummus\
 , dazu Wildräutersalat mit Vinaigrette (3\,60 €\, 7\,15 €\, 6\,15 €
 )\n\nAngebot 4:\n- Seelachsfilet in Kartoffelpanade mit Bratkartoffeln\, R
 emoulade und Salat  (4\,40 €\, 7\,95 €\, 6\,95 €)\n\nTagesangebot - 
 Snack:\n- Pulled Pork BBQ Wrap - mit geriebenen Käse\, roten Zwiebeln\, E
 isbergsalat und Tomate (4\,40 €\, 7\,95 €\, 6\,95 €)\n\nHeiße Theke
 :\n- Preis pro 100g (0\,65 €\, 1\,45 €\, 1\,25 €)\n\nDessert 1:\n- S
 chokopudding mit Dessertsauce (1\,00 €\, 1\,50 €\, 1\,50 €)\n\nDesse
 rt 2:\n- Schokoladenmousse (1\,50 €\, 2\,00 €\, 2\,00 €)\n\n
SUMMARY:Mensa Griebnitzsee
END:VEVENT
BEGIN:VEVENT
DTSTAMP:20260424T020837Z
UID:1685086
DTSTART;VALUE=DATE:20260429
DTEND;VALUE=DATE:20260429
DESCRIPTION:Abend Angebot 2:\n- Kräuterrührei mit Bratkartoffeln und Gurk
 ensalat (2\,95 €\, 6\,50 €\, 5\,50 €)\n\nAbend Angebot 3:\n- Tortell
 oni mit Spinat-Ricottafüllung\, dazu Gemüsesugo und Babyspinat (3\,60 
 €\, 7\,15 €\, 6\,15 €)\n\nSalattheke:\n- große Schale\nkleine Schal
 e\nRelevo Schale\n100g 1\,10 €/  1\,70 €/ 1\,90€ (0\,00 €\, 0\,00 
 €\, 0\,00 €)\n\nAngebot 1:\n- Bunter Frühlingseintopf mit Kohlrabi\, 
 Möhre und Sonnenblumenhack-Kürbiskern-Topping (2\,15 €\, 5\,70 €\, 4
 \,70 €)\n\nAngebot 2:\n- Kräuterrührei mit Bratkartoffeln und Gurkensa
 lat (2\,95 €\, 6\,50 €\, 5\,50 €)\n\nAngebot 3:\n- Tortelloni mit Sp
 inat-Ricottafüllung\, dazu Gemüsesugo und Babyspinat (3\,60 €\, 7\,15 
 €\, 6\,15 €)\n\nAngebot 4:\n- Makali Bowl mit Auberginencreme\, Peters
 iliensalat und Fladenbrot (4\,40 €\, 7\,95 €\, 6\,95 €)\n\nTagesange
 bot - Snack:\n- Quarkbällchen mit Toppings (2\,15 €\, 5\,70 €\, 4\,70
  €)\n\nHeiße Theke:\n- Preis pro 100g (0\,65 €\, 1\,45 €\, 1\,25 
 €)\n\nDessert 1:\n- Bayrisch Creme mit Beerenragout (1\,00 €\, 1\,50 
 €\, 1\,50 €)\n\nDessert 2:\n- Buttermilchdessert Mango mit Himbeerpür
 ee (1\,50 €\, 2\,00 €\, 2\,00 €)\n\n
SUMMARY:Mensa Griebnitzsee
END:VEVENT
BEGIN:VEVENT
DTSTAMP:20260424T020837Z
UID:1685087
DTSTART;VALUE=DATE:20260430
DTEND;VALUE=DATE:20260430
DESCRIPTION:Abend Angebot 2:\n- Tom Kha Suppe mit Kokosmilch\, frischem Gem
 üse\, Tofu und Reis (2\,95 €\, 6\,50 €\, 5\,50 €)\n\nAbend Angebot 
 4:\n- Hähnchen Kebab Döner Art - mit Kräutersauce\, Pommes und Salat (4
 \,40 €\, 7\,95 €\, 6\,95 €)\n\nSalattheke:\n- große Schale\nkleine 
 Schale\nRelevo Schale\n100g 1\,10 €/  1\,70 €/ 1\,90€ (0\,00 €\, 0
 \,00 €\, 0\,00 €)\n\nAngebot 1:\n- Vegane Grießspeise mit Beerenragou
 t und gerösteten Mandeln (2\,15 €\, 5\,70 €\, 4\,70 €)\n\nAngebot 2
 :\n- Tom Kha Suppe mit Kokosmilch\, frischem Gemüse\, Tofu und Reis (2\,9
 5 €\, 6\,50 €\, 5\,50 €)\n\nAngebot 3:\n- Schmorbraten aus Erbsen mi
 t getrockneten Tomaten\, Pinienkernen und Rucola\, dazu Bärlauchsauce und
  Kartoffelstampf (3\,60 €\, 7\,15 €\, 6\,15 €)\n\nAngebot 4:\n- Häh
 nchen Kebab Döner Art - mit Kräutersauce\, Pommes und Salat (4\,40 €\,
  7\,95 €\, 6\,95 €)\n\nTagesangebot - Snack:\n- Wrap Caprese mit Tomat
 e\, Mozzarella und Rucola (2\,95 €\, 6\,50 €\, 5\,50 €)\n\nHeiße Th
 eke:\n- Preis pro 100g (0\,65 €\, 1\,45 €\, 1\,25 €)\n\nDessert 1:\n
 - Haferdessert mit Erdbeerpüree (1\,00 €\, 1\,50 €\, 1\,50 €)\n\nDe
 ssert 2:\n- Vegane Panna Cotta mit Himbeerpüree (1\,50 €\, 2\,00 €\, 
 2\,00 €)\n\n
SUMMARY:Mensa Griebnitzsee
END:VEVENT
END:VCALENDAR
