BEGIN:VCALENDAR
VERSION:2.0
PRODID:openmensa.org
CALSCALE:GREGORIAN
METHOD:PUBLISH
URL;VALUE=URI:https://openmensa.org/ical/279/heidelberg-mensa-im-neuenheime
 r-feld-304.ics
BEGIN:VEVENT
DTSTAMP:20260424T021908Z
UID:1682191
DTSTART;VALUE=DATE:20260424
DTEND;VALUE=DATE:20260424
DESCRIPTION:A+B:\n- Tagessuppe\n (0\,60 €\, 1\,00 €\, 1\,50 €)\n  * g
 reen spelt soup\n\n- Dessert Becher\n (0\,60 €\, 1\,00 €\, 1\,50 €)\
 n  * fresh fruit\n\n- Frischobst\n (0\,80 €\, 1\,00 €\, 1\,00 €)\n  
 * fresh fruit\n\n- Träumereien\n (0\,90 €\, 1\,40 €\, 2\,00 €)\n  *
  sweet delights\n\n- Schlemmerbuffet (je 100g)\nReichhaltige Auswahl an ve
 getarischen und veganen Gerichten. Hausgemachte Pasta mit Saucen. Fleisch-
  oder Fischgericht\, Sättigungsbeilagen\, Gemüse\, Salatbuffet\, Topping
 -Bar\, Gewürzbar\n (0\,99 €\, 1\,35 €\, 2\,00 €)\n  * Gourmet buffe
 t each 100g Rich variety of fresh salads\, vegetable/fish/poultry/pork/bee
 f and vegetarian and vegan dishes\n\n\n\nD:\n- Gnocchi mit Tomatenpestoso
 ße\, Oliven und Kräuterpesto\, dazu ein Stück Obst (3\,5\,6\,GlWe\,So\,
 Sf)\n (2\,90 €\, 4\,50 €\, 7\,50 €)\n  * Gnocchi mit Tomatenpestoso
 ße\, Oliven und Kräuterpesto\, dazu ein Stück Obst (3\,5\,6\,GlWe\,So\,
 Sf)\n\n\n
SUMMARY:Heidelberg\, Mensa Im Neuenheimer Feld 304
END:VEVENT
BEGIN:VEVENT
DTSTAMP:20260424T021908Z
UID:1682192
DTSTART;VALUE=DATE:20260425
DTEND;VALUE=DATE:20260425
DESCRIPTION:
SUMMARY:Heidelberg\, Mensa Im Neuenheimer Feld 304
END:VEVENT
BEGIN:VEVENT
DTSTAMP:20260424T021908Z
UID:1682193
DTSTART;VALUE=DATE:20260426
DTEND;VALUE=DATE:20260426
DESCRIPTION:
SUMMARY:Heidelberg\, Mensa Im Neuenheimer Feld 304
END:VEVENT
BEGIN:VEVENT
DTSTAMP:20260424T021908Z
UID:1682194
DTSTART;VALUE=DATE:20260427
DTEND;VALUE=DATE:20260427
DESCRIPTION:A+B:\n- Tagessuppe\n (0\,60 €\, 1\,00 €\, 1\,50 €)\n  * g
 reen spelt soup\n\n- Dessert Becher\n (0\,60 €\, 1\,00 €\, 1\,50 €)\
 n  * fresh fruit\n\n- Frischobst\n (0\,80 €\, 1\,00 €\, 1\,00 €)\n  
 * fresh fruit\n\n- Träumereien\n (0\,90 €\, 1\,40 €\, 2\,00 €)\n  *
  sweet delights\n\n- Schlemmerbuffet (je 100g)\nReichhaltige Auswahl an ve
 getarischen und veganen Gerichten. Hausgemachte Pasta mit Saucen. Fleisch-
  oder Fischgericht\, Sättigungsbeilagen\, Gemüse\, Salatbuffet\, Topping
 -Bar\, Gewürzbar\n (0\,99 €\, 1\,35 €\, 2\,00 €)\n  * Gourmet buffe
 t each 100g Rich variety of fresh salads\, vegetable/fish/poultry/pork/bee
 f and vegetarian and vegan dishes\n\n\n\nD:\n- Geschmälzte Maultaschen mi
 t Kartoffelsalat und ein Stück Obst (GlWe\,Sn)\n\n (2\,90 €\, 4\,50 €
 \, 7\,50 €)\n  * Geschmälzte Maultaschen mit Kartoffelsalat und ein St
 ück Obst (GlWe\,Sn)\n\n\n\n
SUMMARY:Heidelberg\, Mensa Im Neuenheimer Feld 304
END:VEVENT
BEGIN:VEVENT
DTSTAMP:20260424T021908Z
UID:1682195
DTSTART;VALUE=DATE:20260428
DTEND;VALUE=DATE:20260428
DESCRIPTION:A+B:\n- Tagessuppe\n (0\,60 €\, 1\,00 €\, 1\,50 €)\n  * g
 reen spelt soup\n\n- Dessert Becher\n (0\,60 €\, 1\,00 €\, 1\,50 €)\
 n  * fresh fruit\n\n- Frischobst\n (0\,80 €\, 1\,00 €\, 1\,00 €)\n  
 * fresh fruit\n\n- Träumereien\n (0\,90 €\, 1\,40 €\, 2\,00 €)\n  *
  sweet delights\n\n- Schlemmerbuffet (je 100g)\nReichhaltige Auswahl an ve
 getarischen und veganen Gerichten. Hausgemachte Pasta mit Saucen. Fleisch-
  oder Fischgericht\, Sättigungsbeilagen\, Gemüse\, Salatbuffet\, Topping
 -Bar\, Gewürzbar\n (0\,99 €\, 1\,35 €\, 2\,00 €)\n  * Gourmet buffe
 t each 100g Rich variety of fresh salads\, vegetable/fish/poultry/pork/bee
 f and vegetarian and vegan dishes\n\n\n\n
SUMMARY:Heidelberg\, Mensa Im Neuenheimer Feld 304
END:VEVENT
BEGIN:VEVENT
DTSTAMP:20260424T021908Z
UID:1682196
DTSTART;VALUE=DATE:20260429
DTEND;VALUE=DATE:20260429
DESCRIPTION:A+B:\n- Tagessuppe\n (0\,60 €\, 1\,00 €\, 1\,50 €)\n  * g
 reen spelt soup\n\n- Dessert Becher\n (0\,60 €\, 1\,00 €\, 1\,50 €)\
 n  * fresh fruit\n\n- Frischobst\n (0\,80 €\, 1\,00 €\, 1\,00 €)\n  
 * fresh fruit\n\n- Träumereien\n (0\,90 €\, 1\,40 €\, 2\,00 €)\n  *
  sweet delights\n\n- Schlemmerbuffet (je 100g)\nReichhaltige Auswahl an ve
 getarischen und veganen Gerichten. Hausgemachte Pasta mit Saucen. Fleisch-
  oder Fischgericht\, Sättigungsbeilagen\, Gemüse\, Salatbuffet\, Topping
 -Bar\, Gewürzbar\n (0\,99 €\, 1\,35 €\, 2\,00 €)\n  * Gourmet buffe
 t each 100g Rich variety of fresh salads\, vegetable/fish/poultry/pork/bee
 f and vegetarian and vegan dishes\n\n\n\nD:\n- Pastaauflauf mit Gemüse un
 d Frischkäsesoße\, dazu ein Stück Obst (1\,GlWe\,ML)\n (2\,90 €\, 4\,
 50 €\, 7\,50 €)\n  * Pastaauflauf mit Gemüse und Frischkäsesoße\, d
 azu ein Stück Obst (1\,GlWe\,ML)\n\n\n
SUMMARY:Heidelberg\, Mensa Im Neuenheimer Feld 304
END:VEVENT
BEGIN:VEVENT
DTSTAMP:20260424T021908Z
UID:1682197
DTSTART;VALUE=DATE:20260430
DTEND;VALUE=DATE:20260430
DESCRIPTION:A+B:\n- Tagessuppe\n (0\,60 €\, 1\,00 €\, 1\,50 €)\n  * g
 reen spelt soup\n\n- Dessert Becher\n (0\,60 €\, 1\,00 €\, 1\,50 €)\
 n  * fresh fruit\n\n- Frischobst\n (0\,80 €\, 1\,00 €\, 1\,00 €)\n  
 * fresh fruit\n\n- Träumereien\n (0\,90 €\, 1\,40 €\, 2\,00 €)\n  *
  sweet delights\n\n- Schlemmerbuffet (je 100g)\nReichhaltige Auswahl an ve
 getarischen und veganen Gerichten. Hausgemachte Pasta mit Saucen. Fleisch-
  oder Fischgericht\, Sättigungsbeilagen\, Gemüse\, Salatbuffet\, Topping
 -Bar\, Gewürzbar\n (0\,99 €\, 1\,35 €\, 2\,00 €)\n  * Gourmet buffe
 t each 100g Rich variety of fresh salads\, vegetable/fish/poultry/pork/bee
 f and vegetarian and vegan dishes\n\n\n\n
SUMMARY:Heidelberg\, Mensa Im Neuenheimer Feld 304
END:VEVENT
END:VCALENDAR
