BEGIN:VCALENDAR
VERSION:2.0
PRODID:openmensa.org
CALSCALE:GREGORIAN
METHOD:PUBLISH
URL;VALUE=URI:https://openmensa.org/ical/256/erlangen-suedmensa.ics
BEGIN:VEVENT
DTSTAMP:20260424T023201Z
UID:1679389
DTSTART;VALUE=DATE:20260424
DTEND;VALUE=DATE:20260424
DESCRIPTION:Fisch MSC Fisch:\n- MSC Alaska Seelachsfilet gebacken mit Zitro
 ne  mit Remouladensoße  und Kartoffeln (3\,78 €\, 4\,98 €\, 7\,56 €
 )\n  * mit Weizen\n  * mit undefinierter Chemikalie Fi\n  * mit Weizen\n  
 * mit Eier\n  * mit Milch/Laktose\n  * mit Senf\n\nVegetarisch:\n- Pasta m
 it Spinat und Gorgonzolasoße  (2\,58 €\, 4\,57 €\, 5\,16 €)\n  * mi
 t Weizen\n  * mit Milch/Laktose\n\nVegan:\n- Bohnen Burrito  mit Limettend
 ip  (2\,85 €\, 4\,57 €\, 5\,70 €)\n  * mit Weizen\n  * mit Sellerie\
 n  * mit Senf\n  * mit Soja\n  * mit Senf\n\n
SUMMARY:Erlangen Südmensa
END:VEVENT
BEGIN:VEVENT
DTSTAMP:20260424T023201Z
UID:1683103
DTSTART;VALUE=DATE:20260427
DTEND;VALUE=DATE:20260427
DESCRIPTION:Schwein:\n- Schweineschnitzel "Wiener Art" mit Zitrone  und Kar
 toffelsalat  (3\,79 €\, 4\,99 €\, 7\,58 €)\n  * mit Weizen\n  * mit 
 Eier\n  * mit Senf\n  * mit Schwefeldioxid/Sulfite\n\nVegetarisch:\n- Wald
 pilze in Kräuterrahm  mit Semmelkloß  (2\,98 €\, 4\,57 €\, 5\,96 €
 )\n  * mit Weizen\n  * mit Milch/Laktose\n  * mit Sellerie\n  * mit Weizen
 \n  * mit Eier\n\nVegan:\n- Thai-Gemüse-Nudelpfanne mit Erdnüssen und Ko
 kossoße  (2\,69 €\, 4\,57 €\, 5\,38 €)\n  * mit Weizen\n  * mit und
 efinierter Chemikalie Er\n  * mit Soja\n  * mit Sellerie\n\n
SUMMARY:Erlangen Südmensa
END:VEVENT
BEGIN:VEVENT
DTSTAMP:20260424T023201Z
UID:1683104
DTSTART;VALUE=DATE:20260428
DTEND;VALUE=DATE:20260428
DESCRIPTION:Schwein:\n- Schaschlikpfanne vom Schwein  mit Curryreis (3\,39 
 €\, 4\,59 €\, 6\,78 €)\n  * mit undefinierter Chemikalie Gf\n\nVeget
 arisch:\n- Spätzlepfanne "Gärtnerin Art" mit Gemüsestreifen und Champig
 nons  dazu Schnittlauchsoße  (2\,36 €\, 4\,57 €\, 4\,72 €)\n  * mit
  Weizen\n  * mit Eier\n  * mit Milch/Laktose\n  * mit Sellerie\n  * mit We
 izen\n  * mit Milch/Laktose\n  * mit Schwefeldioxid/Sulfite\n\nVegan:\n- T
 ortellini mit Gemüsefüllung dazu Tomaten-Chilipesto  (3\,24 €\, 4\,57 
 €\, 6\,48 €)\n  * mit Weizen\n  * mit Soja\n  * mit Mandeln\n  * mit S
 ellerie\n\n
SUMMARY:Erlangen Südmensa
END:VEVENT
BEGIN:VEVENT
DTSTAMP:20260424T023201Z
UID:1683105
DTSTART;VALUE=DATE:20260429
DTEND;VALUE=DATE:20260429
DESCRIPTION:Vegetarisch:\n- Spinatlasagne  mit Kräutersoße  (2\,96 €\, 
 4\,57 €\, 5\,92 €)\n  * mit Weizen\n  * mit Milch/Laktose\n  * mit Wei
 zen\n  * mit Milch/Laktose\n- Bandnudeln mit Garnelen in Tomaten-Cognac-Ra
 hm dazu Rucola  (3\,49 €\, 4\,69 €\, 6\,98 €)\n  * mit Weizen\n  * m
 it undefinierter Chemikalie Kr\n  * mit Milch/Laktose\n\nVegan:\n- Soja-Ko
 kos-Curry mit roter Beete\, Champignons\, Bohnen und Wildreis  (2\,89 €\
 , 4\,57 €\, 5\,78 €)\n  * mit undefinierter Chemikalie Gf\n  * mit Soj
 a\n  * mit Senf\n\n
SUMMARY:Erlangen Südmensa
END:VEVENT
BEGIN:VEVENT
DTSTAMP:20260424T023201Z
UID:1683106
DTSTART;VALUE=DATE:20260430
DTEND;VALUE=DATE:20260430
DESCRIPTION:Vegan:\n- Röstiecken auf Gemüsebett  (2\,58 €\, 4\,57 €\,
  5\,16 €)\n  * mit undefinierter Chemikalie Gf\n  * mit Sellerie\n- Fala
 fel  mit Pfirsich Chutney  und Bulgur-Gemüsepfanne  (3\,69 €\, 4\,89 
 €\, 7\,38 €)\n  * mit Weizen\n  * mit Weizen\n  * mit Mandeln\n- Röst
 iecken   mit Apfelmus und Zimt/Zucker  (2\,00 €\, 3\,00 €\, 4\,00 €)
 \n  * mit undefinierter Chemikalie Gf\n\nSchwein:\n- Gebratenes Schweineha
 lssteak  mit geschmorten Zwiebelragout  (3\,22 €\, 4\,42 €\, 6\,44 €
 )\n  * mit undefinierter Chemikalie Gf\n  * mit Schwefeldioxid/Sulfite\n\n
SUMMARY:Erlangen Südmensa
END:VEVENT
END:VCALENDAR
