BEGIN:VCALENDAR
VERSION:2.0
PRODID:openmensa.org
CALSCALE:GREGORIAN
METHOD:PUBLISH
URL;VALUE=URI:https://openmensa.org/ical/1945/max-schmeling-stadtteilschule
 .ics
BEGIN:VEVENT
DTSTAMP:20260424T021629Z
UID:1675313
DTSTART;VALUE=DATE:20260424
DTEND;VALUE=DATE:20260424
DESCRIPTION:FIT-MENÜ:\n- Reichhaltiges Salatbuffet\, GEBRATENES SEELACHSFI
 LET mit Kräutersoße\, Blumenkohl und Vollkornreis\, süßer Melonen-Cock
 tail\n  * Gluten\n  * Fisch\n  * Laktose\n\nVEGGI-MENÜ:\n- Reichhaltiges 
 Salatbuffet\, HAUSGEMACHTE GEMÜSEFRIKADELLE (aus Möhren\, Kohlrabi und S
 ellerie) mit Paprika-Gurkensalsa und Nudelsalat\, süßer Melonen-Cocktail
 \n  * Gluten\n  * Ei\n  * Senf\n\nTAGESMENÜ:\n- TAGESGERICHT im Buffet (n
 icht vorbestellbar)\n\n
SUMMARY:Max-Schmeling-Stadtteilschule
END:VEVENT
BEGIN:VEVENT
DTSTAMP:20260424T021629Z
UID:1680017
DTSTART;VALUE=DATE:20260427
DTEND;VALUE=DATE:20260427
DESCRIPTION:FIT-MENÜ:\n- Reichhaltiges Salatbuffet\, TORTELLINI (Käse) mi
 t Basilikum und fruchtiger Tomatensoße\, Obst der Saison\n  * Gluten\n  *
  Laktose\n  * Sellerie\n\nVEGGI-MENÜ:\n- Reichhaltiges Salatbuffet\, NUDE
 LAUFLAUF mit Erbsen\, dazu Petersilien-Frischkäsesoße\, Obst der Saison\
 n  * Gluten\n  * Laktose\n\nTAGESMENÜ:\n- TAGESGERICHT im Buffet (nicht v
 orbestellbar)\n\n
SUMMARY:Max-Schmeling-Stadtteilschule
END:VEVENT
BEGIN:VEVENT
DTSTAMP:20260424T021629Z
UID:1680018
DTSTART;VALUE=DATE:20260428
DTEND;VALUE=DATE:20260428
DESCRIPTION:FIT-MENÜ:\n- Reichhaltiges Salatbuffet\, GEBRATENES FISCHFILET
  mit leichter Remouladensoße\, Blumenkohl und hausgemachten Kartoffelspal
 ten\, Müslijoghurt\n  * Gluten\n  * Fisch\n  * Laktose\n  * Erdnuss\n  * 
 Schalenfrüchte (Nüsse/Mandeln)\n\nVEGGI-MENÜ:\n- Reichhaltiges Salatbuf
 fet\, HAUSGEMACHTE GEMÜSEFRIKADELLE mit Dip\, Erbsen-Möhren-Gemüse und 
 Kartoffelstampf\, Obst der Saison\n  * Gluten\n  * Ei\n  * Laktose\n  * Se
 llerie\n\nTAGESMENÜ:\n- TAGESGERICHT im Buffet (nicht vorbestellbar)\n\n
SUMMARY:Max-Schmeling-Stadtteilschule
END:VEVENT
BEGIN:VEVENT
DTSTAMP:20260424T021629Z
UID:1680019
DTSTART;VALUE=DATE:20260429
DTEND;VALUE=DATE:20260429
DESCRIPTION:FIT-MENÜ:\n- Reichhaltiges Salatbuffet\, GEFLÜGELFRIKADELLE m
 it Bratensoße und Risi-Bisi-Reis\, Obst der Saison\n  * Gluten\n  * Ei\n 
  * Sellerie\n\nVEGGI-MENÜ:\n- Reichhaltiges Salatbuffet\, GRILLKÄSE mit 
 Tzaziki\, Schnittbohnen und Couscous\, Obst der Saison\n  * Gluten\n  * La
 ktose\n  * Sellerie\n\nTAGESMENÜ:\n- TAGESGERICHT im Buffet (nicht vorbes
 tellbar)\n\n
SUMMARY:Max-Schmeling-Stadtteilschule
END:VEVENT
BEGIN:VEVENT
DTSTAMP:20260424T021629Z
UID:1680020
DTSTART;VALUE=DATE:20260430
DTEND;VALUE=DATE:20260430
DESCRIPTION:FIT-MENÜ:\n- Reichhaltiges Salatbuffet\, 2 EIER in leichter Se
 nfsoße mit Erbsen-Möhren-Gemüse und Petersilienkartoffeln\, Obst der Sa
 ison\n  * Gluten\n  * Ei\n  * Senf\n  * Laktose\n\nVEGGI-MENÜ:\n- Reichha
 ltiges Salatbuffet\, GEFÜLLTE PAPRIKA mit Tomaten-Basilikum-Bulgur und Mi
 nze-Dip\, Obst der Saison\n  * Gluten\n  * Laktose\n\nTAGESMENÜ:\n- TAGES
 GERICHT im Buffet (nicht vorbestellbar)\n\n
SUMMARY:Max-Schmeling-Stadtteilschule
END:VEVENT
END:VCALENDAR
