BEGIN:VCALENDAR
VERSION:2.0
PRODID:openmensa.org
CALSCALE:GREGORIAN
METHOD:PUBLISH
URL;VALUE=URI:https://openmensa.org/ical/1943/gymnasium-rahlstedt.ics
BEGIN:VEVENT
DTSTAMP:20260424T021844Z
UID:1674954
DTSTART;VALUE=DATE:20260424
DTEND;VALUE=DATE:20260424
DESCRIPTION:MITTAGSMENÜ:\n- Reichhaltiges Salatbuffet\, GEBRATENES SEELACH
 SFILET mit Kräutersoße\, Blumenkohl und Vollkornreis\, süßer Melonen-C
 ocktail\n  * Gluten\n  * Fisch\n  * Laktose\n\nVEGETARISCH:\n- Reichhaltig
 es Salatbuffet\, HAUSGEMACHTE GEMÜSEFRIKADELLE (aus Möhren\, Kohlrabi un
 d Sellerie) mit Paprika-Gurkensalsa und Nudelsalat\, süßer Melonen-Cockt
 ail\n  * Gluten\n  * Ei\n  * Senf\n\nTAGESMENÜ:\n- TAGESGERICHT im Buffet
  (nicht vorbestellbar)\n\n
SUMMARY:Gymnasium Rahlstedt
END:VEVENT
BEGIN:VEVENT
DTSTAMP:20260424T021844Z
UID:1679675
DTSTART;VALUE=DATE:20260427
DTEND;VALUE=DATE:20260427
DESCRIPTION:MITTAGSMENÜ:\n- Reichhaltiges Salatbuffet\, TORTELLINI (Käse)
  mit Basilikum und fruchtiger Tomatensoße\, Obst der Saison\n  * Gluten\n
   * Laktose\n  * Sellerie\n\nVEGETARISCH:\n- Reichhaltiges Salatbuffet\, N
 UDELAUFLAUF mit Erbsen\, dazu Petersilien-Frischkäsesoße\, Obst der Sais
 on\n  * Gluten\n  * Laktose\n\nTAGESMENÜ:\n- TAGESGERICHT im Buffet (nich
 t vorbestellbar)\n\n
SUMMARY:Gymnasium Rahlstedt
END:VEVENT
BEGIN:VEVENT
DTSTAMP:20260424T021844Z
UID:1679676
DTSTART;VALUE=DATE:20260428
DTEND;VALUE=DATE:20260428
DESCRIPTION:MITTAGSMENÜ:\n- Reichhaltiges Salatbuffet\, GEBRATENES FISCHFI
 LET mit leichter Remouladensoße\, Blumenkohl und hausgemachten Kartoffels
 palten\, Müslijoghurt\n  * Gluten\n  * Fisch\n  * Laktose\n  * Erdnuss\n 
  * Schalenfrüchte (Nüsse/Mandeln)\n\nVEGETARISCH:\n- Reichhaltiges Salat
 buffet\, HAUSGEMACHTE GEMÜSEFRIKADELLE mit Dip\, Erbsen-Möhren-Gemüse u
 nd Kartoffelstampf\, Müslijoghurt\n  * Gluten\n  * Ei\n  * Laktose\n  * S
 ellerie\n  * Erdnuss\n  * Schalenfrüchte (Nüsse/Mandeln)\n\nTAGESMENÜ:\
 n- TAGESGERICHT im Buffet (nicht vorbestellbar)\n\n
SUMMARY:Gymnasium Rahlstedt
END:VEVENT
BEGIN:VEVENT
DTSTAMP:20260424T021844Z
UID:1679677
DTSTART;VALUE=DATE:20260429
DTEND;VALUE=DATE:20260429
DESCRIPTION:MITTAGSMENÜ:\n- Reichhaltiges Salatbuffet\, GEFLÜGELFRIKADELL
 E mit Bratensoße und Risi-Bisi-Reis\, Obst der Saison\n  * Gluten\n  * Ei
 \n  * Sellerie\n\nVEGETARISCH:\n- Reichhaltiges Salatbuffet\, GRILLKÄSE m
 it Tzaziki\, Schnittbohnen und Couscous\, Obst der Saison\n  * Gluten\n  *
  Laktose\n  * Sellerie\n\nTAGESMENÜ:\n- TAGESGERICHT im Buffet (nicht vor
 bestellbar)\n\n
SUMMARY:Gymnasium Rahlstedt
END:VEVENT
BEGIN:VEVENT
DTSTAMP:20260424T021844Z
UID:1679678
DTSTART;VALUE=DATE:20260430
DTEND;VALUE=DATE:20260430
DESCRIPTION:MITTAGSMENÜ:\n- Reichhaltiges Salatbuffet\, 2 EIER in leichter
  Senfsoße mit Erbsen-Möhren-Gemüse und Petersilienkartoffeln\, Obst der
  Saison\n  * Gluten\n  * Ei\n  * Senf\n  * Laktose\n\nVEGETARISCH:\n- Reic
 hhaltiges Salatbuffet\, GEFÜLLTE PAPRIKA mit Tomaten-Basilikum-Bulgur und
  Minze-Dip\, Obst der Saison\n  * Gluten\n  * Laktose\n\nTAGESMENÜ:\n- TA
 GESGERICHT im Buffet (nicht vorbestellbar)\n\n
SUMMARY:Gymnasium Rahlstedt
END:VEVENT
END:VCALENDAR
