BEGIN:VCALENDAR
VERSION:2.0
PRODID:openmensa.org
CALSCALE:GREGORIAN
METHOD:PUBLISH
URL;VALUE=URI:https://openmensa.org/ical/1938/muehlbachschule.ics
BEGIN:VEVENT
DTSTAMP:20260424T021129Z
UID:1679657
DTSTART;VALUE=DATE:20260427
DTEND;VALUE=DATE:20260427
DESCRIPTION:Menü 1:\n- Alblinsen Spätzle Geflügelsaiten\n\nPizza Margari
 ta:\n- Pizza Margherita\n\nMenü 2:\n- Süßkartoffelgnocchi\, Spinatsahne
 soße\, Salat\n  * Eier\n  * Milch/Lactose\n  * Sellerie\n  * Senf\n  * mi
 t einerZuckerart oder Süßungsmitteln\n\nMenü 3 (Schneller Teller):\n- B
 io-Rigatoni\, Tomatensoße\n  * Weizen\n\nTomaten-Mozzarella-Tasche:\n- To
 maten-Mozzarella-Tasche\n\nSchnitzelbrötchen Pute:\n- Schnitzelbrötchen 
 Pute\n\nDessert:\n- Karamellpudding\n  * Milch/Lactose\n\nWasser:\n- Wasse
 r\n\nApfelschorle:\n- Apfelschorle\n\nJohannisbeerschorle/Rote Schorle:\n-
  Johannisbeerschorle/Rote Schorle\n\nRückpfand:\n- Rückpfand\n\nTo-Go:\n
 - To-Go\n\nTo-Go zurück:\n- To-Go zurück\n\n
SUMMARY:Mühlbachschule
END:VEVENT
BEGIN:VEVENT
DTSTAMP:20260424T021129Z
UID:1679658
DTSTART;VALUE=DATE:20260428
DTEND;VALUE=DATE:20260428
DESCRIPTION:Menü 1:\n- Schweinehals\, Bratensoße\, Bio-Salzkartoffeln\, B
 ayrisch Kraut\n  * Sellerie\n\nPizza Margarita:\n- Pizza Margherita\n\nMen
 ü 2:\n- Minestrone\, Pfannkuchen Apfelmark\n  * Weizen\n  * Eier\n  * Sel
 lerie\n  * Fleischlos\n  * Milch/Lactose\n\nMenü 3 (Schneller Teller):\n-
  Bio-Rigatoni\, Tomatensoße\n  * Weizen\n\nTomaten-Mozzarella-Tasche:\n- 
 Tomaten-Mozzarella-Tasche\n\nSchnitzelbrötchen Pute:\n- Schnitzelbrötche
 n Pute\n\nDessert:\n- Pfirsich-Maracujajoghurt\n  * Milch/Lactose\n\nWasse
 r:\n- Wasser\n\nApfelschorle:\n- Apfelschorle\n\nJohannisbeerschorle/Rote 
 Schorle:\n- Johannisbeerschorle/Rote Schorle\n\nRückpfand:\n- Rückpfand\
 n\nTo-Go:\n- To-Go\n\nTo-Go zurück:\n- To-Go zurück\n\n
SUMMARY:Mühlbachschule
END:VEVENT
BEGIN:VEVENT
DTSTAMP:20260424T021129Z
UID:1679659
DTSTART;VALUE=DATE:20260429
DTEND;VALUE=DATE:20260429
DESCRIPTION:Mensaburger:\n- Mensaburger\n\nMenü 1:\n- Rinderhacksteak grie
 chische Art\, Bio-Reis\, Ratatouillegemüse ( Auberginen\,Paprika\,Zucchin
 i)\n  * Weizen\n  * Soja\n  * Milch/Lactose\n\nMenü 2:\n- Gefüllte Zucch
 ini\, Tomatenfrischkäsesoße\, Bio-Reis\, Salat\n  * Milch/Lactose\n  * S
 ellerie\n  * Fleischlos\n  * Senf\n  * mit einerZuckerart oder Süßungsmi
 tteln\n\nMenü 3 (Schneller Teller):\n- Bio-Rigatoni\, Tomatensoße\n  * W
 eizen\n\nTomaten-Mozzarella-Tasche:\n- Tomaten-Mozzarella-Tasche\n\nSchnit
 zelbrötchen Pute:\n- Schnitzelbrötchen Pute\n\nDessert:\n- Birne\n\nWass
 er:\n- Wasser\n\nApfelschorle:\n- Apfelschorle\n\nJohannisbeerschorle/Rote
  Schorle:\n- Johannisbeerschorle/Rote Schorle\n\nRückpfand:\n- Rückpfand
 \n\nTo-Go:\n- To-Go\n\nTo-Go zurück:\n- To-Go zurück\n\n
SUMMARY:Mühlbachschule
END:VEVENT
BEGIN:VEVENT
DTSTAMP:20260424T021129Z
UID:1679660
DTSTART;VALUE=DATE:20260430
DTEND;VALUE=DATE:20260430
DESCRIPTION:Mensaburger:\n- Mensaburger\n\nMenü 1:\n- Fischstäbchen\, Kar
 toffelpüree\, Karotten-Erbsengemüse\n  * Weizen\n  * Milch/Lactose\n\nMe
 nü 2:\n- Krautschupfnudeln\, Salat\n  * Weizen\n  * Eier\n  * Sellerie\n 
  * Senf\n  * mit einerZuckerart oder Süßungsmitteln\n\nMenü 3 (Schnelle
 r Teller):\n- Bio-Rigatoni\, Tomatensoße\n  * Weizen\n\nTomaten-Mozzarell
 a-Tasche:\n- Tomaten-Mozzarella-Tasche\n\nSchnitzelbrötchen Pute:\n- Schn
 itzelbrötchen Pute\n\nDessert:\n- Vanillepudding\n  * Milch/Lactose\n\nWa
 sser:\n- Wasser\n\nApfelschorle:\n- Apfelschorle\n\nJohannisbeerschorle/Ro
 te Schorle:\n- Johannisbeerschorle/Rote Schorle\n\nRückpfand:\n- Rückpfa
 nd\n\nTo-Go:\n- To-Go\n\nTo-Go zurück:\n- To-Go zurück\n\n
SUMMARY:Mühlbachschule
END:VEVENT
END:VCALENDAR
