BEGIN:VCALENDAR
VERSION:2.0
PRODID:openmensa.org
CALSCALE:GREGORIAN
METHOD:PUBLISH
URL;VALUE=URI:https://openmensa.org/ical/1936/grundschule-boehmenkirch.ics
BEGIN:VEVENT
DTSTAMP:20260424T023217Z
UID:1675070
DTSTART;VALUE=DATE:20260424
DTEND;VALUE=DATE:20260424
DESCRIPTION:Tagesessen:\n- Fischstäbchen\, Salzkartoffeln\, helle Soße\n 
  * Eier\n  * Glutenhaltiges Getreide\n  * Sellerie\n  * Senf\n  * Weizen\n
   * mit Süßungsmittel\n  * mit Geschmacksverstärker\n\nFrühbetreuung:\
 n- Frühbetreuung\n\nMittagsbetreuung:\n- Mittagsbetreuung\n\n
SUMMARY:Grundschule Böhmenkirch
END:VEVENT
BEGIN:VEVENT
DTSTAMP:20260424T023217Z
UID:1679794
DTSTART;VALUE=DATE:20260427
DTEND;VALUE=DATE:20260427
DESCRIPTION:Tagesessen:\n- Nudelsuppe\, Pfannkuchen\, Apfelmus\n  * Eier\n 
  * Glutenhaltiges Getreide\n  * Weizen\n  * mit Süßungsmittel\n  * mit G
 eschmacksverstärker\n  * Milch (einschließlich Laktose)\n\nFrühbetreuun
 g:\n- Frühbetreuung\n\nMittagsbetreuung:\n- Mittagsbetreuung\n\n
SUMMARY:Grundschule Böhmenkirch
END:VEVENT
BEGIN:VEVENT
DTSTAMP:20260424T023217Z
UID:1679795
DTSTART;VALUE=DATE:20260428
DTEND;VALUE=DATE:20260428
DESCRIPTION:Tagesessen:\n- Putengeschnetzeltes\, Reis\, Brokkoligemüse\, J
 oghurt\n  * Glutenhaltiges Getreide\n  * Weizen\n  * Sellerie\n  * Senf\n 
  * mit Süßungsmittel\n  * mit Geschmacksverstärker\n  * Milch (einschli
 eßlich Laktose)\n  * Milcheiweiß\n  * mit Farbstoff\n\nFrühbetreuung:\n
 - Frühbetreuung\n\nMittagsbetreuung:\n- Mittagsbetreuung\n\n
SUMMARY:Grundschule Böhmenkirch
END:VEVENT
BEGIN:VEVENT
DTSTAMP:20260424T023217Z
UID:1679796
DTSTART;VALUE=DATE:20260429
DTEND;VALUE=DATE:20260429
DESCRIPTION:Tagesessen:\n- Makkaroni\, Brokkoli-Sahnesoße\, Rohkost\n  * E
 ier\n  * Weizen\n  * Glutenhaltiges Getreide\n  * Milch (einschließlich L
 aktose)\n  * Sellerie\n  * Senf\n  * mit Süßungsmittel\n  * mit Geschmac
 ksverstärker\n\nFrühbetreuung:\n- Frühbetreuung\n\nMittagsbetreuung:\n-
  Mittagsbetreuung\n\n
SUMMARY:Grundschule Böhmenkirch
END:VEVENT
BEGIN:VEVENT
DTSTAMP:20260424T023217Z
UID:1679797
DTSTART;VALUE=DATE:20260430
DTEND;VALUE=DATE:20260430
DESCRIPTION:Tagesessen:\n- Seelachsfilet paniert\, helle Soße\, Salzkartof
 feln\, Obst\n  * Eier\n  * Fisch\n  * Glutenhaltiges Getreide\n  * Weizen\
 n  * Sellerie\n  * Senf\n  * mit Süßungsmittel\n  * mit Geschmacksverst
 ärker\n  * gewachst\n\nFrühbetreuung:\n- Frühbetreuung\n\nMittagsbetreu
 ung:\n- Mittagsbetreuung\n\n
SUMMARY:Grundschule Böhmenkirch
END:VEVENT
END:VCALENDAR
