BEGIN:VCALENDAR
VERSION:2.0
PRODID:openmensa.org
CALSCALE:GREGORIAN
METHOD:PUBLISH
URL;VALUE=URI:https://openmensa.org/ical/1934/mittelschule-fuchstal.ics
BEGIN:VEVENT
DTSTAMP:20260424T021721Z
UID:1671353
DTSTART;VALUE=DATE:20260424
DTEND;VALUE=DATE:20260424
DESCRIPTION:Schorle /Kaffee:\n- Getränk/ Kaffee\n\nPizza:\n- Pizza\n\nCapp
 uccino:\n- Cappuccino\n\nEspresso /Softdrink:\n- Espresso/ Kaba\n\nWasser:
 \n- Wasser\n\nMenü 1:\n- Schinken- Käse Toast\, Beilagensalat\n  * Glute
 nhaltiges Getreide\n  * mit Konservierungsstoff\n  * mit Geschmacksverstä
 rker\n  * mit Phosphat\n  * Senf\n\nMenü 2:\n- Käse Toast\, Beilagensala
 t\n  * Glutenhaltiges Getreide\n  * Milch\n  * Senf\n\nSalatteller:\n- Sal
 at mit Ei\, Brot\n  * Glutenhaltiges Getreide\n\nSandwich\, Bratwurst\, Le
 berkassemmel:\n- Sandwich/ Bratwurst/ Leberkassemmel\n\nCapri-Sonne:\n- Ca
 pri-Sonne\n\nSchnitzelsemmel:\n- Schnitzel/ Gyrossemmel\n\n
SUMMARY:Mittelschule Fuchstal
END:VEVENT
BEGIN:VEVENT
DTSTAMP:20260424T021721Z
UID:1675120
DTSTART;VALUE=DATE:20260427
DTEND;VALUE=DATE:20260427
DESCRIPTION:Schorle /Kaffee:\n- Getränk/ Kaffee\n\nPizza:\n- Pizza\n\nCapp
 uccino:\n- Cappuccino\n\nEspresso /Softdrink:\n- Espresso/ Kaba\n\nWasser:
 \n- Wasser\n\nMenü 1:\n- Schinkennudeln\, Beilagensalat\n  * Glutenhaltig
 es Getreide\n  * Eier\n  * mit Konservierungsstoff\n  * mit Geschmacksvers
 tärker\n  * mit Phosphat\n  * Senf\n\nMenü 2:\n- Gemüsenudeln\, Beilage
 nsalat\n  * Glutenhaltiges Getreide\n  * Milch\n  * Sellerie\n  * Senf\n\n
 Salatteller:\n- Salat mit Ei\, Brot\n  * Glutenhaltiges Getreide\n\nSandwi
 ch\, Bratwurst\, Leberkassemmel:\n- Sandwich/ Bratwurst/ Leberkassemmel\n\
 nCapri-Sonne:\n- Capri-Sonne\n\nSchnitzelsemmel:\n- Schnitzel/ Gyrossemmel
 \n\n
SUMMARY:Mittelschule Fuchstal
END:VEVENT
BEGIN:VEVENT
DTSTAMP:20260424T021721Z
UID:1675121
DTSTART;VALUE=DATE:20260428
DTEND;VALUE=DATE:20260428
DESCRIPTION:Schorle /Kaffee:\n- Getränk/ Kaffee\n\nPizza:\n- Pizza\n\nCapp
 uccino:\n- Cappuccino\n\nEspresso /Softdrink:\n- Espresso/ Kaba\n\nWasser:
 \n- Wasser\n\nMenü 1:\n- Würstlgulasch\, Reis\, Gemüse\n  * Sellerie\n 
  * mit Konservierungsstoff\n  * mit Geschmacksverstärker\n  * mit Phospha
 t\n  * Milch\n\nSalatteller:\n- Salat mit Schinken\, Brot\n  * Sellerie\n 
  * Senf\n  * mit Milcheiweiß (bei Fleischerzeugnissen)\n  * Glutenhaltige
 s Getreide\n\nSandwich\, Bratwurst\, Leberkassemmel:\n- Sandwich/ Bratwurs
 t/ Leberkassemmel\n\nCapri-Sonne:\n- Capri-Sonne\n\nSchnitzelsemmel:\n- Sc
 hnitzel/ Gyrossemmel\n\nSuppe mit Brot:\n- Nudelsuppe\, Brot\n  * Glutenha
 ltiges Getreide\n  * Sellerie\n\n
SUMMARY:Mittelschule Fuchstal
END:VEVENT
BEGIN:VEVENT
DTSTAMP:20260424T021721Z
UID:1675122
DTSTART;VALUE=DATE:20260429
DTEND;VALUE=DATE:20260429
DESCRIPTION:Schorle /Kaffee:\n- Getränk/ Kaffee\n\nPizza:\n- Pizza\n\nCapp
 uccino:\n- Cappuccino\n\nEspresso /Softdrink:\n- Espresso/ Kaba\n\nWasser:
 \n- Wasser\n\nMenü 1:\n- Leberkäse\, Kartoffelsalat\n  * mit Konservieru
 ngsstoff\n  * mit Geschmacksverstärker\n  * mit Phosphat\n  * Sellerie\n 
  * Senf\n\nMenü 2:\n- Milchreis\, Fruchtsoße\n  * Milch\n\nSalatteller:\
 n- Salat mit Ei\, Brot\n  * Glutenhaltiges Getreide\n\nSandwich\, Bratwurs
 t\, Leberkassemmel:\n- Sandwich/ Bratwurst/ Leberkassemmel\n\nCapri-Sonne:
 \n- Capri-Sonne\n\nSchnitzelsemmel:\n- Schnitzel/ Gyrossemmel\n\nSuppe mit
  Brot:\n- Leberkässemmel 2\,80 €\n  * Glutenhaltiges Getreide\n  * mit 
 Konservierungsstoff\n  * mit Geschmacksverstärker\n  * mit Phosphat\n\n
SUMMARY:Mittelschule Fuchstal
END:VEVENT
BEGIN:VEVENT
DTSTAMP:20260424T021721Z
UID:1675123
DTSTART;VALUE=DATE:20260430
DTEND;VALUE=DATE:20260430
DESCRIPTION:Schorle /Kaffee:\n- Getränk/ Kaffee\n\nPizza:\n- Pizza\n\nCapp
 uccino:\n- Cappuccino\n\nEspresso /Softdrink:\n- Espresso/ Kaba\n\nWasser:
 \n- Wasser\n\nMenü 1:\n- Cevapcici (Rind)\, Reis\, Gemüse\n  * Sellerie\
 n  * Senf\n  * mit Milcheiweiß (bei Fleischerzeugnissen)\n  * Milch\n\nSa
 latteller:\n- Salat mit Mozzarella\, Brot\n  * Glutenhaltiges Getreide\n  
 * Milch\n  * Sellerie\n\nSandwich\, Bratwurst\, Leberkassemmel:\n- Sandwic
 h/ Bratwurst/ Leberkassemmel\n\nCapri-Sonne:\n- Capri-Sonne\n\nSchnitzelse
 mmel:\n- Schnitzel/ Gyrossemmel\n\nSuppe mit Brot:\n- Flädlesuppe\, Brot\
 n  * Glutenhaltiges Getreide\n  * Milch\n  * Sellerie\n\n
SUMMARY:Mittelschule Fuchstal
END:VEVENT
END:VCALENDAR
