BEGIN:VCALENDAR
VERSION:2.0
PRODID:openmensa.org
CALSCALE:GREGORIAN
METHOD:PUBLISH
URL;VALUE=URI:https://openmensa.org/ical/1933/minna-specht-gemeinschaftssch
 ule-sekundarstufe.ics
BEGIN:VEVENT
DTSTAMP:20260424T021826Z
UID:1675256
DTSTART;VALUE=DATE:20260427
DTEND;VALUE=DATE:20260427
DESCRIPTION:Tagesessen:\n- Tagesessen\n\nveg. Tagesessen:\n- Tagesessen veg
 etarisch\n\n
SUMMARY:Minna-Specht-Gemeinschaftsschule (Sekundarstufe)
END:VEVENT
BEGIN:VEVENT
DTSTAMP:20260424T021826Z
UID:1675257
DTSTART;VALUE=DATE:20260428
DTEND;VALUE=DATE:20260428
DESCRIPTION:Tagesessen:\n- Tagesessen\n\nveg. Tagesessen:\n- Tagesessen veg
 etarisch\n\n
SUMMARY:Minna-Specht-Gemeinschaftsschule (Sekundarstufe)
END:VEVENT
BEGIN:VEVENT
DTSTAMP:20260424T021826Z
UID:1675258
DTSTART;VALUE=DATE:20260430
DTEND;VALUE=DATE:20260430
DESCRIPTION:Tagesessen:\n- Tagesessen\n\nveg. Tagesessen:\n- Tagesessen veg
 etarisch\n\n
SUMMARY:Minna-Specht-Gemeinschaftsschule (Sekundarstufe)
END:VEVENT
END:VCALENDAR
