BEGIN:VCALENDAR
VERSION:2.0
PRODID:openmensa.org
CALSCALE:GREGORIAN
METHOD:PUBLISH
URL;VALUE=URI:https://openmensa.org/ical/1932/minna-specht-gemeinschaftssch
 ule-grundschule.ics
BEGIN:VEVENT
DTSTAMP:20260424T021749Z
UID:1674911
DTSTART;VALUE=DATE:20260427
DTEND;VALUE=DATE:20260427
DESCRIPTION:Tagesessen:\n- Tagesessen\n\nveg. Tagesessen:\n- Tagesessen veg
 etarisch\n\n
SUMMARY:Minna-Specht-Gemeinschaftsschule (Grundschule)
END:VEVENT
BEGIN:VEVENT
DTSTAMP:20260424T021749Z
UID:1674912
DTSTART;VALUE=DATE:20260428
DTEND;VALUE=DATE:20260428
DESCRIPTION:Tagesessen:\n- Tagesessen\n\nveg. Tagesessen:\n- Tagesessen veg
 etarisch\n\n
SUMMARY:Minna-Specht-Gemeinschaftsschule (Grundschule)
END:VEVENT
BEGIN:VEVENT
DTSTAMP:20260424T021749Z
UID:1674913
DTSTART;VALUE=DATE:20260429
DTEND;VALUE=DATE:20260429
DESCRIPTION:Tagesessen:\n- Tagesessen\n\nveg. Tagesessen:\n- Tagesessen veg
 etarisch\n\n
SUMMARY:Minna-Specht-Gemeinschaftsschule (Grundschule)
END:VEVENT
BEGIN:VEVENT
DTSTAMP:20260424T021749Z
UID:1674914
DTSTART;VALUE=DATE:20260430
DTEND;VALUE=DATE:20260430
DESCRIPTION:Tagesessen:\n- Tagesessen\n\nveg. Tagesessen:\n- Tagesessen veg
 etarisch\n\n
SUMMARY:Minna-Specht-Gemeinschaftsschule (Grundschule)
END:VEVENT
END:VCALENDAR
