BEGIN:VCALENDAR
VERSION:2.0
PRODID:openmensa.org
CALSCALE:GREGORIAN
METHOD:PUBLISH
URL;VALUE=URI:https://openmensa.org/ical/1931/saarlouiser-gymnasium-am-stad
 tgarten.ics
BEGIN:VEVENT
DTSTAMP:20260424T014848Z
UID:1679993
DTSTART;VALUE=DATE:20260424
DTEND;VALUE=DATE:20260424
DESCRIPTION:Menü 1:\n- Lunchpacket 1\n  * Eier\n  * Weizen\n  * Milch (ein
 schließlich Laktose)\n  * mit Farbstoff\n  * mit Antioxidationsmittel\n  
 * mit Phosphat\n\nMenü 2:\n- Lunchpacket 2\n\n
SUMMARY:Saarlouiser Gymnasium am Stadtgarten
END:VEVENT
BEGIN:VEVENT
DTSTAMP:20260424T014848Z
UID:1683835
DTSTART;VALUE=DATE:20260427
DTEND;VALUE=DATE:20260427
DESCRIPTION:Menü 1:\n- Gnocchi\, Sahnesoße\, Blattsalat\, Pudding\n  * Ei
 er\n  * Glutenhaltiges Getreide\n  * Milcheiweiß\n  * Milch (einschließl
 ich Laktose)\n  * mit Farbstoff\n  * mit Konservierungsstoff\n  * mit Gesc
 hmacksverstärker\n\nMenü 2:\n- Salatteller\, Veggi Crispytaler\, Brot / 
 Brötchen\, Pudding\n  * Eier\n  * Weizen\n  * Glutenhaltiges Getreide\n  
 * Milcheiweiß\n  * Sellerie\n  * mit Farbstoff\n  * mit Geschmacksverstä
 rker\n  * Milch (einschließlich Laktose)\n  * mit Konservierungsstoff\n\n
SUMMARY:Saarlouiser Gymnasium am Stadtgarten
END:VEVENT
BEGIN:VEVENT
DTSTAMP:20260424T014848Z
UID:1683836
DTSTART;VALUE=DATE:20260428
DTEND;VALUE=DATE:20260428
DESCRIPTION:Menü 1:\n- Seelachs\, Rosmarinkartoffeln\, Kräuterdip\, Joghu
 rt\n  * Eier\n  * Fisch\n  * Glutenhaltiges Getreide\n  * mit Konservierun
 gsstoff\n  * Milch (einschließlich Laktose)\n  * mit Geschmacksverstärke
 r\n\nMenü 2:\n- Falafel\, Rosmarinkartoffeln\, Kräuterdip\, Joghurt\n  *
  Glutenhaltiges Getreide\n  * Sellerie\n  * mit Farbstoff\n  * mit Konserv
 ierungsstoff\n  * mit Geschmacksverstärker\n  * Milch (einschließlich La
 ktose)\n\n
SUMMARY:Saarlouiser Gymnasium am Stadtgarten
END:VEVENT
BEGIN:VEVENT
DTSTAMP:20260424T014848Z
UID:1683837
DTSTART;VALUE=DATE:20260429
DTEND;VALUE=DATE:20260429
DESCRIPTION:Menü 1:\n- Tomatencremesuppe\, Reiseinlage\, Obst\n  * Milch (
 einschließlich Laktose)\n  * Milcheiweiß\n  * Sellerie\n\nMenü 2:\n- Sa
 latteller\, Falafel\, Brot / Brötchen\, Obst\n  * Eier\n  * Weizen\n  * G
 lutenhaltiges Getreide\n  * Sellerie\n  * mit Farbstoff\n  * mit Konservie
 rungsstoff\n  * mit Geschmacksverstärker\n\n
SUMMARY:Saarlouiser Gymnasium am Stadtgarten
END:VEVENT
BEGIN:VEVENT
DTSTAMP:20260424T014848Z
UID:1683838
DTSTART;VALUE=DATE:20260430
DTEND;VALUE=DATE:20260430
DESCRIPTION:Menü 1:\n- Bolognese\, Spaghetti\, Reibekäse\, Blattsalat\, P
 udding\n  * Sellerie\n  * mit Antioxidationsmittel\n  * mit Phosphat\n  * 
 Eier\n  * Milch (einschließlich Laktose)\n  * mit Farbstoff\n  * mit Kons
 ervierungsstoff\n  * mit Geschmacksverstärker\n\nMenü 2:\n- Spaghetti\, 
 Tomatensoße\, Reibekäse\, Blattsalat\, Pudding\n  * Eier\n  * Milch (ein
 schließlich Laktose)\n  * mit Farbstoff\n  * mit Konservierungsstoff\n  *
  mit Geschmacksverstärker\n\n
SUMMARY:Saarlouiser Gymnasium am Stadtgarten
END:VEVENT
END:VCALENDAR
