BEGIN:VCALENDAR
VERSION:2.0
PRODID:openmensa.org
CALSCALE:GREGORIAN
METHOD:PUBLISH
URL;VALUE=URI:https://openmensa.org/ical/1930/zinzendorfschulen.ics
BEGIN:VEVENT
DTSTAMP:20260424T023058Z
UID:1671265
DTSTART;VALUE=DATE:20260424
DTEND;VALUE=DATE:20260424
DESCRIPTION:Menü 1:\n- Foodsaver: Lieblingsgerichte der Woche\, Dessert\n 
  * Glutenhaltiges Getreide\n  * Eier\n  * Milch\n  * mit Konservierungssto
 ff\n  * mit Antioxidationsmittel\n  * mit Phosphat\n\nMenü 2:\n- Panierte
 s Fischfilet\, Kartoffeln\, Gemüse\n  * Glutenhaltiges Getreide\n  * Eier
 \n  * Fisch\n\nPasta-Buffet:\n- Kein Menü\n\nSalatteller:\n- Salat vom Bu
 ffet\n  * Senf\n  * mit Konservierungsstoff\n  * mit Antioxidationsmittel\
 n  * mit Süßungsmittel\n\nHauptgang:\n- Tagesessen\n\nFrühstück:\n- Fr
 ühstück\n\n
SUMMARY:Zinzendorfschulen
END:VEVENT
END:VCALENDAR
