BEGIN:VCALENDAR
VERSION:2.0
PRODID:openmensa.org
CALSCALE:GREGORIAN
METHOD:PUBLISH
URL;VALUE=URI:https://openmensa.org/ical/1929/rosenstadtschule.ics
BEGIN:VEVENT
DTSTAMP:20260424T022827Z
UID:1671086
DTSTART;VALUE=DATE:20260424
DTEND;VALUE=DATE:20260424
DESCRIPTION:Menü 1:\n- Gemischter Salat vom Buffet\, Nudelauflauf mit Thun
 fisch - Tomatensauce und Käse überbacken\, Obst\n  * Glutenhaltiges Getr
 eide\n  * Milch und Milcherzeugnisse (einschließlich Laktose)\n  * Fisch 
 und Fischerzeugnisse\n\nMenü 2:\n- Gemischter Salat vom Buffet\, Nudelauf
 lauf (Brokkoli und Blumenkohl) mit Béchamelsauce und Käse überbacken\, 
 Obst\n  * Glutenhaltiges Getreide\n  * Milch und Milcherzeugnisse (einschl
 ießlich Laktose)\n\nSalat:\n- Salatteller vom Büffet\, Obst\n\n
SUMMARY:Rosenstadtschule
END:VEVENT
BEGIN:VEVENT
DTSTAMP:20260424T022827Z
UID:1674918
DTSTART;VALUE=DATE:20260427
DTEND;VALUE=DATE:20260427
DESCRIPTION:Menü 1:\n- Gemischter Salat vom Buffet\, "Fastfood Woche" Hot 
 Dog mit Putenwürstchen zum selber belegen\, Wassereis\n  * Glutenhaltiges
  Getreide\n  * mit Farbstoff\n\nMenü 2:\n- Gemischter Salat vom Buffet\, 
 "FASTFOOD WOCHE" Hot Dog mit veggi Würstchen\, zum selber belegen\, Wasse
 reis\n  * Glutenhaltiges Getreide\n  * Soja und Sojaerzeugnisse\n  * mit F
 arbstoff\n\nSalat:\n- Salatteller vom Büffet\, Wassereis\n  * mit Farbsto
 ff\n\n
SUMMARY:Rosenstadtschule
END:VEVENT
BEGIN:VEVENT
DTSTAMP:20260424T022827Z
UID:1674919
DTSTART;VALUE=DATE:20260428
DTEND;VALUE=DATE:20260428
DESCRIPTION:Menü 1:\n- Gemischter Salat vom Buffet\, "FASTFOOD WOCHE" Dön
 er mit Hähnchenfleisch\, Rohkostsalaten und Joghurt - Knoblauchsauce\, T
 ürkischer Joghurtkuchen\n  * Glutenhaltiges Getreide\n  * Milch und Milch
 erzeugnisse (einschließlich Laktose)\n  * Eier und Eierzeugnisse\n\nMenü
  2:\n- Gemischter Salat vom Buffet\, "FASTFOOD WOCHE" Döner mit Falafel\,
  Rohkostsalaten und Joghurt - Knoblauchsauce\, Türkischer Joghurtkuchen\n
   * Glutenhaltiges Getreide\n  * Milch und Milcherzeugnisse (einschließli
 ch Laktose)\n  * Eier und Eierzeugnisse\n\nSalat:\n- Salatteller vom Büff
 et\, Türkischer Joghurtkuchen\n  * Glutenhaltiges Getreide\n  * Milch und
  Milcherzeugnisse (einschließlich Laktose)\n  * Eier und Eierzeugnisse\n\
 n
SUMMARY:Rosenstadtschule
END:VEVENT
BEGIN:VEVENT
DTSTAMP:20260424T022827Z
UID:1674920
DTSTART;VALUE=DATE:20260429
DTEND;VALUE=DATE:20260429
DESCRIPTION:Menü 1:\n- Gemischter Salat vom Buffet\, "FASTFOOD WOCHE" Chic
 ken Nuggets mit Gemüsereis und pikanter Tomatensauce\, Götterspeise (veg
 an) mit Vanillesauce\n  * Glutenhaltiges Getreide\n  * Milch und Milcherze
 ugnisse (einschließlich Laktose)\n  * Eier und Eierzeugnisse\n\nMenü 2:\
 n- Gemischter Salat vom Buffet\, "FASTFOOD WOCHE" Gemüsenuggets mit Gemü
 sereis und pikanter Tomatensauce\, Götterspeise (vegan) mit Vanillesauce\
 n  * Glutenhaltiges Getreide\n  * Milch und Milcherzeugnisse (einschließl
 ich Laktose)\n\nSalat:\n- Salatteller vom Büffet\, Götterspeise (vegan) 
 mit Vanillesauce\n  * Milch und Milcherzeugnisse (einschließlich Laktose)
 \n\n
SUMMARY:Rosenstadtschule
END:VEVENT
BEGIN:VEVENT
DTSTAMP:20260424T022827Z
UID:1674921
DTSTART;VALUE=DATE:20260430
DTEND;VALUE=DATE:20260430
DESCRIPTION:Menü 1:\n- Gemischter Salat vom Buffet\, "FASTFOOD WOCHE" Chic
 ken Burger zum selber belegen mit Röstkartoffeln\, New York Cheesecake\n 
  * Glutenhaltiges Getreide\n  * Milch und Milcherzeugnisse (einschließlic
 h Laktose)\n  * Eier und Eierzeugnisse\n\nMenü 2:\n- Gemischter Salat vom
  Buffet\, "FASTFOOD WOCHE" veggi Burger zum selber belegen\, dazu Röstkar
 toffeln\, New York Cheesecake\n  * Glutenhaltiges Getreide\n  * Milch und 
 Milcherzeugnisse (einschließlich Laktose)\n  * Soja und Sojaerzeugnisse\n
   * Eier und Eierzeugnisse\n\nSalat:\n- Salatteller vom Büffet\, New York
  Cheesecake\n  * Glutenhaltiges Getreide\n  * Milch und Milcherzeugnisse (
 einschließlich Laktose)\n  * Eier und Eierzeugnisse\n\n
SUMMARY:Rosenstadtschule
END:VEVENT
END:VCALENDAR
