BEGIN:VCALENDAR
VERSION:2.0
PRODID:openmensa.org
CALSCALE:GREGORIAN
METHOD:PUBLISH
URL;VALUE=URI:https://openmensa.org/ical/1928/igs-linden.ics
BEGIN:VEVENT
DTSTAMP:20260424T024856Z
UID:1671529
DTSTART;VALUE=DATE:20260424
DTEND;VALUE=DATE:20260424
DESCRIPTION:Classic:\n- Tagesessen\n\nClassic-Variante ohne Schwein:\n- Tag
 esessen\n\nVegetarisch:\n- Tagesessen\n\nSalat:\n- Tagesessen\n\nDessert:\
 n- Tagesessen\n\n
SUMMARY:IGS Linden
END:VEVENT
BEGIN:VEVENT
DTSTAMP:20260424T024856Z
UID:1675280
DTSTART;VALUE=DATE:20260427
DTEND;VALUE=DATE:20260427
DESCRIPTION:Classic:\n- Tagesessen\n\nClassic-Variante ohne Schwein:\n- Tag
 esessen\n\nVegetarisch:\n- Tagesessen\n\nSalat:\n- Tagesessen\n\nDessert:\
 n- Tagesessen\n\n
SUMMARY:IGS Linden
END:VEVENT
BEGIN:VEVENT
DTSTAMP:20260424T024856Z
UID:1675281
DTSTART;VALUE=DATE:20260428
DTEND;VALUE=DATE:20260428
DESCRIPTION:Classic:\n- Tagesessen\n\nClassic-Variante ohne Schwein:\n- Tag
 esessen\n\nVegetarisch:\n- Tagesessen\n\nSalat:\n- Tagesessen\n\nDessert:\
 n- Tagesessen\n\n
SUMMARY:IGS Linden
END:VEVENT
BEGIN:VEVENT
DTSTAMP:20260424T024856Z
UID:1675282
DTSTART;VALUE=DATE:20260429
DTEND;VALUE=DATE:20260429
DESCRIPTION:Classic:\n- Tagesessen\n\nClassic-Variante ohne Schwein:\n- Tag
 esessen\n\nVegetarisch:\n- Tagesessen\n\nSalat:\n- Tagesessen\n\nDessert:\
 n- Tagesessen\n\n
SUMMARY:IGS Linden
END:VEVENT
BEGIN:VEVENT
DTSTAMP:20260424T024856Z
UID:1675283
DTSTART;VALUE=DATE:20260430
DTEND;VALUE=DATE:20260430
DESCRIPTION:Classic:\n- Tagesessen\n\nClassic-Variante ohne Schwein:\n- Tag
 esessen\n\nVegetarisch:\n- Tagesessen\n\nSalat:\n- Tagesessen\n\nDessert:\
 n- Tagesessen\n\n
SUMMARY:IGS Linden
END:VEVENT
END:VCALENDAR
