BEGIN:VCALENDAR
VERSION:2.0
PRODID:openmensa.org
CALSCALE:GREGORIAN
METHOD:PUBLISH
URL;VALUE=URI:https://openmensa.org/ical/1927/schulgenuss-by-matthias-claud
 ius-schule.ics
BEGIN:VEVENT
DTSTAMP:20260424T021843Z
UID:1675083
DTSTART;VALUE=DATE:20260424
DTEND;VALUE=DATE:20260424
DESCRIPTION:Menü 1:\n- Burger mit Sonnenblumenkernpatty\, Salat\, Tomate\,
  Gurke\, Ketchup\, Burger-Brötchen\, Dessert: Pudding des Tages\n  * G - 
 Glutenhaltiges Getreide\n  * G1 - Weizen\n  * G4 - Hafer\n  * Sel - Seller
 ie\n  * Snf - Senf\n  * Soj - Soja\n  * 03 - mit Antioxidationsmittel\n  *
  G3 - Gerste\n  * Ses - Sesamsamen\n  * M - Milch (einschließlich Laktose
 )\n\nMenü 2:\n- Makkaroni\, Rinderhackfleisch-Käsesauce\, Möhren-Apfel-
 Rohkost\, Dessert: Pudding des Tages\n  * G - Glutenhaltiges Getreide\n  *
  G1 - Weizen\n  * M - Milch (einschließlich Laktose)\n  * 03 - mit Antiox
 idationsmittel\n\n
SUMMARY:SCHULGENUSS by matthias-claudius-schule
END:VEVENT
BEGIN:VEVENT
DTSTAMP:20260424T021843Z
UID:1679799
DTSTART;VALUE=DATE:20260427
DTEND;VALUE=DATE:20260427
DESCRIPTION:Menü 1:\n- Tagesgericht 1 vegetarisch (Platzhalter - Gericht f
 olgt noch)\n\nMenü 2:\n- Tagesgericht 2 (Platzhalter - Gericht folgt noch
 )\n\n
SUMMARY:SCHULGENUSS by matthias-claudius-schule
END:VEVENT
BEGIN:VEVENT
DTSTAMP:20260424T021843Z
UID:1679800
DTSTART;VALUE=DATE:20260428
DTEND;VALUE=DATE:20260428
DESCRIPTION:Menü 1:\n- Tagesgericht 1 vegetarisch (Platzhalter - Gericht f
 olgt noch)\n\nMenü 2:\n- Tagesgericht 2 (Platzhalter - Gericht folgt noch
 )\n\n
SUMMARY:SCHULGENUSS by matthias-claudius-schule
END:VEVENT
BEGIN:VEVENT
DTSTAMP:20260424T021843Z
UID:1679801
DTSTART;VALUE=DATE:20260429
DTEND;VALUE=DATE:20260429
DESCRIPTION:Menü 1:\n- Tagesgericht 1 vegetarisch (Platzhalter - Gericht f
 olgt noch)\n\nMenü 2:\n- Tagesgericht 2 (Platzhalter - Gericht folgt noch
 )\n\n
SUMMARY:SCHULGENUSS by matthias-claudius-schule
END:VEVENT
BEGIN:VEVENT
DTSTAMP:20260424T021843Z
UID:1679802
DTSTART;VALUE=DATE:20260430
DTEND;VALUE=DATE:20260430
DESCRIPTION:Menü 1:\n- Tagesgericht 1 vegetarisch (Platzhalter - Gericht f
 olgt noch)\n\nMenü 2:\n- Tagesgericht 2 (Platzhalter - Gericht folgt noch
 )\n\n
SUMMARY:SCHULGENUSS by matthias-claudius-schule
END:VEVENT
END:VCALENDAR
