BEGIN:VCALENDAR
VERSION:2.0
PRODID:openmensa.org
CALSCALE:GREGORIAN
METHOD:PUBLISH
URL;VALUE=URI:https://openmensa.org/ical/1926/freie-waldorfschule-magdeburg
 .ics
BEGIN:VEVENT
DTSTAMP:20260424T023217Z
UID:1683460
DTSTART;VALUE=DATE:20260424
DTEND;VALUE=DATE:20260424
DESCRIPTION:Tagesessen:\n- Salatbuffet\, Kartoffelauflauf nach griechischer
  Art mit Fetakäse\, Obst\n  * Milch (einschließlich Laktose)\n  * Milche
 iweiß\n\n
SUMMARY:Freie Waldorfschule Magdeburg
END:VEVENT
END:VCALENDAR
