BEGIN:VCALENDAR
VERSION:2.0
PRODID:openmensa.org
CALSCALE:GREGORIAN
METHOD:PUBLISH
URL;VALUE=URI:https://openmensa.org/ical/1925/grundschule-kluftern.ics
BEGIN:VEVENT
DTSTAMP:20260424T022903Z
UID:1671482
DTSTART;VALUE=DATE:20260424
DTEND;VALUE=DATE:20260424
DESCRIPTION:Menü 1 groß:\n- Menü 1 groß\n\nMenü 1 klein:\n- Menü 1 kl
 ein\n\nMenü 2 groß:\n- Menü 2 groß\n\nMenü 2 klein:\n- Menü 2 klein\
 n\nMenü 3 groß:\n- Menü 3 groß\n\nMenü 3 klein:\n- Menü 3 klein\n\n
SUMMARY:Grundschule Kluftern
END:VEVENT
BEGIN:VEVENT
DTSTAMP:20260424T022903Z
UID:1675263
DTSTART;VALUE=DATE:20260427
DTEND;VALUE=DATE:20260427
DESCRIPTION:Menü 1 groß:\n- Menü 1 groß\n\nMenü 1 klein:\n- Menü 1 kl
 ein\n\nMenü 2 groß:\n- Menü 2 groß\n\nMenü 2 klein:\n- Menü 2 klein\
 n\nMenü 3 groß:\n- Menü 3 groß\n\nMenü 3 klein:\n- Menü 3 klein\n\n
SUMMARY:Grundschule Kluftern
END:VEVENT
BEGIN:VEVENT
DTSTAMP:20260424T022903Z
UID:1675264
DTSTART;VALUE=DATE:20260428
DTEND;VALUE=DATE:20260428
DESCRIPTION:Menü 1 groß:\n- Menü 1 groß\n\nMenü 1 klein:\n- Menü 1 kl
 ein\n\nMenü 2 groß:\n- Menü 2 groß\n\nMenü 2 klein:\n- Menü 2 klein\
 n\nMenü 3 groß:\n- Menü 3 groß\n\nMenü 3 klein:\n- Menü 3 klein\n\n
SUMMARY:Grundschule Kluftern
END:VEVENT
BEGIN:VEVENT
DTSTAMP:20260424T022903Z
UID:1675265
DTSTART;VALUE=DATE:20260429
DTEND;VALUE=DATE:20260429
DESCRIPTION:Menü 1 groß:\n- Menü 1 groß\n\nMenü 1 klein:\n- Menü 1 kl
 ein\n\nMenü 2 groß:\n- Menü 2 groß\n\nMenü 2 klein:\n- Menü 2 klein\
 n\nMenü 3 groß:\n- Menü 3 groß\n\nMenü 3 klein:\n- Menü 3 klein\n\n
SUMMARY:Grundschule Kluftern
END:VEVENT
BEGIN:VEVENT
DTSTAMP:20260424T022903Z
UID:1675266
DTSTART;VALUE=DATE:20260430
DTEND;VALUE=DATE:20260430
DESCRIPTION:Menü 1 groß:\n- Menü 1 groß\n\nMenü 1 klein:\n- Menü 1 kl
 ein\n\nMenü 2 groß:\n- Menü 2 groß\n\nMenü 2 klein:\n- Menü 2 klein\
 n\nMenü 3 groß:\n- Menü 3 groß\n\nMenü 3 klein:\n- Menü 3 klein\n\n
SUMMARY:Grundschule Kluftern
END:VEVENT
END:VCALENDAR
