BEGIN:VCALENDAR
VERSION:2.0
PRODID:openmensa.org
CALSCALE:GREGORIAN
METHOD:PUBLISH
URL;VALUE=URI:https://openmensa.org/ical/1900/igs-list.ics
BEGIN:VEVENT
DTSTAMP:20260424T020134Z
UID:1675052
DTSTART;VALUE=DATE:20260427
DTEND;VALUE=DATE:20260427
DESCRIPTION:Vollwertkost_1 Vegetarisch:\n- Blumenkohltaler mit Tomatensoße
  und Salzkartoffeln (V\,a\,a.1\,g\,c)\n\nVollwertkost_2:\n- paniertes Seel
 achsfilet mit Rahmerbsen und Kartoffelpürree (F\,a\,a.1\,g\,d)\n\nVollwer
 tkost_3:\n- gebratenes Putensteak mit Champignonsoße\, buntes Gemüse und
  Kartoffelstampf (G\,a\,a.1\,g)\n\nSalat:\n- Salatteller\n  * mit Farbstof
 f\n  * mit Konservierungsstoff\n  * mit Antioxidationsmittel\n  * mit Phos
 phat\n  * Geschwärzt\n\nMüsli:\n- Müsli\n  * enthält Erdnüsse\n  * en
 thält glutenhaltiges Getreide\n  * enthält Gerste\n  * enthält Hafer\n 
  * enthält Dinkel\n  * enthält Roggen\n  * enthält Mandeln\n  * enthäl
 t Kaschunüsse\n  * enthält Haselnüsse\n  * enthält Pecannüsse\n  * en
 thält Paranüsse\n  * enthält Walnüsse\n  * enthält Weizen\n  * mit ka
 kaohaltiger Fettglasur (bei Backwaren)\n\n
SUMMARY:IGS List
END:VEVENT
BEGIN:VEVENT
DTSTAMP:20260424T020134Z
UID:1675053
DTSTART;VALUE=DATE:20260428
DTEND;VALUE=DATE:20260428
DESCRIPTION:Vollwertkost_1 Vegetarisch:\n- Gemüsenuggets mit Kräutersoße
 \, Möhren und Salzkartoffeln (V\,a\,a.1\,g)\n\nVollwertkost_2:\n- Currywu
 rst mit Curryketchupsoße dazu Pellkartoffelsalat (23\, aw\, uw\, am\, bm\
 , au)\n\nVollwertkost_3:\n- pikantes Rinderhacksteak mit hausgemachter BBQ
 -Sauce scharfen Maisgemüse und Erbsen-Reis\n  * enthält Eier\n  * enthä
 lt Milch\n  * enthält glutenhaltiges Getreide\n  * enthält Weizen\n  * m
 it Farbstoff\n  * Coffeinhaltig\n  * Rindfleisch\n\nSalat:\n- Salatteller\
 n  * mit Farbstoff\n  * mit Konservierungsstoff\n  * mit Antioxidationsmit
 tel\n  * mit Phosphat\n  * Geschwärzt\n\nMüsli:\n- Müsli\n  * enthält 
 Erdnüsse\n  * enthält glutenhaltiges Getreide\n  * enthält Gerste\n  * 
 enthält Hafer\n  * enthält Dinkel\n  * enthält Roggen\n  * enthält Man
 deln\n  * enthält Kaschunüsse\n  * enthält Haselnüsse\n  * enthält Pe
 cannüsse\n  * enthält Paranüsse\n  * enthält Walnüsse\n  * enthält W
 eizen\n  * mit kakaohaltiger Fettglasur (bei Backwaren)\n\n
SUMMARY:IGS List
END:VEVENT
BEGIN:VEVENT
DTSTAMP:20260424T020134Z
UID:1675054
DTSTART;VALUE=DATE:20260429
DTEND;VALUE=DATE:20260429
DESCRIPTION:Vollwertkost_1 Vegetarisch:\n- Grießbrei mit ZuckerZimt & Apfe
 lkompott (V)\n\nVollwertkost_2:\n- Reis-Balkan-Pfanne mit kleinen Gemüsef
 rikadellen (V\,g)\n\nVollwertkost_3:\n- Geflügel Köttbullar mit Erbsen\,
  Kartoffelbrei und Rahmsoße (G\, 23\, aw\, uw\, ae\, am\, bc\, au)\n\nSal
 at:\n- Salatteller\n  * mit Farbstoff\n  * mit Konservierungsstoff\n  * mi
 t Antioxidationsmittel\n  * mit Phosphat\n  * Geschwärzt\n\nMüsli:\n- M
 üsli\n  * enthält Erdnüsse\n  * enthält glutenhaltiges Getreide\n  * e
 nthält Gerste\n  * enthält Hafer\n  * enthält Dinkel\n  * enthält Rogg
 en\n  * enthält Mandeln\n  * enthält Kaschunüsse\n  * enthält Haselnü
 sse\n  * enthält Pecannüsse\n  * enthält Paranüsse\n  * enthält Waln
 üsse\n  * enthält Weizen\n  * mit kakaohaltiger Fettglasur (bei Backware
 n)\n\n
SUMMARY:IGS List
END:VEVENT
BEGIN:VEVENT
DTSTAMP:20260424T020134Z
UID:1675055
DTSTART;VALUE=DATE:20260430
DTEND;VALUE=DATE:20260430
DESCRIPTION:Vollwertkost_1 Vegetarisch:\n- "Vegetarische Moussaka mit Auber
 gine und Tomate im Ofen mit Käse überbacken" (V\,a\,a.1\,g)\n\nVollwertk
 ost_2:\n- Rindfleischbolognese mit Penne und Reibekäse (R\,a\,a.1\,g)\n\n
 Vollwertkost_3:\n- Rindergeschnetzeltes mit Spätzle & Karotten (R\,a\,a.1
 \,g)\n\nSalat:\n- Salatteller\n  * mit Farbstoff\n  * mit Konservierungsst
 off\n  * mit Antioxidationsmittel\n  * mit Phosphat\n  * Geschwärzt\n\nM
 üsli:\n- Müsli\n  * enthält Erdnüsse\n  * enthält glutenhaltiges Getr
 eide\n  * enthält Gerste\n  * enthält Hafer\n  * enthält Dinkel\n  * en
 thält Roggen\n  * enthält Mandeln\n  * enthält Kaschunüsse\n  * enthä
 lt Haselnüsse\n  * enthält Pecannüsse\n  * enthält Paranüsse\n  * ent
 hält Walnüsse\n  * enthält Weizen\n  * mit kakaohaltiger Fettglasur (be
 i Backwaren)\n\n
SUMMARY:IGS List
END:VEVENT
END:VCALENDAR
