BEGIN:VCALENDAR
VERSION:2.0
PRODID:openmensa.org
CALSCALE:GREGORIAN
METHOD:PUBLISH
URL;VALUE=URI:https://openmensa.org/ical/1899/mensaverein-renningen.ics
BEGIN:VEVENT
DTSTAMP:20260424T025412Z
UID:1675042
DTSTART;VALUE=DATE:20260424
DTEND;VALUE=DATE:20260424
DESCRIPTION:Hauptmenü:\n- Tagesessen\, Buchung für Ganztagesbetreuung\n\n
SUMMARY:Mensaverein Renningen
END:VEVENT
BEGIN:VEVENT
DTSTAMP:20260424T025412Z
UID:1679770
DTSTART;VALUE=DATE:20260427
DTEND;VALUE=DATE:20260427
DESCRIPTION:Hauptmenü:\n- Fischfilet mit Salzkartoffeln\n\nHauptmenü vege
 tarisch:\n- Ananas-Pakchoicurry mit Salzkartoffeln\n\nSalatteller:\n- Sala
 tteller\n\n
SUMMARY:Mensaverein Renningen
END:VEVENT
BEGIN:VEVENT
DTSTAMP:20260424T025412Z
UID:1679771
DTSTART;VALUE=DATE:20260428
DTEND;VALUE=DATE:20260428
DESCRIPTION:Hauptmenü:\n- Bauernrösti pikant oder mit Apfelmus\n\nHauptme
 nü vegetarisch:\n- Bauernrösti pikant oder mit Apfelmus\n\nSalatteller:\
 n- Salatteller\n\n
SUMMARY:Mensaverein Renningen
END:VEVENT
BEGIN:VEVENT
DTSTAMP:20260424T025412Z
UID:1679772
DTSTART;VALUE=DATE:20260429
DTEND;VALUE=DATE:20260429
DESCRIPTION:Hauptmenü:\n- Geflügel-Filet mit Safranreis und süßsaurer S
 auce\n\nHauptmenü vegetarisch:\n- Gemüsespieß mit Safranreis und süßs
 aurer Sauce\n\nSalatteller:\n- Salatteller\n\n
SUMMARY:Mensaverein Renningen
END:VEVENT
BEGIN:VEVENT
DTSTAMP:20260424T025412Z
UID:1679773
DTSTART;VALUE=DATE:20260430
DTEND;VALUE=DATE:20260430
DESCRIPTION:Hauptmenü:\n- Gyros mit Zaziki und Fladenbrot\n\nHauptmenü ve
 getarisch:\n- Vegetarisches Gyros mit Zaziki und Fladenbrot\n\nSalatteller
 :\n- Salatteller\n\n
SUMMARY:Mensaverein Renningen
END:VEVENT
END:VCALENDAR
