BEGIN:VCALENDAR
VERSION:2.0
PRODID:openmensa.org
CALSCALE:GREGORIAN
METHOD:PUBLISH
URL;VALUE=URI:https://openmensa.org/ical/1898/nicolaus-august-otto-schule.i
 cs
BEGIN:VEVENT
DTSTAMP:20260424T021718Z
UID:1675048
DTSTART;VALUE=DATE:20260427
DTEND;VALUE=DATE:20260427
DESCRIPTION:Schule Klassiker:\n- Mexikanischer Bohneneintopf\, Mettwurst\, 
 Brötchen\n  * Ei\n  * Sulfit\n  * mit Konservierungsstoff\n  * geschwefel
 t\n  * Gluten\n  * Weizen\n  * Dinkel\n  * Kamut\n\nSchule Leichte Vollkos
 t:\n- gebratene Nudeln mit Hähnchen\, Chinagemüse\, und Ei\n  * Gluten\n
   * Weizen\n  * Ei\n  * Soja\n  * mit Konservierungsstoff\n\nSchule Vegeta
 risch:\n- Blumenkohl Käse Medaillon\, Käsesauce\, Erbsen-Karottengemüse
 \, Kartoffelgratin\n  * Gluten\n  * Weizen\n  * Milch\n  * Ei\n\nSchule De
 ssert:\n- Fruchtjoghurtbecher\n  * Milch\n\n
SUMMARY:Nicolaus-August-Otto-Schule
END:VEVENT
BEGIN:VEVENT
DTSTAMP:20260424T021718Z
UID:1675049
DTSTART;VALUE=DATE:20260428
DTEND;VALUE=DATE:20260428
DESCRIPTION:Schule Klassiker:\n- gefüllte Paprika (Hackfleischfüllung)\, 
 Bratensauce\, Buntes Rahmgemüse\, Salzkartoffeln\n  * Gluten\n  * Weizen\
 n  * Senf\n  * Milch\n\nSchule Leichte Vollkost:\n- Seelachsfilet mit Tom-
 Kräuter\, Buntes Rahmgemüse\, Salzkartoffeln\n  * Fisch\n  * Milch\n\nSc
 hule Vegetarisch:\n- Mediterrane Reispfanne mit Gemüse und Fetakäse\n  *
  Milch\n\nSchule Dessert:\n- Obst (Nach Marktlage)\n\n
SUMMARY:Nicolaus-August-Otto-Schule
END:VEVENT
BEGIN:VEVENT
DTSTAMP:20260424T021718Z
UID:1675050
DTSTART;VALUE=DATE:20260429
DTEND;VALUE=DATE:20260429
DESCRIPTION:Schule Klassiker:\n- Hühnerfrikasse mit Spargel und Erbsen\, R
 eis\, Blattsalate Creme-Kräuterdressing\n  * Gluten\n  * Gerste\n  * Milc
 h\n  * Sellerie\n  * Ei\n  * Senf\n  * Sulfit\n  * geschwefelt\n\nSchule L
 eichte Vollkost:\n- Kürbis-Rosenkohl-Eintopf\, Rindswurst\, Vollkornbröt
 chen\n  * Ei\n  * Sulfit\n  * geschwefelt\n  * mit Konservierungsstoff\n  
 * mit Phospat\n  * Gluten\n  * Weizen\n  * Roggen\n  * Gerste\n\nSchule Ve
 getarisch:\n- Linsen-Gemüse-Lasagne\, Blattsalate Creme-Kräuterdressing\
 n  * Gluten\n  * Weizen\n  * Milch\n  * Sellerie\n  * Ei\n  * Senf\n  * Su
 lfit\n  * geschwefelt\n\nSchule Dessert:\n- Obstsalat\n  * Gluten\n  * Ei\
 n\n
SUMMARY:Nicolaus-August-Otto-Schule
END:VEVENT
BEGIN:VEVENT
DTSTAMP:20260424T021718Z
UID:1675051
DTSTART;VALUE=DATE:20260430
DTEND;VALUE=DATE:20260430
DESCRIPTION:Schule Klassiker:\n- Spaghetti\, Sauce Carbonara\, Broccoli mit
  Buttersauce\n  * Gluten\n  * Weizen\n  * Ei\n  * Milch\n  * mit Konservie
 rungsstoff\n  * Sellerie\n\nSchule Leichte Vollkost:\n- Hähnchen Brust pa
 niert\, Rahmbratensoße\, Broccoli mit Buttersauce\, Maccaroni\n  * Gluten
 \n  * Weizen\n  * Milch\n  * Ei\n  * Sellerie\n\nSchule Vegetarisch:\n- Re
 ibekuchen\, mit Apfelmus\n  * Gluten\n  * Weizen\n  * Ei\n\nSchule Dessert
 :\n- Banane\n\n
SUMMARY:Nicolaus-August-Otto-Schule
END:VEVENT
END:VCALENDAR
