BEGIN:VCALENDAR
VERSION:2.0
PRODID:openmensa.org
CALSCALE:GREGORIAN
METHOD:PUBLISH
URL;VALUE=URI:https://openmensa.org/ical/1896/bildungshaus-berg.ics
BEGIN:VEVENT
DTSTAMP:20260424T021627Z
UID:1671240
DTSTART;VALUE=DATE:20260424
DTEND;VALUE=DATE:20260424
DESCRIPTION:Menü 1 groß:\n- großes Tagesmenü\n\nMenü 1 klein:\n- klein
 es Tagesmenü\n\n
SUMMARY:Bildungshaus Berg
END:VEVENT
BEGIN:VEVENT
DTSTAMP:20260424T021627Z
UID:1675023
DTSTART;VALUE=DATE:20260427
DTEND;VALUE=DATE:20260427
DESCRIPTION:Menü 1 groß:\n- großes Tagesmenü\n\nMenü 1 klein:\n- klein
 es Tagesmenü\n\n
SUMMARY:Bildungshaus Berg
END:VEVENT
BEGIN:VEVENT
DTSTAMP:20260424T021627Z
UID:1675024
DTSTART;VALUE=DATE:20260428
DTEND;VALUE=DATE:20260428
DESCRIPTION:Menü 1 groß:\n- großes Tagesmenü\n\nMenü 1 klein:\n- klein
 es Tagesmenü\n\n
SUMMARY:Bildungshaus Berg
END:VEVENT
BEGIN:VEVENT
DTSTAMP:20260424T021627Z
UID:1675025
DTSTART;VALUE=DATE:20260429
DTEND;VALUE=DATE:20260429
DESCRIPTION:Menü 1 groß:\n- großes Tagesmenü\n\nMenü 1 klein:\n- klein
 es Tagesmenü\n\n
SUMMARY:Bildungshaus Berg
END:VEVENT
BEGIN:VEVENT
DTSTAMP:20260424T021627Z
UID:1675026
DTSTART;VALUE=DATE:20260430
DTEND;VALUE=DATE:20260430
DESCRIPTION:Menü 1 groß:\n- großes Tagesmenü\n\nMenü 1 klein:\n- klein
 es Tagesmenü\n\n
SUMMARY:Bildungshaus Berg
END:VEVENT
END:VCALENDAR
