BEGIN:VCALENDAR
VERSION:2.0
PRODID:openmensa.org
CALSCALE:GREGORIAN
METHOD:PUBLISH
URL;VALUE=URI:https://openmensa.org/ical/1895/grundschule-ailingen.ics
BEGIN:VEVENT
DTSTAMP:20260424T023020Z
UID:1671245
DTSTART;VALUE=DATE:20260424
DTEND;VALUE=DATE:20260424
DESCRIPTION:Menü 1 groß:\n- Menü 1 groß\n\nMenü 1 klein:\n- Menü 1 kl
 ein\n\nMenü 2 groß:\n- Menü 2 groß\n\nMenü 2 klein:\n- Menü 2 klein\
 n\nMenü 3 groß:\n- Menü 3 groß\n\nMenü 3 klein:\n- Menü 3 klein\n\n
SUMMARY:Grundschule Ailingen
END:VEVENT
BEGIN:VEVENT
DTSTAMP:20260424T023020Z
UID:1675028
DTSTART;VALUE=DATE:20260427
DTEND;VALUE=DATE:20260427
DESCRIPTION:Menü 1 groß:\n- Menü 1 groß\n\nMenü 1 klein:\n- Menü 1 kl
 ein\n\nMenü 2 groß:\n- Menü 2 groß\n\nMenü 2 klein:\n- Menü 2 klein\
 n\nMenü 3 groß:\n- Menü 3 groß\n\nMenü 3 klein:\n- Menü 3 klein\n\n
SUMMARY:Grundschule Ailingen
END:VEVENT
BEGIN:VEVENT
DTSTAMP:20260424T023020Z
UID:1675029
DTSTART;VALUE=DATE:20260428
DTEND;VALUE=DATE:20260428
DESCRIPTION:Menü 1 groß:\n- Menü 1 groß\n\nMenü 1 klein:\n- Menü 1 kl
 ein\n\nMenü 2 groß:\n- Menü 2 groß\n\nMenü 2 klein:\n- Menü 2 klein\
 n\nMenü 3 groß:\n- kein Menü\n\nMenü 3 klein:\n- Menü 3 klein\n\n
SUMMARY:Grundschule Ailingen
END:VEVENT
BEGIN:VEVENT
DTSTAMP:20260424T023020Z
UID:1675030
DTSTART;VALUE=DATE:20260429
DTEND;VALUE=DATE:20260429
DESCRIPTION:Menü 1 groß:\n- Burger vom Seelachsfilet im Kartoffelmantel m
 it Pflücksalaten\, Tomaten\, Avocado-Dip\, Salat und Obst\n\nMenü 1 klei
 n:\n- Burger vom Seelachsfilet im Kartoffelmantel mit Pflücksalaten\, Tom
 aten\, Avocado-Dip\, Salat oder Obst\n\nMenü 2 groß:\n- Fagottini "Pesto
  Rosso"\, Reibekäse\, Salat und Obst\n\nMenü 2 klein:\n- Fagottini "Pest
 o Rosso"\, Reibekäse\, Salat und Obst\n\nMenü 3 groß:\n- Kartoffelecken
  mit Ketchup Dip\, Salat und Obst\n\nMenü 3 klein:\n- Kartoffelecken mit 
 Ketchup Dip\, Salat oder Obst\n\n
SUMMARY:Grundschule Ailingen
END:VEVENT
BEGIN:VEVENT
DTSTAMP:20260424T023020Z
UID:1675031
DTSTART;VALUE=DATE:20260430
DTEND;VALUE=DATE:20260430
DESCRIPTION:Menü 1 groß:\n- Rinderhacksteak an Barbecue Soße\, Teigwaren
 \, Salat oder Kirschquark\n\nMenü 1 klein:\n- Rinderhacksteak an Barbecue
  Soße\, Teigwaren\, Salat oder Kirschquark\n\nMenü 2 groß:\n- American 
 Pancakes mit Apfelmus\, Kartoffelsuppe oder Salat\n\nMenü 2 klein:\n- Ame
 rican Pancakes mit Apfelmus\, Kartoffelsuppe oder Salat\n\nMenü 3 groß:\
 n- Teigwaren mit Barbecue Soße\, Kartoffelsuppe und /oder Salat und /oder
  Kirschquark\n\nMenü 3 klein:\n- Teigwaren mit Barbecue Soße\, Kartoffel
 suppe und /oder Salat und /oder Kirschquark\n\n
SUMMARY:Grundschule Ailingen
END:VEVENT
END:VCALENDAR
