BEGIN:VCALENDAR
VERSION:2.0
PRODID:openmensa.org
CALSCALE:GREGORIAN
METHOD:PUBLISH
URL;VALUE=URI:https://openmensa.org/ical/1892/schule-an-der-muehle.ics
BEGIN:VEVENT
DTSTAMP:20260424T022703Z
UID:1683578
DTSTART;VALUE=DATE:20260427
DTEND;VALUE=DATE:20260427
DESCRIPTION:Menü 1:\n- Eintopf-Pichelsteiner Eintopf\, Brötchen-Baguetteb
 rötchen\, Muffin\n  * Sellerie\n  * Senf\n  * Gluten\n  * Weizen\n  * Rog
 gen\n  * Lupine\n  * kann Spuren von Soja enthalten\n  * kann Spuren von S
 chalenfrüchte enthalten\n  * kann Spuren von Sesam enthalten\n  * Eier\n 
  * Milch einschl. Laktose\n\nMenü 2:\n- Suppe-Süßkartoffelsuppe\, Bröt
 chen-Baguettebrötchen\, Muffin\n  * Eier\n  * kann Spuren von Ei enthalte
 n\n  * Milch einschl. Laktose\n  * Gluten\n  * Weizen\n  * Roggen\n  * Lup
 ine\n  * kann Spuren von Soja enthalten\n  * kann Spuren von Schalenfrüch
 te enthalten\n  * kann Spuren von Sesam enthalten\n\n
SUMMARY:Schule an der Mühle
END:VEVENT
BEGIN:VEVENT
DTSTAMP:20260424T022703Z
UID:1683579
DTSTART;VALUE=DATE:20260428
DTEND;VALUE=DATE:20260428
DESCRIPTION:Menü 1:\n- Kartoffel-Gemüse-Gratin\, Hähnchenkeule\, gegrill
 t\, Salat\, Joghurt\n  * Gluten\n  * Weizen\n  * Milch einschl. Laktose\n 
  * kann Spuren von Ei enthalten\n  * kann Spuren von Gluten enthalten\n  *
  Sellerie\n  * kann Spuren von Senf enthalten\n\nMenü 2:\n- Pizza "Marghe
 rita"\, Salat\, Joghurt\n  * Gluten\n  * Weizen\n  * Milch einschl. Laktos
 e\n  * kann Spuren von Ei enthalten\n  * kann Spuren von Gluten enthalten\
 n  * Sellerie\n  * kann Spuren von Senf enthalten\n\n
SUMMARY:Schule an der Mühle
END:VEVENT
BEGIN:VEVENT
DTSTAMP:20260424T022703Z
UID:1683580
DTSTART;VALUE=DATE:20260429
DTEND;VALUE=DATE:20260429
DESCRIPTION:Menü 1:\n- Fisch-Frikadellen\, gebacken\, Reis\, Soße-Dillrah
 msoße\, Salat\, Obst\n  * Fisch\n  * Gluten\n  * Weizen\n  * Eier\n  * Mi
 lch einschl. Laktose\n  * Sellerie\n  * kann Spuren von Ei enthalten\n  * 
 kann Spuren von Gluten enthalten\n  * kann Spuren von Senf enthalten\n\nMe
 nü 2:\n- Gemüsecurry\, Reis\, Salat\, Obst\n  * Senf\n  * kann Spuren vo
 n Ei enthalten\n  * kann Spuren von Gluten enthalten\n  * Sellerie\n  * ka
 nn Spuren von Senf enthalten\n\n
SUMMARY:Schule an der Mühle
END:VEVENT
END:VCALENDAR
