BEGIN:VCALENDAR
VERSION:2.0
PRODID:openmensa.org
CALSCALE:GREGORIAN
METHOD:PUBLISH
URL;VALUE=URI:https://openmensa.org/ical/1891/schule-am-wiesendamm.ics
BEGIN:VEVENT
DTSTAMP:20260424T021718Z
UID:1679760
DTSTART;VALUE=DATE:20260424
DTEND;VALUE=DATE:20260424
DESCRIPTION:Menü 1:\n- Tortellini-Eintopf mit buntem Gemüse und Fleischb
 ällchen\, dazu Mehrkorn-Baguette\, Obst\n  * Eier\n  * Gluten\n  * Weizen
 \n  * Roggen\n  * Gerste\n  * Hafer\n  * Milch einschl. Laktose\n\nMenü 2
 :\n- Rote Linsensuppe mit Baguette\, Obst\n  * Gluten\n  * Weizen\n  * Rog
 gen\n  * Gerste\n  * Hafer\n\n
SUMMARY:Schule am Wiesendamm
END:VEVENT
BEGIN:VEVENT
DTSTAMP:20260424T021718Z
UID:1683581
DTSTART;VALUE=DATE:20260427
DTEND;VALUE=DATE:20260427
DESCRIPTION:Menü 1:\n- Geflügelbratwurst mit Sauce\, Kartoffeln und Misch
 gemüse\, Natur-Joghurt mit Choco Krispies\n  * Milch einschl. Laktose\n  
 * Sellerie\n  * mit Antioxidationsmittel\n  * Gluten\n  * Weizen\n\nMenü 
 2:\n- Blumenkohl-Käse-Stern mit Sauce\, Kartoffeln und Mischgemüse\, Nat
 ur-Joghurt mit Choco Krispies\n  * Eier\n  * Gluten\n  * Weizen\n  * Milch
  einschl. Laktose\n  * Sellerie\n\n
SUMMARY:Schule am Wiesendamm
END:VEVENT
BEGIN:VEVENT
DTSTAMP:20260424T021718Z
UID:1683582
DTSTART;VALUE=DATE:20260428
DTEND;VALUE=DATE:20260428
DESCRIPTION:Menü 1:\n- Hähnchenbruststreifen in Tomaten-Frischkäsesauce\
 , Reis und Herbstgemüse\, Joghurt mit Himbeere\n  * Milch einschl. Laktos
 e\n  * Sellerie\n\nMenü 2:\n- Vegetarisches Geschnetzeltes in Tomaten-Fri
 schkäsesauce\, Reis und Herbstgemüse\, Joghurt mit Himbeere\n  * Milch e
 inschl. Laktose\n  * Soja\n  * Sellerie\n\n
SUMMARY:Schule am Wiesendamm
END:VEVENT
BEGIN:VEVENT
DTSTAMP:20260424T021718Z
UID:1683583
DTSTART;VALUE=DATE:20260429
DTEND;VALUE=DATE:20260429
DESCRIPTION:Menü 1:\n- Gurkensalat\, Fischfrikadelle mit Kartoffeln und ha
 usgemachter Remoulade\, Schokoladenpudding\n  * Senf\n  * Eier\n  * Fisch\
 n  * Gluten\n  * Milch einschl. Laktose\n\nMenü 2:\n- Gurkensalat\, Gemü
 sefrikadelle mit Kartoffeln und hausgemachter Remoualde\, Schokoladenpuddi
 ng\n  * Senf\n  * Eier\n  * Gluten\n  * Milch einschl. Laktose\n\n
SUMMARY:Schule am Wiesendamm
END:VEVENT
BEGIN:VEVENT
DTSTAMP:20260424T021718Z
UID:1683584
DTSTART;VALUE=DATE:20260430
DTEND;VALUE=DATE:20260430
DESCRIPTION:Menü 1:\n- Nudeln mit Bolognesesauce\, Obst\n  * Gluten\n  * S
 ellerie\n\nMenü 2:\n- Nudeln mit Soja-Gemüse-Bolognese\, Obst\n  * Glute
 n\n  * Weizen\n  * Soja\n  * Sellerie\n\n
SUMMARY:Schule am Wiesendamm
END:VEVENT
END:VCALENDAR
