BEGIN:VCALENDAR
VERSION:2.0
PRODID:openmensa.org
CALSCALE:GREGORIAN
METHOD:PUBLISH
URL;VALUE=URI:https://openmensa.org/ical/1889/stromberg-gymnasium.ics
BEGIN:VEVENT
DTSTAMP:20260424T021701Z
UID:1683607
DTSTART;VALUE=DATE:20260427
DTEND;VALUE=DATE:20260427
DESCRIPTION:Glutenfrei:\n- Glutenfreies Menü\n\n
SUMMARY:Stromberg-Gymnasium
END:VEVENT
BEGIN:VEVENT
DTSTAMP:20260424T021701Z
UID:1683608
DTSTART;VALUE=DATE:20260428
DTEND;VALUE=DATE:20260428
DESCRIPTION:Glutenfrei:\n- Glutenfreies Menü\n\n
SUMMARY:Stromberg-Gymnasium
END:VEVENT
BEGIN:VEVENT
DTSTAMP:20260424T021701Z
UID:1683609
DTSTART;VALUE=DATE:20260430
DTEND;VALUE=DATE:20260430
DESCRIPTION:Glutenfrei:\n- Glutenfreies Menü\n\n
SUMMARY:Stromberg-Gymnasium
END:VEVENT
END:VCALENDAR
