BEGIN:VCALENDAR
VERSION:2.0
PRODID:openmensa.org
CALSCALE:GREGORIAN
METHOD:PUBLISH
URL;VALUE=URI:https://openmensa.org/ical/1888/nordstadtschule.ics
BEGIN:VEVENT
DTSTAMP:20260424T022825Z
UID:1683589
DTSTART;VALUE=DATE:20260427
DTEND;VALUE=DATE:20260427
DESCRIPTION:Vegetarisch:\n- Mildes Chili sin Carne mit Baquette\, Vanillejo
 ghurt\n\nVollkost:\n- Pasta mit Bolognesesauce (Rind)\, Vanillejoghurt\n\n
SUMMARY:Nordstadtschule
END:VEVENT
BEGIN:VEVENT
DTSTAMP:20260424T022825Z
UID:1683590
DTSTART;VALUE=DATE:20260428
DTEND;VALUE=DATE:20260428
DESCRIPTION:Vegetarisch:\n- Vegetarische Lasagne\, Salat mit Dressing\, Obs
 t\n\nVollkost:\n- Fischstäbchen-Burger mit Pommes\, Obst\n\n
SUMMARY:Nordstadtschule
END:VEVENT
BEGIN:VEVENT
DTSTAMP:20260424T022825Z
UID:1683591
DTSTART;VALUE=DATE:20260429
DTEND;VALUE=DATE:20260429
DESCRIPTION:Vegetarisch:\n- Kichererbsenragout mit Langkornreis\, Rohkost\n
 \nVollkost:\n- Spätzle mit Rahmsauce dazu Kötbullar\, Rohkost\n\n
SUMMARY:Nordstadtschule
END:VEVENT
BEGIN:VEVENT
DTSTAMP:20260424T022825Z
UID:1683592
DTSTART;VALUE=DATE:20260430
DTEND;VALUE=DATE:20260430
DESCRIPTION:Vegetarisch:\n- Tortellini mit Sahnesauce\, Salat mit Dressing\
 , Obst\n\nVollkost:\n- Hähnchenschnitzel mit Kartoffelgratin\, Salat mit 
 Dressing\, Obst\n\n
SUMMARY:Nordstadtschule
END:VEVENT
END:VCALENDAR
