BEGIN:VCALENDAR
VERSION:2.0
PRODID:openmensa.org
CALSCALE:GREGORIAN
METHOD:PUBLISH
URL;VALUE=URI:https://openmensa.org/ical/1887/igs-stromberg.ics
BEGIN:VEVENT
DTSTAMP:20260424T022826Z
UID:1674998
DTSTART;VALUE=DATE:20260427
DTEND;VALUE=DATE:20260427
DESCRIPTION:Vollkost:\n- Paniertes Seelachsfilet mit Rahmwirsing\, dazu Sal
 zkartoffeln\n\nVegetarisch:\n- American Pancakes mit Roter Grütze und Van
 illesauce\, vorweg Brokkolicremesuppe\n  * A Glutenhaltiges Getreide\n  * 
 A1 Weizen\n  * Sellerie\n  * Milch und Milcherzeugnisse\n  * Lactose\n  * 
 Ei\n\ngluten- u. laktosefrei:\n- Achtung\, kein Drittes Menü\, Allergiker
  Essen! Hähnchenstreifen in Paprikasauce\, dazu Langkornreis\n\nPasta-Bar
 :\n- Pasta Bar\n\n
SUMMARY:IGS Stromberg
END:VEVENT
BEGIN:VEVENT
DTSTAMP:20260424T022826Z
UID:1674999
DTSTART;VALUE=DATE:20260428
DTEND;VALUE=DATE:20260428
DESCRIPTION:Vollkost:\n- Bandnudeln mit Tomatensauce\, dazu Paprikasticks\n
 \nVegetarisch:\n- Nuggets auf Milchbasis mit Pommes\, dazu Salat mit Joghu
 rtdressing\n  * A1 Weizen\n  * Sellerie\n  * A7 Milch und Milcherzeugnisse
 \n  * A4 Hafer\n  * Ei\n  * mit Geschmacksverstärker\n\ngluten- u. laktos
 efrei:\n- Achtung kein 3 Menü\, Allergikeressen! Nudeln a la Napoli\n\nPa
 sta-Bar:\n- Pasta Bar\n\n
SUMMARY:IGS Stromberg
END:VEVENT
BEGIN:VEVENT
DTSTAMP:20260424T022826Z
UID:1675000
DTSTART;VALUE=DATE:20260429
DTEND;VALUE=DATE:20260429
DESCRIPTION:Vollkost:\n- Putenschnitzel-Burger mit Ketchup\, dazu Ofen-Pomm
 es\n  * A Glutenhaltiges Getreide\n  * A1 Weizen\n  * Sellerie\n  * Senf\n
   * Ei\n  * K Sesam und daraus gewonene Erzeugnisse\n\nVegetarisch:\n- Spa
 ghetti mit Paprika-Sellerie-Karotten-Bolognaise\, dazu Gouda\n\ngluten- u.
  laktosefrei:\n- Achtung kein 3 Menü\, Allergikeressen! Linsen-Bolognaise
  mit Gnocchi\n  * Ei\n  * Sellerie\n\nPasta-Bar:\n- Pasta Bar\n\n
SUMMARY:IGS Stromberg
END:VEVENT
BEGIN:VEVENT
DTSTAMP:20260424T022826Z
UID:1675001
DTSTART;VALUE=DATE:20260430
DTEND;VALUE=DATE:20260430
DESCRIPTION:Vollkost:\n- Hühnerfrikassee mit Möhren und Vollkornreis\n  *
  Milch und Milcherzeugnisse\n\nVegetarisch:\n- Lauch-Käse-Suppe mit Hackf
 leisch-Alternative aus Sonnenblumenkernen\, dazu Weizenbrötchen\n  * A Gl
 utenhaltiges Getreide\n  * A1 Weizen\n  * Sellerie\n  * Senf\n  * A7 Milch
  und Milcherzeugnisse\n  * Lactose\n  * Gerste\n  * mit Farbstoff\n\nglute
 n- u. laktosefrei:\n- Achtung kein 3 Menü\, Allergikeressen! Hühnerfrika
 ssee mit Champignons\, Erbsen und Reis\n  * F Sojabohnen\n\nPasta-Bar:\n- 
 Pasta Bar\n\n
SUMMARY:IGS Stromberg
END:VEVENT
END:VCALENDAR
