BEGIN:VCALENDAR
VERSION:2.0
PRODID:openmensa.org
CALSCALE:GREGORIAN
METHOD:PUBLISH
URL;VALUE=URI:https://openmensa.org/ical/1886/freie-waldorfschule-dresden.i
 cs
BEGIN:VEVENT
DTSTAMP:20260424T024733Z
UID:1671216
DTSTART;VALUE=DATE:20260424
DTEND;VALUE=DATE:20260424
DESCRIPTION:A:\n- Indische Blumenkohlsuppe mit Fladenbrot\n\nB:\n- Indische
  Blumenkohlsuppe mit Fladenbrot\, Schokoladenpudding\n\nC:\n- Salat\, Indi
 sche Blumenkohlsuppe mit Fladenbrot\, Schokoladenpudding\n\n
SUMMARY:Freie Waldorfschule Dresden
END:VEVENT
BEGIN:VEVENT
DTSTAMP:20260424T024733Z
UID:1675010
DTSTART;VALUE=DATE:20260427
DTEND;VALUE=DATE:20260427
DESCRIPTION:A:\n- Spirelli mit Frühlingssauce und Käse\n\nB:\n- Spirelli 
 mit Frühlingssauce und Käse\, Obst\n\nC:\n- Salat\, Spirelli mit Frühli
 ngssauce und Käse\, Obst\n\n
SUMMARY:Freie Waldorfschule Dresden
END:VEVENT
BEGIN:VEVENT
DTSTAMP:20260424T024733Z
UID:1675011
DTSTART;VALUE=DATE:20260428
DTEND;VALUE=DATE:20260428
DESCRIPTION:A:\n- Getreidebratling mit Tomatensauce und Reis\n\nB:\n- Getre
 idebratling mit Tomatensauce und Reis\, Erdbeerschaum\n\nC:\n- Salat\, Get
 reidebratling mit Tomatensauce und Reis\, Erdbeerschaum\n\n
SUMMARY:Freie Waldorfschule Dresden
END:VEVENT
BEGIN:VEVENT
DTSTAMP:20260424T024733Z
UID:1675012
DTSTART;VALUE=DATE:20260429
DTEND;VALUE=DATE:20260429
DESCRIPTION:A:\n- Buchteln mit Vanillesauce\n\nB:\n- Grünkerngemüsesuppe\
 , Buchteln mit Vanillesauce\n\nC:\n- Grünkerngemüsesuppe\, Buchteln mit 
 Vanillesauce\, Salat\n\n
SUMMARY:Freie Waldorfschule Dresden
END:VEVENT
BEGIN:VEVENT
DTSTAMP:20260424T024733Z
UID:1675013
DTSTART;VALUE=DATE:20260430
DTEND;VALUE=DATE:20260430
DESCRIPTION:A:\n- Kartoffelsuppe mit Wiener Würstchen und Vollkornbrot\n\n
 B:\n- Kartoffelsuppe mit Wiener Würstchen und Vollkornbrot\, Pfirsichkomp
 ott\n\nC:\n- Salat\, Kartoffelsuppe mit Wiener Würstchen und Vollkornbrot
 \, Pfirsichkompott\n\n
SUMMARY:Freie Waldorfschule Dresden
END:VEVENT
END:VCALENDAR
