BEGIN:VCALENDAR
VERSION:2.0
PRODID:openmensa.org
CALSCALE:GREGORIAN
METHOD:PUBLISH
URL;VALUE=URI:https://openmensa.org/ical/1885/friedrich-ebert-schule.ics
BEGIN:VEVENT
DTSTAMP:20260424T021108Z
UID:1671211
DTSTART;VALUE=DATE:20260424
DTEND;VALUE=DATE:20260424
DESCRIPTION:Nudelbar:\n- Täglich wechselndes Pastagericht\n\n
SUMMARY:Friedrich-Ebert-Schule
END:VEVENT
BEGIN:VEVENT
DTSTAMP:20260424T021108Z
UID:1675006
DTSTART;VALUE=DATE:20260428
DTEND;VALUE=DATE:20260428
DESCRIPTION:Nudelbar:\n- Täglich wechselndes Pastagericht\n\n
SUMMARY:Friedrich-Ebert-Schule
END:VEVENT
BEGIN:VEVENT
DTSTAMP:20260424T021108Z
UID:1675007
DTSTART;VALUE=DATE:20260429
DTEND;VALUE=DATE:20260429
DESCRIPTION:Nudelbar:\n- Täglich wechselndes Pastagericht\n\n
SUMMARY:Friedrich-Ebert-Schule
END:VEVENT
BEGIN:VEVENT
DTSTAMP:20260424T021108Z
UID:1675008
DTSTART;VALUE=DATE:20260430
DTEND;VALUE=DATE:20260430
DESCRIPTION:Nudelbar:\n- Täglich wechselndes Pastagericht\n\n
SUMMARY:Friedrich-Ebert-Schule
END:VEVENT
END:VCALENDAR
