BEGIN:VCALENDAR
VERSION:2.0
PRODID:openmensa.org
CALSCALE:GREGORIAN
METHOD:PUBLISH
URL;VALUE=URI:https://openmensa.org/ical/1884/st-michael-gymnasium.ics
BEGIN:VEVENT
DTSTAMP:20260424T023200Z
UID:1671207
DTSTART;VALUE=DATE:20260424
DTEND;VALUE=DATE:20260424
DESCRIPTION:Menü 1:\n- Eieromelett mit Rahmspinat und Kartoffeln\n\nMenü 
 2 - vegetarisch:\n- Eieromelett mit Rahmspinat und Kartoffeln\n\nSalat:\n-
  Salatteller mit Fleisch\n\nSalat vegetarisch:\n- Salatteller Vegetarisch\
 n\nBaguette 1:\n- Baguette mit Käse und Salat\n\nBaguette 2:\n- Baguette 
 mit Schinken und Salat\n\nMenü glutenfrei:\n- Eieromelett mit Rahmspinat 
 und Kartoffeln\n\nBagel:\n- Bagel mit Dönerfleisch und Salat\n\n
SUMMARY:St.-Michael-Gymnasium
END:VEVENT
BEGIN:VEVENT
DTSTAMP:20260424T023200Z
UID:1675002
DTSTART;VALUE=DATE:20260427
DTEND;VALUE=DATE:20260427
DESCRIPTION:Menü 1:\n- Fusilli mit Napoli-Sauce und Obstdessert\n\nMenü 2
  - vegetarisch:\n- Fusilli mit Napoli-Sauce und Obstdessert\n\nSalat:\n- S
 alatteller mit Fleisch\n\nSalat vegetarisch:\n- Salatteller Vegetarisch\n\
 nBaguette 1:\n- Baguette mit Käse und Salat\n\nBaguette 2:\n- Baguette mi
 t Schinken und Salat\n\nMenü glutenfrei:\n- Fusilli mit Napoli-Sauce und 
 Obstdessert\n\nBagel:\n- Bagel mit Dönerfleisch und Salat\n\n
SUMMARY:St.-Michael-Gymnasium
END:VEVENT
BEGIN:VEVENT
DTSTAMP:20260424T023200Z
UID:1675003
DTSTART;VALUE=DATE:20260428
DTEND;VALUE=DATE:20260428
DESCRIPTION:Menü 1:\n- Putengeschnetzeltes mit Reis und Erbsen\n\nMenü 2 
 - vegetarisch:\n- Veg. Geschnetzeltes mit Reis und Erbsen\n\nSalat:\n- Sal
 atteller mit Fleisch\n\nSalat vegetarisch:\n- Salatteller Vegetarisch\n\nB
 aguette 1:\n- Baguette mit Käse und Salat\n\nBaguette 2:\n- Baguette mit 
 Schinken und Salat\n\nMenü glutenfrei:\n- Putengeschnetzeltes mit Reis un
 d Erbsen\n\nBagel:\n- Bagel mit Dönerfleisch und Salat\n\n
SUMMARY:St.-Michael-Gymnasium
END:VEVENT
BEGIN:VEVENT
DTSTAMP:20260424T023200Z
UID:1675004
DTSTART;VALUE=DATE:20260429
DTEND;VALUE=DATE:20260429
DESCRIPTION:Menü 1:\n- Hähnchensteak mit Rahmsauce\, Kartoffeln und Salat
 \n\nMenü 2 - vegetarisch:\n- Folienkartoffel mit Kräuterquark und Salat\
 n\nSalat:\n- Salatteller mit Fleisch\n\nSalat vegetarisch:\n- Salatteller 
 Vegetarisch\n\nBaguette 1:\n- Baguette mit Käse und Salat\n\nBaguette 2:\
 n- Baguette mit Schinken und Salat\n\nMenü glutenfrei:\n- Hähnchensteak 
 mit Rahmsauce\, Kartoffeln und Salat\n\nBagel:\n- Bagel mit Dönerfleisch 
 und Salat\n\n
SUMMARY:St.-Michael-Gymnasium
END:VEVENT
BEGIN:VEVENT
DTSTAMP:20260424T023200Z
UID:1675005
DTSTART;VALUE=DATE:20260430
DTEND;VALUE=DATE:20260430
DESCRIPTION:Menü 1:\n- Currywurst mit Schwenkkartoffeln und Krautsalat\n\n
 Menü 2 - vegetarisch:\n- Veg. Currywurst mit Schwenkkartoffeln und Krauts
 alat\n\nSalat:\n- Salatteller mit Fleisch\n\nSalat vegetarisch:\n- Salatte
 ller Vegetarisch\n\nBaguette 1:\n- Baguette mit Käse und Salat\n\nBaguett
 e 2:\n- Baguette mit Schinken und Salat\n\nMenü glutenfrei:\n- Currywurst
  mit Schwenkkartoffeln und Krautsalat\n\nBagel:\n- Bagel mit Dönerfleisch
  und Salat\n\n
SUMMARY:St.-Michael-Gymnasium
END:VEVENT
END:VCALENDAR
