BEGIN:VCALENDAR
VERSION:2.0
PRODID:openmensa.org
CALSCALE:GREGORIAN
METHOD:PUBLISH
URL;VALUE=URI:https://openmensa.org/ical/1882/geschwister-scholl-schule.ics
BEGIN:VEVENT
DTSTAMP:20260424T023212Z
UID:1675363
DTSTART;VALUE=DATE:20260427
DTEND;VALUE=DATE:20260427
DESCRIPTION:Menü 1:\n- Mais (Bio) Salat mit Essig und Öl Dressing\, Spagh
 etti mit Tomatensoße dazu Reibkäse\, frisches Obst der Saison\n  * Glute
 nhaltiges Getreide\n  * Milch (einschließlich Laktose)\n  * Sellerie\n\nM
 enü 2:\n- Pilzgulasch\, Reis (Bio)\, buntes Gemüse\, frisches Obst der S
 aison\n  * Sellerie\n  * Senf\n\nPastagericht:\n- Salat\, Pasta (Bio)\, Pi
 lzsoße\n  * Glutenhaltiges Getreide\n  * Sellerie\n  * Senf\n\n
SUMMARY:Geschwister-Scholl-Schule
END:VEVENT
BEGIN:VEVENT
DTSTAMP:20260424T023212Z
UID:1675364
DTSTART;VALUE=DATE:20260428
DTEND;VALUE=DATE:20260428
DESCRIPTION:Menü 1:\n- frisches Ofen-Gemüse der Saison mit Kräutern der 
 Provence dazu Joghurt-Rote-Beete-Dip und Kartoffeln (Bio)\, Naturjoghurt (
 Bio) mit Früchtemus (Bio)\n  * Milch (einschließlich Laktose)\n  * Selle
 rie\n\nMenü 2:\n- Blattsalat mit Essig und Öl Dressing\, vegetarische Nu
 ggets mit Curry-Ketchup\, Westernkartoffeln\, Naturjoghurt (Bio) mit Früc
 htemus (Bio)\n  * Glutenhaltiges Getreide\n  * Eier\n  * Sellerie\n  * Far
 bstoff\n  * Konservierungsstoffe\n  * Milch (einschließlich Laktose)\n\nP
 astagericht:\n- Salat\, Vollkorn-Pasta (Bio)\, Tomatensoße (Bio)\, Reibk
 äse\n  * Glutenhaltiges Getreide\n  * Sellerie\n\n
SUMMARY:Geschwister-Scholl-Schule
END:VEVENT
BEGIN:VEVENT
DTSTAMP:20260424T023212Z
UID:1675365
DTSTART;VALUE=DATE:20260429
DTEND;VALUE=DATE:20260429
DESCRIPTION:Menü 1:\n- Blattsalat mit Cocktailsoße\, 3 Pfannkuchen mit "S
 oja-Bolognese" (Bio) dazu Reibkäse\, Milchreis\n  * Eier\n  * Farbstoff\n
   * Glutenhaltiges Getreide\n  * Soja\n  * Milch (einschließlich Laktose)
 \n  * Sellerie\n\nMenü 2:\n- Putenfleisch (Fairfleisch) nach "Gyros Art" 
 mit Tzatziki\, Gurken\, Blattsalat\, Tomaten und Zwiebeln dazu Fladenbrot\
 , Milchreis\n  * Glutenhaltiges Getreide\n  * Milch (einschließlich Lakto
 se)\n\nPastagericht:\n- Salat\, Pasta (Bio)\, Bratensoße\n  * Glutenhalti
 ges Getreide\n  * Sellerie\n  * Senf\n\n
SUMMARY:Geschwister-Scholl-Schule
END:VEVENT
BEGIN:VEVENT
DTSTAMP:20260424T023212Z
UID:1675366
DTSTART;VALUE=DATE:20260430
DTEND;VALUE=DATE:20260430
DESCRIPTION:Menü 1:\n- Blattsalat mit Essig und Öl Dressing\, Gnocchi mit
  Spargel-Ragout\, Bircher Müsli mit Apfel und Banane\n  * Milch (einschli
 eßlich Laktose)\n  * Sellerie\n  * Glutenhaltiges Getreide\n\nMenü 2:\n-
  Seelachsfilet "Curry-Ingwer" mit Kokos-Panade\, asiatischer Gemüse-Reis\
 , Bircher Müsli mit Apfel und Banane\n  * Sellerie\n  * Glutenhaltiges Ge
 treide\n  * Milch (einschließlich Laktose)\n\nPastagericht:\n- Salat\, Pa
 sta (Bio)\, Sahnesoße\n  * Glutenhaltiges Getreide\n  * Milch (einschlie
 ßlich Laktose)\n  * Sellerie\n\n
SUMMARY:Geschwister-Scholl-Schule
END:VEVENT
END:VCALENDAR
