BEGIN:VCALENDAR
VERSION:2.0
PRODID:openmensa.org
CALSCALE:GREGORIAN
METHOD:PUBLISH
URL;VALUE=URI:https://openmensa.org/ical/1880/teggingerschule-radolfzell.ic
 s
BEGIN:VEVENT
DTSTAMP:20260424T025402Z
UID:1679726
DTSTART;VALUE=DATE:20260424
DTEND;VALUE=DATE:20260424
DESCRIPTION:Tagesessen Schule:\n- Kürbis-Hafer-Frikadelle\, Ebly\, Kochpud
 ding\n  * Weizen\n  * Hafer\n  * Milch (einschließlich Laktose)\n\nvegeta
 risch:\n- Kürbis-Hafer-Frikadelle\, Ebly\, Kochpudding\n  * Weizen\n  * H
 afer\n  * Milch (einschließlich Laktose)\n\n
SUMMARY:Teggingerschule Radolfzell
END:VEVENT
BEGIN:VEVENT
DTSTAMP:20260424T025402Z
UID:1683557
DTSTART;VALUE=DATE:20260427
DTEND;VALUE=DATE:20260427
DESCRIPTION:Tagesessen Schule:\n- Tortellini mit einer Käse & Spinatfüllu
 ng\, Bio Tomatensoße\, Bio Obst\n  * Weizen\n  * Milch (einschließlich L
 aktose)\n\nvegetarisch:\n- Tortellini mit einer Käse & Spinatfüllung\, B
 io Tomatensoße\, Bio Obst\n  * Weizen\n  * Milch (einschließlich Laktose
 )\n\n
SUMMARY:Teggingerschule Radolfzell
END:VEVENT
BEGIN:VEVENT
DTSTAMP:20260424T025402Z
UID:1683558
DTSTART;VALUE=DATE:20260428
DTEND;VALUE=DATE:20260428
DESCRIPTION:Tagesessen Schule:\n- gefüllte Maultaschen\, Hausgemachtem Kar
 toffelsalat\, Bio Frucht-Joghurt\n  * Eier\n  * Weizen\n  * Sellerie\n  * 
 Senf\n  * mit Süßungsmittel\n  * Milch (einschließlich Laktose)\n\nvege
 tarisch:\n- vegetarische Bio Maultaschen mit Gemüsefüllung\, Hausgemacht
 em Kartoffelsalat\, Bio Frucht-Joghurt\n  * Eier\n  * Weizen\n  * Sellerie
 \n  * Senf\n  * mit Süßungsmittel\n  * Milch (einschließlich Laktose)\n
 \n
SUMMARY:Teggingerschule Radolfzell
END:VEVENT
BEGIN:VEVENT
DTSTAMP:20260424T025402Z
UID:1683559
DTSTART;VALUE=DATE:20260429
DTEND;VALUE=DATE:20260429
DESCRIPTION:Tagesessen Schule:\n- Bio Rindergulasch\, Bio Fusilli-Nudeln\, 
 Bio-Quarkspeise\n  * Weizen\n  * Milch (einschließlich Laktose)\n\nvegeta
 risch:\n- Bio Fusilli-Nudeln\, Brokkoli-Sahne-Soße\, Bio-Quarkspeise\n  *
  Weizen\n  * Milch (einschließlich Laktose)\n\n
SUMMARY:Teggingerschule Radolfzell
END:VEVENT
BEGIN:VEVENT
DTSTAMP:20260424T025402Z
UID:1683560
DTSTART;VALUE=DATE:20260430
DTEND;VALUE=DATE:20260430
DESCRIPTION:Tagesessen Schule:\n- Tomatencremesuppe mit Brötchen\, Kaisers
 chmarrn\, mit Vanillesoße\n  * Weizen\n  * Milch (einschließlich Laktose
 )\n  * Eier\n\nvegetarisch:\n- Tomatencremesuppe mit Brötchen\, Kaisersch
 marrn\, mit Vanillesoße\n  * Weizen\n  * Milch (einschließlich Laktose)\
 n  * Eier\n\n
SUMMARY:Teggingerschule Radolfzell
END:VEVENT
END:VCALENDAR
