BEGIN:VCALENDAR
VERSION:2.0
PRODID:openmensa.org
CALSCALE:GREGORIAN
METHOD:PUBLISH
URL;VALUE=URI:https://openmensa.org/ical/1879/hegel-gymnasium-stuttgart.ics
BEGIN:VEVENT
DTSTAMP:20260424T023334Z
UID:1683566
DTSTART;VALUE=DATE:20260424
DTEND;VALUE=DATE:20260424
DESCRIPTION:Hauptmenü:\n- Rinderburger von 12 bis 13 uhr 20\n  * Glutenhal
 tiges Getreide\n  * Sellerie und Sellerieerzeugnisse\n  * Senf und Senferz
 eugnisse\n\nHauptmenü ohne Nachtisch:\n- Wie das Hauptmenü\, nur ohne Na
 chspeise.\n\nVeggie Menü:\n- Vegetarischer no Chickenburger von 12 Uhr bi
 s 13 Uhr 20\n  * Glutenhaltiges Getreide\n  * Eier und Eierzeugnisse\n  * 
 Sesamsamen und Sesamsamenerzeugnisse\n  * Soja und Sojaerzeugnisse (inkl. 
 Sojabohnen)\n  * Sellerie und Sellerieerzeugnisse\n  * Senf und Senferzeug
 nisse\n\nVeggie Menü ohne Nachtisch:\n- Wie das vegetarische Menü\, nur 
 ohne Nachspeise.\n\nGroßer Salatteller:\n- Salatbuffet\n  * mit Süßungs
 mittel\n  * enthält eine Phenylalaninquelle\n  * geschwärzt\n\nKleiner S
 alatteller:\n- Salatbuffet\n  * mit Süßungsmittel\n  * enthält eine Phe
 nylalaninquelle\n  * geschwärzt\n\nNachtisch:\n- Nachtisch\n\n
SUMMARY:Hegel-Gymnasium Stuttgart
END:VEVENT
END:VCALENDAR
