BEGIN:VCALENDAR
VERSION:2.0
PRODID:openmensa.org
CALSCALE:GREGORIAN
METHOD:PUBLISH
URL;VALUE=URI:https://openmensa.org/ical/1878/sekundarschule-wadersloh.ics
BEGIN:VEVENT
DTSTAMP:20260424T023058Z
UID:1667630
DTSTART;VALUE=DATE:20260424
DTEND;VALUE=DATE:20260424
DESCRIPTION:Menü 1:\n- Tagesessen\n\nMenü 2:\n- Tagesessen\n\nMenü 3:\n-
  Tagesessen\n\nNudelbar:\n- Tagesessen\n\nSalatbar:\n- Tagesessen\n\n
SUMMARY:Sekundarschule Wadersloh
END:VEVENT
BEGIN:VEVENT
DTSTAMP:20260424T023058Z
UID:1675383
DTSTART;VALUE=DATE:20260427
DTEND;VALUE=DATE:20260427
DESCRIPTION:Menü 1:\n- Tagesessen\n\nMenü 2:\n- Tagesessen\n\nMenü 3:\n-
  Tagesessen\n\nNudelbar:\n- Tagesessen\n\nSalatbar:\n- Tagesessen\n\n
SUMMARY:Sekundarschule Wadersloh
END:VEVENT
BEGIN:VEVENT
DTSTAMP:20260424T023058Z
UID:1675384
DTSTART;VALUE=DATE:20260428
DTEND;VALUE=DATE:20260428
DESCRIPTION:Menü 1:\n- Tagesessen\n\nMenü 2:\n- Tagesessen\n\nMenü 3:\n-
  Tagesessen\n\nNudelbar:\n- Tagesessen\n\nSalatbar:\n- Tagesessen\n\n
SUMMARY:Sekundarschule Wadersloh
END:VEVENT
BEGIN:VEVENT
DTSTAMP:20260424T023058Z
UID:1675385
DTSTART;VALUE=DATE:20260429
DTEND;VALUE=DATE:20260429
DESCRIPTION:Menü 1:\n- Tagesessen\n\nMenü 2:\n- Tagesessen\n\nMenü 3:\n-
  Tagesessen\n\nNudelbar:\n- Tagesessen\n\nSalatbar:\n- Tagesessen\n\n
SUMMARY:Sekundarschule Wadersloh
END:VEVENT
BEGIN:VEVENT
DTSTAMP:20260424T023058Z
UID:1675386
DTSTART;VALUE=DATE:20260430
DTEND;VALUE=DATE:20260430
DESCRIPTION:Menü 1:\n- Tagesessen\n\nMenü 2:\n- Tagesessen\n\nMenü 3:\n-
  Tagesessen\n\nNudelbar:\n- Tagesessen\n\nSalatbar:\n- Tagesessen\n\n
SUMMARY:Sekundarschule Wadersloh
END:VEVENT
END:VCALENDAR
