BEGIN:VCALENDAR
VERSION:2.0
PRODID:openmensa.org
CALSCALE:GREGORIAN
METHOD:PUBLISH
URL;VALUE=URI:https://openmensa.org/ical/1876/sts-richard-linde-weg.ics
BEGIN:VEVENT
DTSTAMP:20260424T023213Z
UID:1671174
DTSTART;VALUE=DATE:20260424
DTEND;VALUE=DATE:20260424
DESCRIPTION:Vielfalt und Bunt:\n- Putengeschnetzeltesmit Pilzen und Reis\n\
 nVegi und Genuss:\n- Frühlingsrolle mit Reis Paprika Sour Creme\n  * Glut
 enhaltiges Getreide (Weizen\, Roggen\, Gerste\, Hafer\, Dinkel\, Kamut ode
 r Hybridstämme davon\, sowie daraus hergestellte Erzeugnisse)\n  * Weizen
 \n  * Milch u. daraus gewonnene Erzeugnisse (einschl. Laktose)\n  * Seller
 ie u. daraus gewonnene Erzeugnisse\n\nVegetarisch mit Fisch:\n- Frühlings
 rolle und Reis Paprika Sour Creme\n  * Glutenhaltiges Getreide (Weizen\, R
 oggen\, Gerste\, Hafer\, Dinkel\, Kamut oder Hybridstämme davon\, sowie d
 araus hergestellte Erzeugnisse)\n  * Weizen\n  * Milch u. daraus gewonnene
  Erzeugnisse (einschl. Laktose)\n  * Sellerie u. daraus gewonnene Erzeugni
 sse\n\nOhne Fisch:\n- Putengeschnetzeltesmit Pilzen und Reis\n\nNachtisch:
 \n- Stracciatellacreme\n  * Milch u. daraus gewonnene Erzeugnisse (einschl
 . Laktose)\n\nRohkost und Salat:\n- Knabbergemüse(Kohlrabi\, Paprika\, Gu
 rke) Kräuterquark\n  * Milch u. daraus gewonnene Erzeugnisse (einschl. La
 ktose)\n\n
SUMMARY:STS Richard-Linde-Weg
END:VEVENT
BEGIN:VEVENT
DTSTAMP:20260424T023213Z
UID:1674983
DTSTART;VALUE=DATE:20260427
DTEND;VALUE=DATE:20260427
DESCRIPTION:Vielfalt und Bunt:\n- Geflügel-Kebab mit Tzatziki Krautsalat u
 nd Reis\n  * Milch u. daraus gewonnene Erzeugnisse (einschl. Laktose)\n\nV
 egi und Genuss:\n- Vegetarisches Gyros mit Tzatziki Krautsalat und Reis\n 
  * Glutenhaltiges Getreide (Weizen\, Roggen\, Gerste\, Hafer\, Dinkel\, Ka
 mut oder Hybridstämme davon\, sowie daraus hergestellte Erzeugnisse)\n  *
  Weizen\n  * Eier u. daraus gewonnene Erzeugnisse\n  * Soja u. daraus gewo
 nnene Erzeugnisse\n  * Milch u. daraus gewonnene Erzeugnisse (einschl. Lak
 tose)\n  * Sellerie u. daraus gewonnene Erzeugnisse\n\nVegetarisch mit Fis
 ch:\n- Vegetarisches Gyros mit Tzatziki Krautsalat und Reis\n  * Glutenhal
 tiges Getreide (Weizen\, Roggen\, Gerste\, Hafer\, Dinkel\, Kamut oder Hyb
 ridstämme davon\, sowie daraus hergestellte Erzeugnisse)\n  * Weizen\n  *
  Eier u. daraus gewonnene Erzeugnisse\n  * Soja u. daraus gewonnene Erzeug
 nisse\n  * Milch u. daraus gewonnene Erzeugnisse (einschl. Laktose)\n  * S
 ellerie u. daraus gewonnene Erzeugnisse\n\nOhne Fisch:\n- Geflügel-Kebab 
 mit Tzatziki Krautsalat und Reis\n  * Milch u. daraus gewonnene Erzeugniss
 e (einschl. Laktose)\n\nNachtisch:\n- Schokoladenpudding (Becher)\n  * Eie
 r u. daraus gewonnene Erzeugnisse\n  * Milch u. daraus gewonnene Erzeugnis
 se (einschl. Laktose)\n\nRohkost und Salat:\n- Gurkensalat in Essig / Öl 
 mit Dill\n  * Schwefeldioxid und Sulphite in Konzentrationen von mehr als 
 10mg/kg oder 10mg/l als insgesamt vorhandenes SO²\, die für verzehrferti
 ge oder gemäß den Anweisungen des Herstellers in den ursprünglichen Zus
 tand zurückggeführte Erzeugnisse zu berechnen s…\n\n
SUMMARY:STS Richard-Linde-Weg
END:VEVENT
BEGIN:VEVENT
DTSTAMP:20260424T023213Z
UID:1674984
DTSTART;VALUE=DATE:20260428
DTEND;VALUE=DATE:20260428
DESCRIPTION:Vielfalt und Bunt:\n- Scholle in Maispanade  Paprikakompott Hau
 sgemachter Kartoffelstampf\n  * Fische u. daraus gewonnene Erzeugnisse\n  
 * Milch u. daraus gewonnene Erzeugnisse (einschl. Laktose)\n\nVegi und Gen
 uss:\n- Grießbrei (Hauptgang) Waldfruchtsoße\n  * Glutenhaltiges Getreid
 e (Weizen\, Roggen\, Gerste\, Hafer\, Dinkel\, Kamut oder Hybridstämme da
 von\, sowie daraus hergestellte Erzeugnisse)\n  * Weizen\n  * Milch u. dar
 aus gewonnene Erzeugnisse (einschl. Laktose)\n\nVegetarisch mit Fisch:\n- 
 Grießbrei mit Waldfruchtsoße\n  * Glutenhaltiges Getreide (Weizen\, Rogg
 en\, Gerste\, Hafer\, Dinkel\, Kamut oder Hybridstämme davon\, sowie dara
 us hergestellte Erzeugnisse)\n  * Weizen\n  * Milch u. daraus gewonnene Er
 zeugnisse (einschl. Laktose)\n\nOhne Fisch:\n- Hähnchenschnitzel mit Brat
 ensoße Buttererbsen und Penne Rigate\n  * Glutenhaltiges Getreide (Weizen
 \, Roggen\, Gerste\, Hafer\, Dinkel\, Kamut oder Hybridstämme davon\, sow
 ie daraus hergestellte Erzeugnisse)\n  * Weizen\n\nNachtisch:\n- Apfel\n\n
 Rohkost und Salat:\n- Eisberg Joghurt dressing\n  * Eier u. daraus gewonne
 ne Erzeugnisse\n  * Milch u. daraus gewonnene Erzeugnisse (einschl. Laktos
 e)\n  * Senf u. daraus gewonnene Erzeugnisse\n\n
SUMMARY:STS Richard-Linde-Weg
END:VEVENT
BEGIN:VEVENT
DTSTAMP:20260424T023213Z
UID:1674985
DTSTART;VALUE=DATE:20260429
DTEND;VALUE=DATE:20260429
DESCRIPTION:Vielfalt und Bunt:\n- Karotten - Kartoffel -  Suppe mit Brötch
 en\n  * Glutenhaltiges Getreide (Weizen\, Roggen\, Gerste\, Hafer\, Dinkel
 \, Kamut oder Hybridstämme davon\, sowie daraus hergestellte Erzeugnisse)
 \n  * Weizen\n  * Sellerie u. daraus gewonnene Erzeugnisse\n\nVegi und Gen
 uss:\n- Vegetarische Bratwurst Grillgemüse (Paprika\, Zucchini\, Champign
 ons)  Salzkartoffeln\n  * Glutenhaltiges Getreide (Weizen\, Roggen\, Gerst
 e\, Hafer\, Dinkel\, Kamut oder Hybridstämme davon\, sowie daraus hergest
 ellte Erzeugnisse)\n  * Weizen\n  * Eier u. daraus gewonnene Erzeugnisse\n
 \nVegetarisch mit Fisch:\n- Karotten - Kartoffel -  Suppe mit Brötchen\n 
  * Glutenhaltiges Getreide (Weizen\, Roggen\, Gerste\, Hafer\, Dinkel\, Ka
 mut oder Hybridstämme davon\, sowie daraus hergestellte Erzeugnisse)\n  *
  Weizen\n  * Sellerie u. daraus gewonnene Erzeugnisse\n\nOhne Fisch:\n- Ka
 rotten - Kartoffel -  Suppe mit Brötchen\n  * Glutenhaltiges Getreide (We
 izen\, Roggen\, Gerste\, Hafer\, Dinkel\, Kamut oder Hybridstämme davon\,
  sowie daraus hergestellte Erzeugnisse)\n  * Weizen\n  * Sellerie u. darau
 s gewonnene Erzeugnisse\n\nNachtisch:\n- Stracciatellacreme\n  * Milch u. 
 daraus gewonnene Erzeugnisse (einschl. Laktose)\n\nRohkost und Salat:\n- K
 arotten und Paprika Sticks  Quark-Kräuter Dip\n  * Milch u. daraus gewonn
 ene Erzeugnisse (einschl. Laktose)\n\n
SUMMARY:STS Richard-Linde-Weg
END:VEVENT
BEGIN:VEVENT
DTSTAMP:20260424T023213Z
UID:1674986
DTSTART;VALUE=DATE:20260430
DTEND;VALUE=DATE:20260430
DESCRIPTION:Vielfalt und Bunt:\n- Spaghetti mit Rindfleisch Bolognese und S
 treukäse (Gouda)\n  * Glutenhaltiges Getreide (Weizen\, Roggen\, Gerste\,
  Hafer\, Dinkel\, Kamut oder Hybridstämme davon\, sowie daraus hergestell
 te Erzeugnisse)\n  * Weizen\n  * Milch u. daraus gewonnene Erzeugnisse (ei
 nschl. Laktose)\n  * Sellerie u. daraus gewonnene Erzeugnisse\n\nVegi und 
 Genuss:\n- Spaghetti mit vegetarischer Bolognesemit Soja und Streukäse (G
 ouda)\n  * Glutenhaltiges Getreide (Weizen\, Roggen\, Gerste\, Hafer\, Din
 kel\, Kamut oder Hybridstämme davon\, sowie daraus hergestellte Erzeugnis
 se)\n  * Weizen\n  * Gerste\n  * Soja u. daraus gewonnene Erzeugnisse\n  *
  Milch u. daraus gewonnene Erzeugnisse (einschl. Laktose)\n  * Sellerie u.
  daraus gewonnene Erzeugnisse\n\nVegetarisch mit Fisch:\n- Grießbrei mit 
 Waldfruchtsoße\n  * Glutenhaltiges Getreide (Weizen\, Roggen\, Gerste\, H
 afer\, Dinkel\, Kamut oder Hybridstämme davon\, sowie daraus hergestellte
  Erzeugnisse)\n  * Weizen\n  * Milch u. daraus gewonnene Erzeugnisse (eins
 chl. Laktose)\n\nOhne Fisch:\n- Grießbrei mit Waldfruchtsoße\n  * Gluten
 haltiges Getreide (Weizen\, Roggen\, Gerste\, Hafer\, Dinkel\, Kamut oder 
 Hybridstämme davon\, sowie daraus hergestellte Erzeugnisse)\n  * Weizen\n
   * Milch u. daraus gewonnene Erzeugnisse (einschl. Laktose)\n\nNachtisch:
 \n- Trauben\n\nRohkost und Salat:\n- Karottensalat\, Salatbar\n\n
SUMMARY:STS Richard-Linde-Weg
END:VEVENT
END:VCALENDAR
