BEGIN:VCALENDAR
VERSION:2.0
PRODID:openmensa.org
CALSCALE:GREGORIAN
METHOD:PUBLISH
URL;VALUE=URI:https://openmensa.org/ical/1875/grundschule-an-der-lahnaue.ic
 s
BEGIN:VEVENT
DTSTAMP:20260424T023333Z
UID:1679708
DTSTART;VALUE=DATE:20260424
DTEND;VALUE=DATE:20260424
DESCRIPTION:Menü1:\n- Salat- oder Gemüsebeilage\, Nudeln mit Schinken-Sah
 ne-Soße (Schwein) (Gluten\, 1\, 2)\, Dessert\n\nMenü2:\n- Salat- oder Ge
 müsebeilage\, Nudeln mit Tomatensoße (Gluten\, 1\, 2)\, Dessert\n\n
SUMMARY:Grundschule an der Lahnaue
END:VEVENT
BEGIN:VEVENT
DTSTAMP:20260424T023333Z
UID:1683547
DTSTART;VALUE=DATE:20260427
DTEND;VALUE=DATE:20260427
DESCRIPTION:Menü1:\n- Tagesessen\n\nMenü2:\n- Tagesessen\n\n
SUMMARY:Grundschule an der Lahnaue
END:VEVENT
BEGIN:VEVENT
DTSTAMP:20260424T023333Z
UID:1683548
DTSTART;VALUE=DATE:20260428
DTEND;VALUE=DATE:20260428
DESCRIPTION:Menü1:\n- Tagesessen\n\nMenü2:\n- Tagesessen\n\n
SUMMARY:Grundschule an der Lahnaue
END:VEVENT
BEGIN:VEVENT
DTSTAMP:20260424T023333Z
UID:1683549
DTSTART;VALUE=DATE:20260429
DTEND;VALUE=DATE:20260429
DESCRIPTION:Menü1:\n- Tagesessen\n\nMenü2:\n- Tagesessen\n\n
SUMMARY:Grundschule an der Lahnaue
END:VEVENT
BEGIN:VEVENT
DTSTAMP:20260424T023333Z
UID:1683550
DTSTART;VALUE=DATE:20260430
DTEND;VALUE=DATE:20260430
DESCRIPTION:Menü1:\n- Tagesessen\n\nMenü2:\n- Tagesessen\n\n
SUMMARY:Grundschule an der Lahnaue
END:VEVENT
END:VCALENDAR
