BEGIN:VCALENDAR
VERSION:2.0
PRODID:openmensa.org
CALSCALE:GREGORIAN
METHOD:PUBLISH
URL;VALUE=URI:https://openmensa.org/ical/1874/heilwig-gymnasium.ics
BEGIN:VEVENT
DTSTAMP:20260424T014621Z
UID:1683546
DTSTART;VALUE=DATE:20260424
DTEND;VALUE=DATE:20260424
DESCRIPTION:Fleischgericht:\n- Backfisch\, Bratkartoffeln\n  * Milch- und M
 ilcherzeugnisse / Laktose\n  * Glutenhaltuges Getreide (Weizen\, Gerste\, 
 Dinkel\, Roggen\, Hafer\, Kamut und Hybridstämme davon)\n  * Fisch und Fi
 scherzeugnisse\n  * Eier und Eiererzeugnisse\n  * Milcheiweiß (Kuhmilch u
 nd Kuhmilcherzeugnisse)\n\nVegetarisches Gericht:\n- Senfeier\, Reis\n  * 
 Milch- und Milcherzeugnisse / Laktose\n  * Glutenhaltuges Getreide (Weizen
 \, Gerste\, Dinkel\, Roggen\, Hafer\, Kamut und Hybridstämme davon)\n  * 
 Senf und Senferzeugnisse\n  * Konservierungsstoffe\n  * Milcheiweiß (Kuhm
 ilch und Kuhmilcherzeugnisse)\n\nPasta Arabiata:\n- Pasta Arabiata\n  * Gl
 utenhaltuges Getreide (Weizen\, Gerste\, Dinkel\, Roggen\, Hafer\, Kamut u
 nd Hybridstämme davon)\n  * Eier und Eiererzeugnisse\n\nPasta Käsesauce:
 \n- Pasta mit Käsesauce\n  * Milch- und Milcherzeugnisse / Laktose\n  * G
 lutenhaltuges Getreide (Weizen\, Gerste\, Dinkel\, Roggen\, Hafer\, Kamut 
 und Hybridstämme davon)\n  * Sojy und Sojaerzeugnisse\n  * Sellerie und S
 ellerieerzeugnisse\n  * Senf und Senferzeugnisse\n  * Eier und Eiererzeugn
 isse\n  * Konservierungsstoffe\n  * Säuerungsmittel\n  * Milcheiweiß (Ku
 hmilch und Kuhmilcherzeugnisse)\n  * Farbstoffe\n  * Geschmacksverstärker
  (u.a. Natriumglutamat)\n\nSalatteller Hähnchen:\n- frischer Salat mit H
 ähnchen\n\nSalatteller Falaffel:\n- Frischer Salat mit Falafel\n\nSalatte
 ller Weißkäse:\n- Frischer Salat mit gebackenem Weisskäse\n\nGlutenfrei
 :\n- Senfeier\, Reis\n  * Milch- und Milcherzeugnisse / Laktose\n  * Glute
 nhaltuges Getreide (Weizen\, Gerste\, Dinkel\, Roggen\, Hafer\, Kamut und 
 Hybridstämme davon)\n  * Senf und Senferzeugnisse\n  * Konservierungsstof
 fe\n  * Milcheiweiß (Kuhmilch und Kuhmilcherzeugnisse)\n\n
SUMMARY:Heilwig Gymnasium
END:VEVENT
END:VCALENDAR
