BEGIN:VCALENDAR
VERSION:2.0
PRODID:openmensa.org
CALSCALE:GREGORIAN
METHOD:PUBLISH
URL;VALUE=URI:https://openmensa.org/ical/1872/dalheim-schule.ics
BEGIN:VEVENT
DTSTAMP:20260424T021109Z
UID:1671151
DTSTART;VALUE=DATE:20260424
DTEND;VALUE=DATE:20260424
DESCRIPTION:Menü1:\n- Ragout vom Schwein\, Semmelknödel\, Tagesgemüse\, 
 Dessert\n  * Glutenhaltiges Getreide\n  * Eier\n  * Milch (einschließlich
  Laktose)\n\nMenü2:\n- 2 Frischkäse-Kartoffeltaschen\, Gemüsepfanne\, D
 essert\n  * Glutenhaltiges Getreide\n  * Milch (einschließlich Laktose)\n
 \n
SUMMARY:Dalheim-Schule
END:VEVENT
BEGIN:VEVENT
DTSTAMP:20260424T021109Z
UID:1674955
DTSTART;VALUE=DATE:20260427
DTEND;VALUE=DATE:20260427
DESCRIPTION:Menü1:\n- Tagesessen\n\nMenü2:\n- Tagesessen\n\n
SUMMARY:Dalheim-Schule
END:VEVENT
BEGIN:VEVENT
DTSTAMP:20260424T021109Z
UID:1674956
DTSTART;VALUE=DATE:20260428
DTEND;VALUE=DATE:20260428
DESCRIPTION:Menü1:\n- Tagesessen\n\nMenü2:\n- Tagesessen\n\n
SUMMARY:Dalheim-Schule
END:VEVENT
BEGIN:VEVENT
DTSTAMP:20260424T021109Z
UID:1674957
DTSTART;VALUE=DATE:20260429
DTEND;VALUE=DATE:20260429
DESCRIPTION:Menü1:\n- Tagesessen\n\nMenü2:\n- Tagesessen\n\n
SUMMARY:Dalheim-Schule
END:VEVENT
BEGIN:VEVENT
DTSTAMP:20260424T021109Z
UID:1674958
DTSTART;VALUE=DATE:20260430
DTEND;VALUE=DATE:20260430
DESCRIPTION:Menü1:\n- Tagesessen\n\nMenü2:\n- Tagesessen\n\n
SUMMARY:Dalheim-Schule
END:VEVENT
END:VCALENDAR
