BEGIN:VCALENDAR
VERSION:2.0
PRODID:openmensa.org
CALSCALE:GREGORIAN
METHOD:PUBLISH
URL;VALUE=URI:https://openmensa.org/ical/1871/intgrierte-gesamtschule-stade
 .ics
BEGIN:VEVENT
DTSTAMP:20260424T021704Z
UID:1674960
DTSTART;VALUE=DATE:20260427
DTEND;VALUE=DATE:20260427
DESCRIPTION:Menü 1 (vegetarisch):\n- Herzhafte Polenta (Maisgrieß) mit Bl
 umenkohl in weißer Sauce und Käse\, Frisches Obst (Apfel)\n  * Glutenhal
 tiges Getreide und -erzeugnisse\n  * Weizen und Weizenerzeugnisse\n  * Lak
 tose\n  * Eier und -erzeugnisse\n  * Milch und- erzeugnisse\n  * mit Konse
 rvierungsstoff\n  * mit Farbstoff\n  * mit Geschmacksverstärker\n\nMenü 
 2:\n- Brokkoli in Tomaten geschmort\, mit gebratenen Schupfnudeln\, Frisch
 es Obst (Apfel)\n\nMenü 3 (Salatbuffet):\n- Tagesessen\n\nLunchpaket:\n- 
 Tagesessen\n\n
SUMMARY:Intgrierte Gesamtschule Stade
END:VEVENT
BEGIN:VEVENT
DTSTAMP:20260424T021704Z
UID:1674961
DTSTART;VALUE=DATE:20260428
DTEND;VALUE=DATE:20260428
DESCRIPTION:Menü 1 (vegetarisch):\n- Rahmspinat mit Omelette und Salzkarto
 ffeln\, Banane-Kirsch-Joghurt\n\nMenü 2:\n- Eintopf Muschelnudeln mit  bu
 ntem Frühlingsgemüse  (Möhren\, Lauch\, Kohlrabi\, Spargel)  und Hühne
 rfleisch\, Banane-Kirsch-Joghurt\n  * Glutenhaltiges Getreide und -erzeugn
 isse\n  * Weizen und Weizenerzeugnisse\n  * Eier und -erzeugnisse\n  * Sel
 lerie und- erzeugnisse\n  * mit Antioxidationsmittel\n\nMenü 3 (Salatbuff
 et):\n- Tagesessen\n\nLunchpaket:\n- Tagesessen\n\n
SUMMARY:Intgrierte Gesamtschule Stade
END:VEVENT
BEGIN:VEVENT
DTSTAMP:20260424T021704Z
UID:1674962
DTSTART;VALUE=DATE:20260429
DTEND;VALUE=DATE:20260429
DESCRIPTION:Menü 1 (vegetarisch):\n- Konfettisalat (Rotkohl\, Weißkohl\, 
 Möhren & Mais)\, Bio-Vollkorn-Rigatoni (Hartweizennudeln) mit cremiger me
 diterraner Sauce (Kichererbsen\, Möhren\, Paprika\, Lauch\, Tomaten) dazu
  Reibekäse\n  * Senf und-erzeugnisse\n  * Schwefeldioxid und Sulfide in e
 iner Konzentration mehr als 10mg/kg oder 10mg/l\, als SO2 angegeben\n  * g
 eschwefelt\n  * mit Konservierungsstoff\n  * Glutenhaltiges Getreide und -
 erzeugnisse\n  * Weizen und Weizenerzeugnisse\n  * Milch und- erzeugnisse\
 n  * Sellerie und- erzeugnisse\n  * mit Antioxidationsmittel\n\nMenü 2:\n
 - Konfettisalat (Rotkohl\, Weißkohl\, Möhren & Mais)\, Langkornreis mit 
 Petersiliensauce und Geflügelklößchen (Pute/Huhn)\n  * Senf und-erzeugn
 isse\n  * Schwefeldioxid und Sulfide in einer Konzentration mehr als 10mg/
 kg oder 10mg/l\, als SO2 angegeben\n  * geschwefelt\n  * mit Konservierung
 sstoff\n\nMenü 3 (Salatbuffet):\n- Tagesessen\n\nLunchpaket:\n- Tagesesse
 n\n\n
SUMMARY:Intgrierte Gesamtschule Stade
END:VEVENT
BEGIN:VEVENT
DTSTAMP:20260424T021704Z
UID:1674963
DTSTART;VALUE=DATE:20260430
DTEND;VALUE=DATE:20260430
DESCRIPTION:Menü 1 (vegetarisch):\n- Kohlrabi-Kartoffel-Auflauf mit Ei und
  frischer Petersilie und Kräutersauce\, Quarkspeise mit Honig\n  * Laktos
 e\n  * Eier und -erzeugnisse\n  * Milch und- erzeugnisse\n  * Sellerie und
 - erzeugnisse\n  * mit Farbstoff\n\nMenü 2:\n- Fischfrikadelle (Wildlachs
 \, Haferflocken\, Möhrenraspel\, Quark)\, mit Kräutersauce & Kartoffeln\
 , dazu Rohkostsalat\, Quarkspeise mit Honig\n\nMenü 3 (Salatbuffet):\n- T
 agesessen\n\nLunchpaket:\n- Tagesessen\n\n
SUMMARY:Intgrierte Gesamtschule Stade
END:VEVENT
END:VCALENDAR
