BEGIN:VCALENDAR
VERSION:2.0
PRODID:openmensa.org
CALSCALE:GREGORIAN
METHOD:PUBLISH
URL;VALUE=URI:https://openmensa.org/ical/1870/hellenstein-gymnasium.ics
BEGIN:VEVENT
DTSTAMP:20260424T021107Z
UID:1675379
DTSTART;VALUE=DATE:20260427
DTEND;VALUE=DATE:20260427
DESCRIPTION:Tagesessen 1:\n- Cevapcici (Rindfleisch)\, Reis\, Tzaziki\, Sal
 at\n  * Sellerie und Sellerieerzeugnisse\n  * Senf und Senferzeugnisse\n  
 * Soja und Sojaerzeugnisse\n  * Milch und Milcherzeugnisse\n\nTagesessen 2
 :\n- Balkangemüse\, Reis\, Tzaziki\, Salat\n  * Sellerie und Sellerieerze
 ugnisse\n  * Milch und Milcherzeugnisse\n  * Senf und Senferzeugnisse\n\n
SUMMARY:Hellenstein-Gymnasium
END:VEVENT
BEGIN:VEVENT
DTSTAMP:20260424T021107Z
UID:1675380
DTSTART;VALUE=DATE:20260428
DTEND;VALUE=DATE:20260428
DESCRIPTION:Tagesessen 1:\n- HähnchenCordonBleu\, Spätzle\, Soße\, Salat
 \n  * Gluten aus Weizen\n  * Eier und Eierzeugnisse\n  * Milch und Milcher
 zeugnisse\n  * Sellerie und Sellerieerzeugnisse\n  * Senf und Senferzeugni
 sse\n  * Soja und Sojaerzeugnisse\n\nTagesessen 2:\n- Gemüseschnitzel\, S
 pätzle\, Soße\, Salat\n  * Gluten aus Weizen\n  * Eier und Eierzeugnisse
 \n  * Sellerie und Sellerieerzeugnisse\n  * Senf und Senferzeugnisse\n  * 
 Soja und Sojaerzeugnisse\n\n
SUMMARY:Hellenstein-Gymnasium
END:VEVENT
BEGIN:VEVENT
DTSTAMP:20260424T021107Z
UID:1675381
DTSTART;VALUE=DATE:20260429
DTEND;VALUE=DATE:20260429
DESCRIPTION:Tagesessen 1:\n- Rigatoni\, Ratatouille-Tomatensoße\, Salat\n 
  * Gluten aus Weizen\n  * Eier und Eierzeugnisse\n  * Sellerie und Selleri
 eerzeugnisse\n  * Senf und Senferzeugnisse\n\nTagesessen 2:\n- Rigatoni\, 
 Tomatensoße\, Salat\n  * Gluten aus Weizen\n  * Eier und Eierzeugnisse\n 
  * Sellerie und Sellerieerzeugnisse\n  * Senf und Senferzeugnisse\n\n
SUMMARY:Hellenstein-Gymnasium
END:VEVENT
BEGIN:VEVENT
DTSTAMP:20260424T021107Z
UID:1675382
DTSTART;VALUE=DATE:20260430
DTEND;VALUE=DATE:20260430
DESCRIPTION:Tagesessen 1:\n- Rinderhackbraten\, Pellkartoffeln\, Rahmsoße\
 , Salat\n  * Gluten aus Weizen\n  * Eier und Eierzeugnisse\n  * Sellerie u
 nd Sellerieerzeugnisse\n  * Senf und Senferzeugnisse\n  * Milch und Milche
 rzeugnisse\n  * Soja und Sojaerzeugnisse\n\nTagesessen 2:\n- Gemüsefrikad
 ellen\, Pellkartoffeln\, Rahmsoße\, Salat\n  * Gluten aus Weizen\n  * Eie
 r und Eierzeugnisse\n  * Sellerie und Sellerieerzeugnisse\n  * Senf und Se
 nferzeugnisse\n  * Soja und Sojaerzeugnisse\n  * Milch und Milcherzeugniss
 e\n\n
SUMMARY:Hellenstein-Gymnasium
END:VEVENT
END:VCALENDAR
