BEGIN:VCALENDAR
VERSION:2.0
PRODID:openmensa.org
CALSCALE:GREGORIAN
METHOD:PUBLISH
URL;VALUE=URI:https://openmensa.org/ical/1869/geschwister-scholl-stadtteils
 chule.ics
BEGIN:VEVENT
DTSTAMP:20260424T024423Z
UID:1683919
DTSTART;VALUE=DATE:20260424
DTEND;VALUE=DATE:20260424
DESCRIPTION:Gericht I:\n- Backfisch\, Bratkartoffeln\n  * Milch- und Milche
 rzeugnisse / Laktose\n  * Glutenhaltuges Getreide (Weizen\, Gerste\, Dinke
 l\, Roggen\, Hafer\, Kamut und Hybridstämme davon)\n  * Fisch und Fischer
 zeugnisse\n  * Eier und Eiererzeugnisse\n  * Milcheiweiß (Kuhmilch und Ku
 hmilcherzeugnisse)\n\nGlutenfrei:\n- Senfeier\, Reis\n  * Milch- und Milch
 erzeugnisse / Laktose\n  * Glutenhaltuges Getreide (Weizen\, Gerste\, Dink
 el\, Roggen\, Hafer\, Kamut und Hybridstämme davon)\n  * Senf und Senferz
 eugnisse\n  * Konservierungsstoffe\n  * Milcheiweiß (Kuhmilch und Kuhmilc
 herzeugnisse)\n\nGericht II:\n- Senfeier\, Reis\n  * Milch- und Milcherzeu
 gnisse / Laktose\n  * Glutenhaltuges Getreide (Weizen\, Gerste\, Dinkel\, 
 Roggen\, Hafer\, Kamut und Hybridstämme davon)\n  * Senf und Senferzeugni
 sse\n  * Konservierungsstoffe\n  * Milcheiweiß (Kuhmilch und Kuhmilcherze
 ugnisse)\n\nPasta I:\n- Pasta Arabiata\n  * Glutenhaltuges Getreide (Weize
 n\, Gerste\, Dinkel\, Roggen\, Hafer\, Kamut und Hybridstämme davon)\n  *
  Eier und Eiererzeugnisse\n\nPasta II:\n- Pasta mit Käsesauce\n  * Milch-
  und Milcherzeugnisse / Laktose\n  * Glutenhaltuges Getreide (Weizen\, Ger
 ste\, Dinkel\, Roggen\, Hafer\, Kamut und Hybridstämme davon)\n  * Sojy u
 nd Sojaerzeugnisse\n  * Sellerie und Sellerieerzeugnisse\n  * Senf und Sen
 ferzeugnisse\n  * Eier und Eiererzeugnisse\n  * Konservierungsstoffe\n  * 
 Säuerungsmittel\n  * Milcheiweiß (Kuhmilch und Kuhmilcherzeugnisse)\n  *
  Farbstoffe\n  * Geschmacksverstärker (u.a. Natriumglutamat)\n\nSalatbuff
 et:\n- Salatbuffet\n\n
SUMMARY:Geschwister-Scholl-Stadtteilschule
END:VEVENT
END:VCALENDAR
