BEGIN:VCALENDAR
VERSION:2.0
PRODID:openmensa.org
CALSCALE:GREGORIAN
METHOD:PUBLISH
URL;VALUE=URI:https://openmensa.org/ical/1868/silcherschule-mergelstetten.i
 cs
BEGIN:VEVENT
DTSTAMP:20260424T021827Z
UID:1675308
DTSTART;VALUE=DATE:20260424
DTEND;VALUE=DATE:20260424
DESCRIPTION:Suppe:\n- Spinatcremesuppe\n  * Glutenhaltiges Getreide\n  * Mi
 lch\n  * Sellerie\n  * Senf\n\nHauptgericht:\n- Rindfleisch-Linsen-Gemüse
 küchle mit Bratensoße\, Bio-Kartoffelstampf\, grüne Bohnen\n  * Glutenh
 altiges Getreide\n  * Eier\n  * Milch\n  * Sellerie\n  * Senf\n\nVegetaris
 ch:\n- Spätzle mit vegetarischer Gemüse-Rahmsoße\, Karottensalat\n  * G
 lutenhaltiges Getreide\n  * Eier\n  * Milch\n  * Sellerie\n  * Senf\n\nDes
 sert:\n- Vanillepudding\n  * Milch\n\n
SUMMARY:Silcherschule Mergelstetten
END:VEVENT
END:VCALENDAR
