BEGIN:VCALENDAR
VERSION:2.0
PRODID:openmensa.org
CALSCALE:GREGORIAN
METHOD:PUBLISH
URL;VALUE=URI:https://openmensa.org/ical/1865/joseph-christian-gemeinschaft
 sschule.ics
BEGIN:VEVENT
DTSTAMP:20260424T023201Z
UID:1679709
DTSTART;VALUE=DATE:20260427
DTEND;VALUE=DATE:20260427
DESCRIPTION:Menü 1:\n- Maultaschen Röstzwiebelsoße Kartoffelsalat mit Bi
 o-Kartoffeln Salat\, Karamellpudding\n\nMenü 2:\n- Alblinsen Spätzle Gef
 lügelsaiten\, Karamellpudding\n\nSchneller Teller:\n- Bio-Rigatoni\, Toma
 tensoße\n\n
SUMMARY:Joseph-Christian-Gemeinschaftsschule
END:VEVENT
BEGIN:VEVENT
DTSTAMP:20260424T023201Z
UID:1679710
DTSTART;VALUE=DATE:20260428
DTEND;VALUE=DATE:20260428
DESCRIPTION:Menü 1:\n- Kein Menü\n\nMenü 2:\n- Chicken Wings\, Bratenso
 ße\, Bio-Salzkartoffeln\, Salat\, Pfirsich-Maracujajoghurt\n  * Milch/Lac
 tose\n  * Farbstoffe\n  * mit einer Zuckerart oder Süßungsmitteln\n\nMen
 ü 3:\n- Pfannkuchen Apfelmark\, Pfirsich-Maracujajoghurt\n  * Weizen\n  *
  Eier\n  * Milch/Lactose\n  * mit einer Zuckerart oder Süßungsmitteln\n 
  * Farbstoffe\n\nSchneller Teller:\n- Bio-Rigatoni\, Tomatensoße\n\n
SUMMARY:Joseph-Christian-Gemeinschaftsschule
END:VEVENT
BEGIN:VEVENT
DTSTAMP:20260424T023201Z
UID:1679711
DTSTART;VALUE=DATE:20260429
DTEND;VALUE=DATE:20260429
DESCRIPTION:Menü 2:\n- Rinderhacksteak Bio-Reis Ratatouillegemüse\, Birne
 \n\nMenü 3:\n- Zucchini gefüllt Tomatensoße Bio-Reis Salat\, Birne\n\nS
 chneller Teller:\n- Bio-Rigatoni\, Tomatensoße\n\n
SUMMARY:Joseph-Christian-Gemeinschaftsschule
END:VEVENT
BEGIN:VEVENT
DTSTAMP:20260424T023201Z
UID:1679712
DTSTART;VALUE=DATE:20260430
DTEND;VALUE=DATE:20260430
DESCRIPTION:Menü 1:\n- Fischstäbchen Kartoffelpüree Gemüse\, Vanillepud
 ding\n  * Milch/Lactose\n  * mit einer Zuckerart oder Süßungsmitteln\n\n
 Menü 3:\n- Krautschupfnudeln Salat\, Vanillepudding\n  * Milch/Lactose\n 
  * mit einer Zuckerart oder Süßungsmitteln\n\nSchneller Teller:\n- Bio-R
 igatoni\, Tomatensoße\n\n
SUMMARY:Joseph-Christian-Gemeinschaftsschule
END:VEVENT
END:VCALENDAR
