BEGIN:VCALENDAR
VERSION:2.0
PRODID:openmensa.org
CALSCALE:GREGORIAN
METHOD:PUBLISH
URL;VALUE=URI:https://openmensa.org/ical/1864/valckenburgschule.ics
BEGIN:VEVENT
DTSTAMP:20260424T022828Z
UID:1683501
DTSTART;VALUE=DATE:20260427
DTEND;VALUE=DATE:20260427
DESCRIPTION:Frischer Salatteller Fleisch:\n- Frischer Salatteller  - Fleisc
 h ( G / R )\n\n
SUMMARY:Valckenburgschule
END:VEVENT
BEGIN:VEVENT
DTSTAMP:20260424T022828Z
UID:1683502
DTSTART;VALUE=DATE:20260428
DTEND;VALUE=DATE:20260428
DESCRIPTION:Frischer Salatteller Fleisch:\n- Frischer Salatteller  - Fleisc
 h ( G / R )\n\n
SUMMARY:Valckenburgschule
END:VEVENT
BEGIN:VEVENT
DTSTAMP:20260424T022828Z
UID:1683503
DTSTART;VALUE=DATE:20260429
DTEND;VALUE=DATE:20260429
DESCRIPTION:Frischer Salatteller Fleisch:\n- Frischer Salatteller  - Fleisc
 h ( G / R )\n\n
SUMMARY:Valckenburgschule
END:VEVENT
BEGIN:VEVENT
DTSTAMP:20260424T022828Z
UID:1683504
DTSTART;VALUE=DATE:20260430
DTEND;VALUE=DATE:20260430
DESCRIPTION:Frischer Salatteller Fleisch:\n- Frischer Salatteller  - Fleisc
 h ( G / R )\n\n
SUMMARY:Valckenburgschule
END:VEVENT
END:VCALENDAR
