BEGIN:VCALENDAR
VERSION:2.0
PRODID:openmensa.org
CALSCALE:GREGORIAN
METHOD:PUBLISH
URL;VALUE=URI:https://openmensa.org/ical/1863/mensa-im-schulzentrum.ics
BEGIN:VEVENT
DTSTAMP:20260424T021752Z
UID:1683514
DTSTART;VALUE=DATE:20260427
DTEND;VALUE=DATE:20260427
DESCRIPTION:Vollkost:\n- KG  11 kocht:\, Currywurst mit Kartoffelecken und 
 Currywurstsoße\, Eisbergsalat\, Himbeerjoghurt\n  * Milch (einschließlic
 h Laktose)\n  * Rindfleisch\n  * Schweinefleisch\n  * Sellerie\n  * Senf\n
   * Soja\n  * mit Konservierungsstoff\n  * mit Farbstoff\n  * mit Antioxid
 ationsmittel\n  * koffeinhaltig\n  * mit Phosphat\n  * Honig\n  * Gelatine
  aus Rinderknochen\n\nVegetarisch:\n- Gemüsekrusties mit Kartoffelecken u
 nd Currywurstsauce\, Eisbergsalat\, Himbeerjoghurt\n  * Eier\n  * Glutenha
 ltiges Getreide\n  * Milch (einschließlich Laktose)\n  * Sellerie\n  * So
 ja\n  * mit Konservierungsstoff\n  * mit Farbstoff\n  * mit Antioxidations
 mittel\n  * koffeinhaltig\n  * mit Phosphat\n  * Honig\n  * Senf\n  * Gela
 tine aus Rinderknochen\n\n
SUMMARY:Mensa im Schulzentrum
END:VEVENT
BEGIN:VEVENT
DTSTAMP:20260424T021752Z
UID:1683515
DTSTART;VALUE=DATE:20260428
DTEND;VALUE=DATE:20260428
DESCRIPTION:Vollkost:\n- KG 19 kocht:\, Rahmspinat mit Salzkartoffeln und R
 ührei\, Blumenerde\n  * Eier\n  * Glutenhaltiges Getreide\n  * Milch (ein
 schließlich Laktose)\n  * Sellerie\n  * Soja\n\nVegetarisch:\n- Rahmspina
 t mit Salzkartoffeln und Rührei\, Blumenerde\n  * Eier\n  * Glutenhaltige
 s Getreide\n  * Milch (einschließlich Laktose)\n  * Sellerie\n  * Soja\n\
 n
SUMMARY:Mensa im Schulzentrum
END:VEVENT
BEGIN:VEVENT
DTSTAMP:20260424T021752Z
UID:1683516
DTSTART;VALUE=DATE:20260429
DTEND;VALUE=DATE:20260429
DESCRIPTION:Vollkost:\n- KG 26 kocht:\, Thai Curry mit roten Linsen und Sü
 ßkartoffeln\, Reis\, Käsekuchen\n  * Sellerie\n  * Soja\n  * Eier\n  * G
 lutenhaltiges Getreide\n  * Mandeln\n  * Milch (einschließlich Laktose)\n
 \nVegetarisch:\n- Thai Curry mit roten Linsen und Süßkartoffeln\, Reis\,
  Käsekuchen\n  * Sellerie\n  * Soja\n  * Eier\n  * Glutenhaltiges Getreid
 e\n  * Mandeln\n  * Milch (einschließlich Laktose)\n\n
SUMMARY:Mensa im Schulzentrum
END:VEVENT
BEGIN:VEVENT
DTSTAMP:20260424T021752Z
UID:1683517
DTSTART;VALUE=DATE:20260430
DTEND;VALUE=DATE:20260430
DESCRIPTION:Vollkost:\n- Nudel-Gemüse-Auflauf\, Bananenjoghurt\n  * Eier\n
   * Milch (einschließlich Laktose)\n  * Sellerie\n  * Soja\n  * Gelatine 
 aus Rinderknochen\n  * Schalenfrüchte (Nüsse)\n\nVegetarisch:\n- Nudel-G
 emüse-Auflauf\, Bananenjoghurt\n  * Eier\n  * Milch (einschließlich Lakt
 ose)\n  * Sellerie\n  * Soja\n  * Gelatine aus Rinderknochen\n  * Schalenf
 rüchte (Nüsse)\n\n
SUMMARY:Mensa im Schulzentrum
END:VEVENT
END:VCALENDAR
