BEGIN:VCALENDAR
VERSION:2.0
PRODID:openmensa.org
CALSCALE:GREGORIAN
METHOD:PUBLISH
URL;VALUE=URI:https://openmensa.org/ical/1859/schule-am-botanischen-garten.
 ics
BEGIN:VEVENT
DTSTAMP:20260424T021750Z
UID:1683839
DTSTART;VALUE=DATE:20260427
DTEND;VALUE=DATE:20260427
DESCRIPTION:Menü 1:\n- -Gabelspaghetti mit Gemüse-Käse-Schinken Soße un
 d Obst\n  * Pute\n  * Gluten (Klebereiweiß)\n  * Laktose\n  * Sellerie\n\
 nMenü 2 (vegetarisch):\n- -Zimtnudeln mit Pflaumenkompott (extra viel)\n 
  * Gluten (Klebereiweiß)\n\n
SUMMARY:Schule am Botanischen Garten
END:VEVENT
BEGIN:VEVENT
DTSTAMP:20260424T021750Z
UID:1683840
DTSTART;VALUE=DATE:20260428
DTEND;VALUE=DATE:20260428
DESCRIPTION:Menü 1:\n- -Gegrillter Seelachs auf Ratatouillegemüse\, Karto
 ffeln und Obst\n  * Gluten (Klebereiweiß)\n  * Fisch\n  * Sellerie\n\nMen
 ü 2 (vegetarisch):\n- -Knusprige Polentaecke\, Ratatouillegemüse und Kar
 toffeln\, Obst\n  * Gluten (Klebereiweiß)\n  * Laktose\n  * Sellerie\n\n
SUMMARY:Schule am Botanischen Garten
END:VEVENT
BEGIN:VEVENT
DTSTAMP:20260424T021750Z
UID:1683841
DTSTART;VALUE=DATE:20260429
DTEND;VALUE=DATE:20260429
DESCRIPTION:Menü 1:\n- Kartoffeln mit Erbsen-Möhrengemüse\, Dessert\n\nM
 enü 2 (vegetarisch):\n- -Spätzle-Brokkoliauflauf in milde Currysoße\, D
 essert\n  * Gluten (Klebereiweiß)\n  * Laktose\n  * Sellerie\n\n
SUMMARY:Schule am Botanischen Garten
END:VEVENT
BEGIN:VEVENT
DTSTAMP:20260424T021750Z
UID:1683842
DTSTART;VALUE=DATE:20260430
DTEND;VALUE=DATE:20260430
DESCRIPTION:Menü 1:\n- -Zucchini-Hackfleischtopf mit Reis\, Obst\n  * Rind
 \n  * Gluten (Klebereiweiß)\n  * Sellerie\n\nMenü 2 (vegetarisch):\n- -G
 rünkernbolognese\, Nudeln\, Obst\n  * Gluten (Klebereiweiß)\n  * Selleri
 e\n\n
SUMMARY:Schule am Botanischen Garten
END:VEVENT
END:VCALENDAR
