BEGIN:VCALENDAR
VERSION:2.0
PRODID:openmensa.org
CALSCALE:GREGORIAN
METHOD:PUBLISH
URL;VALUE=URI:https://openmensa.org/ical/1858/richtsberg-gesamtschule.ics
BEGIN:VEVENT
DTSTAMP:20260424T014540Z
UID:1679665
DTSTART;VALUE=DATE:20260424
DTEND;VALUE=DATE:20260424
DESCRIPTION:Menü 1:\n- Dönerbox\, Pommes\, Obst\n\nMenü 2:\n- Dönerbox 
 vegetarisch\, Pommes\, Obst\n\nSalat:\n- Tagesessen\n\nMenü Glutenfrei (a
 rm):\n- Tagesessen\n\n
SUMMARY:Richtsberg-Gesamtschule
END:VEVENT
BEGIN:VEVENT
DTSTAMP:20260424T014540Z
UID:1683509
DTSTART;VALUE=DATE:20260427
DTEND;VALUE=DATE:20260427
DESCRIPTION:Menü 1:\n- Blattsalat mit Vinaigrette\, Fusilli\, Tomaten-Käs
 e-Soße\, Obst\n  * Senf\n  * Glutenhaltiges Getreide\n  * Milch (einschli
 eßlich Laktose)\n  * Sellerie\n\nMenü 2:\n- Blattsalat mit Vinaigrette\,
  Käsemakkaroni\, Obst\n  * Senf\n  * Weizen\n  * Milch (einschließlich L
 aktose)\n\nSalat:\n- Tagesessen\n\nMenü Glutenfrei (arm):\n- Tagesessen\n
 \n
SUMMARY:Richtsberg-Gesamtschule
END:VEVENT
BEGIN:VEVENT
DTSTAMP:20260424T014540Z
UID:1683510
DTSTART;VALUE=DATE:20260428
DTEND;VALUE=DATE:20260428
DESCRIPTION:Menü 1:\n- Gyros (Geflügel)\, Reis\, Kräuterdip\, Krautsalat
 \, Fruchtquark (Bio Joghurt\,Quark und Milch)\n  * Milch (einschließlich 
 Laktose)\n  * mit Farbstoff\n\nMenü 2:\n- Veganes Gyros\, Reis\, Kräuter
 dip\, Krautsalat\, Fruchtquark (Bio Joghurt\,Quark und Milch)\n  * Milch (
 einschließlich Laktose)\n  * mit Farbstoff\n\nSalat:\n- Tagesessen\n\nMen
 ü Glutenfrei (arm):\n- Tagesessen\n\n
SUMMARY:Richtsberg-Gesamtschule
END:VEVENT
BEGIN:VEVENT
DTSTAMP:20260424T014540Z
UID:1683511
DTSTART;VALUE=DATE:20260429
DTEND;VALUE=DATE:20260429
DESCRIPTION:Menü 1:\n- Saisonale Cremesuppe\, Milchreis mit Bio-Milch\, Zu
 cker und Zimt\, Obst\n  * Milch (einschließlich Laktose)\n  * Sellerie\n 
  * Senf\n  * Soja\n\nMenü 2:\n- Gnocchi\, Tomatensoße\, Obst\n  * Eier\n
   * Glutenhaltiges Getreide\n  * Weizen\n  * Sellerie\n  * mit Säuerungsm
 ittel\n  * mit Süßungsmittel\n\nSalat:\n- Tagesessen\n\nMenü Glutenfrei
  (arm):\n- Tagesessen\n\n
SUMMARY:Richtsberg-Gesamtschule
END:VEVENT
BEGIN:VEVENT
DTSTAMP:20260424T014540Z
UID:1683512
DTSTART;VALUE=DATE:20260430
DTEND;VALUE=DATE:20260430
DESCRIPTION:Menü 1:\n- Seelachs\, Senfsoße\, Kaisergemüse\, Kartoffeln\,
  Fruchtquark (Bio Joghurt\,Quark und Milch)\n  * Fisch\n  * Glutenhaltiges
  Getreide\n  * Milch (einschließlich Laktose)\n  * Senf\n  * Eier\n  * Se
 llerie\n  * Soja\n  * mit Farbstoff\n\nMenü 2:\n- Kartoffel-Möhren-Aufla
 uf\, Fruchtquark (Bio Joghurt\,Quark und Milch)\n  * Milch (einschließlic
 h Laktose)\n  * mit Farbstoff\n\nSalat:\n- Tagesessen\n\nMenü Glutenfrei 
 (arm):\n- Tagesessen\n\n
SUMMARY:Richtsberg-Gesamtschule
END:VEVENT
END:VCALENDAR
